BEGIN:VCALENDAR
VERSION:2.0
PRODID:icalendar-ruby
CALSCALE:GREGORIAN
BEGIN:VTIMEZONE
TZID:America/Chicago
BEGIN:DAYLIGHT
DTSTART:20260308T030000
TZOFFSETFROM:-0600
TZOFFSETTO:-0500
RRULE:FREQ=YEARLY;BYDAY=2SU;BYMONTH=3
TZNAME:CDT
END:DAYLIGHT
BEGIN:STANDARD
DTSTART:20261101T010000
TZOFFSETFROM:-0500
TZOFFSETTO:-0600
RRULE:FREQ=YEARLY;BYDAY=1SU;BYMONTH=11
TZNAME:CST
END:STANDARD
END:VTIMEZONE
BEGIN:VEVENT
DTSTAMP:20260422T085729Z
UID:e6a9a1ff-e467-4c4b-bc29-0b1e1c5007f2
DTSTART;VALUE=DATE:20260422
DTEND;VALUE=DATE:20260423
DESCRIPTION:
LOCATION:
SUMMARY:SLHS Band Concert
END:VEVENT
BEGIN:VEVENT
DTSTAMP:20260422T085729Z
UID:75432d2e-b101-4696-8397-dacc0a071eaa
DTSTART;VALUE=DATE:20260423
DTEND;VALUE=DATE:20260424
DESCRIPTION:
LOCATION:
SUMMARY:LCOMS Band Concert
END:VEVENT
BEGIN:VEVENT
DTSTAMP:20260422T085729Z
UID:60080330-d3ef-449e-b933-96e11b4aab0a
DTSTART:20260426T140000
DTEND:20260426T170000
DESCRIPTION:in Auditorium
LOCATION:
SUMMARY:NHS Induction
END:VEVENT
BEGIN:VEVENT
DTSTAMP:20260422T085729Z
UID:0ad0f102-9e31-4564-b850-ec87f6321569
DTSTART;VALUE=DATE:20260427
DTEND;VALUE=DATE:20260428
DESCRIPTION:April 27-May 11
LOCATION:
SUMMARY:GKTW Snack Sale
END:VEVENT
BEGIN:VEVENT
DTSTAMP:20260422T085729Z
UID:83b1d86e-79ba-47a7-9048-dc7b4861e730
DTSTART;VALUE=DATE:20260428
DTEND;VALUE=DATE:20260429
DESCRIPTION:
LOCATION:
SUMMARY:Kona Ice
END:VEVENT
BEGIN:VEVENT
DTSTAMP:20260422T085729Z
UID:92a62e0d-2be4-4035-8eb9-f1e8fa30bdeb
DTSTART;VALUE=DATE:20260501
DTEND;VALUE=DATE:20260502
DESCRIPTION:both lunches
LOCATION:
SUMMARY:Icy-Licious
END:VEVENT
BEGIN:VEVENT
DTSTAMP:20260422T085729Z
UID:ec87382f-1b22-402c-8eb7-51454fe8d065
DTSTART;VALUE=DATE:20260502
DTEND;VALUE=DATE:20260503
DESCRIPTION:
LOCATION:
SUMMARY:Prom
END:VEVENT
BEGIN:VEVENT
DTSTAMP:20260422T085729Z
UID:e87ec83e-7461-4505-ab5e-bd249b5548ce
DTSTART;VALUE=DATE:20260505
DTEND;VALUE=DATE:20260506
DESCRIPTION:
LOCATION:
SUMMARY:Kona Ice
END:VEVENT
BEGIN:VEVENT
DTSTAMP:20260422T085729Z
UID:36fb0ade-1a05-4f0c-b616-201d10270bbe
DTSTART;VALUE=DATE:20260506
DTEND;VALUE=DATE:20260507
DESCRIPTION:Commons 2:30pm
LOCATION:
SUMMARY:Summer Recreation Meeting
END:VEVENT
BEGIN:VEVENT
DTSTAMP:20260422T085729Z
UID:5312e9b9-630d-4217-872d-51c386f2ed50
DTSTART;VALUE=DATE:20260507
DTEND;VALUE=DATE:20260508
DESCRIPTION:
LOCATION:
SUMMARY:Seniors' Last Day
END:VEVENT
BEGIN:VEVENT
DTSTAMP:20260422T085729Z
UID:c7dd156f-0c85-432e-a96f-2edd9cf134ff
DTSTART;VALUE=DATE:20260514
DTEND;VALUE=DATE:20260515
DESCRIPTION:
LOCATION:
SUMMARY:GMMS Band Concert
END:VEVENT
BEGIN:VEVENT
DTSTAMP:20260422T085729Z
UID:70f460b0-f114-49b4-907d-f5dcbeca2fff
DTSTART;VALUE=DATE:20260518
DTEND;VALUE=DATE:20260519
DESCRIPTION:
LOCATION:
SUMMARY:Choir Concert
END:VEVENT
BEGIN:VEVENT
DTSTAMP:20260422T085729Z
UID:bab244c9-08db-413b-9414-458c174a7bc2
DTSTART;VALUE=DATE:20260521
DTEND;VALUE=DATE:20260522
DESCRIPTION:
LOCATION:
SUMMARY:End of Marking Period
END:VEVENT
BEGIN:VEVENT
DTSTAMP:20260422T085729Z
UID:55f3c3bb-3822-4af9-8492-b5712030d597
DTSTART;VALUE=DATE:20260522
DTEND;VALUE=DATE:20260523
DESCRIPTION:
LOCATION:
SUMMARY:Teacher records day
END:VEVENT
BEGIN:VEVENT
DTSTAMP:20260422T085729Z
UID:30654a87-91c8-4398-b5bc-ce7e60c21166
DTSTART;VALUE=DATE:20260624
DTEND;VALUE=DATE:20260626
DESCRIPTION:
LOCATION:
SUMMARY:Volleyball Kiddie Camp
END:VEVENT
BEGIN:VEVENT
DTSTAMP:20260422T085729Z
UID:1d638c2a-ae54-4198-b5bb-315acb7da9af
DTSTART;VALUE=DATE:20260626
DTEND;VALUE=DATE:20260628
DESCRIPTION:All Day-BOTH gyms
LOCATION:
SUMMARY:Volleyball Alumni Tournament
END:VEVENT
END:VCALENDAR
