BEGIN:VCALENDAR
VERSION:2.0
PRODID:icalendar-ruby
CALSCALE:GREGORIAN
BEGIN:VTIMEZONE
TZID:America/Chicago
BEGIN:DAYLIGHT
DTSTART:20260308T030000
TZOFFSETFROM:-0600
TZOFFSETTO:-0500
RRULE:FREQ=YEARLY;BYDAY=2SU;BYMONTH=3
TZNAME:CDT
END:DAYLIGHT
BEGIN:STANDARD
DTSTART:20261101T010000
TZOFFSETFROM:-0500
TZOFFSETTO:-0600
RRULE:FREQ=YEARLY;BYDAY=1SU;BYMONTH=11
TZNAME:CST
END:STANDARD
END:VTIMEZONE
BEGIN:VEVENT
DTSTAMP:20260423T083648Z
UID:59dbe3f4-2e8e-4b87-bde2-4d274d8fd5c0
DTSTART;VALUE=DATE:20260420
DTEND;VALUE=DATE:20260425
DESCRIPTION:
LOCATION:
SUMMARY:Student Council Week
END:VEVENT
BEGIN:VEVENT
DTSTAMP:20260423T083648Z
UID:972fca0d-9c34-4dcb-a7ab-c2e319b8cbda
DTSTART;VALUE=DATE:20260423
DTEND;VALUE=DATE:20260424
DESCRIPTION:Hosted by: BETA ClubEnter Trojan Buck to win
LOCATION:
SUMMARY:PBIS Spring Raffle
END:VEVENT
BEGIN:VEVENT
DTSTAMP:20260423T083648Z
UID:35764691-7326-4da3-ab27-a84cbc3660a6
DTSTART:20260425T150000
DTEND:20260425T220000
DESCRIPTION:
LOCATION:Raceland\, LA 70394\, USA
SUMMARY:TAA crawfish cookoff
END:VEVENT
BEGIN:VEVENT
DTSTAMP:20260423T083648Z
UID:5b5b9552-b0eb-4ee9-a5de-cb0937c4cc67
DTSTART;VALUE=DATE:20260427
DTEND;VALUE=DATE:20260428
DESCRIPTION:
LOCATION:
SUMMARY:JROTC Volleyball Concession
END:VEVENT
BEGIN:VEVENT
DTSTAMP:20260423T083648Z
UID:cddd0979-70f1-4c34-a191-cf4f48f1e91c
DTSTART;VALUE=DATE:20260427
DTEND;VALUE=DATE:20260428
DESCRIPTION:
LOCATION:
SUMMARY:Ray and Laura in the Library
END:VEVENT
BEGIN:VEVENT
DTSTAMP:20260423T083648Z
UID:d49464ac-8e77-4871-9430-1f8fd68fc3ab
DTSTART:20260427T180000
DTEND:20260427T190000
DESCRIPTION:
LOCATION:
SUMMARY:Band Meeting (Auditorium)
END:VEVENT
BEGIN:VEVENT
DTSTAMP:20260423T083648Z
UID:c96e774e-a67f-4934-a248-f43f5efb3c03
DTSTART:20260428T180000
DTEND:20260428T190000
DESCRIPTION:
LOCATION:
SUMMARY:NHS Induction
END:VEVENT
BEGIN:VEVENT
DTSTAMP:20260423T083648Z
UID:ca64874a-a089-4a18-9317-1aff58e08e04
DTSTART;VALUE=DATE:20260429
DTEND;VALUE=DATE:20260430
DESCRIPTION:
LOCATION:
SUMMARY:JROTC Volleyball Concession
END:VEVENT
BEGIN:VEVENT
DTSTAMP:20260423T083648Z
UID:7a114386-fc0b-4618-bb4b-d28e82989758
DTSTART;VALUE=DATE:20260429
DTEND;VALUE=DATE:20260430
DESCRIPTION:
LOCATION:Hahnville High School\, 200 Tiger Dr\, Boutte\, LA 70039\, USA
SUMMARY:Regional Track Meet @ Hahn
END:VEVENT
BEGIN:VEVENT
DTSTAMP:20260423T083648Z
UID:e33a2bd8-e6a0-41c1-a5cc-3ddebcaa6e36
DTSTART:20260429T180000
DTEND:20260429T190000
DESCRIPTION:
LOCATION:
SUMMARY:JROTC Awards
END:VEVENT
BEGIN:VEVENT
DTSTAMP:20260423T083648Z
UID:1161b013-71b7-44b0-80ba-8e6ed9db2347
DTSTART:20260430T180000
DTEND:20260430T190000
DESCRIPTION:
LOCATION:
SUMMARY:Beta Induction (Auditorium)
END:VEVENT
BEGIN:VEVENT
DTSTAMP:20260423T083648Z
UID:8df6ca86-5ba3-4b3d-aa89-93f2c2647e47
DTSTART:20260502T200000
DTEND:20260502T223000
DESCRIPTION:
LOCATION:
SUMMARY:Prom
END:VEVENT
BEGIN:VEVENT
DTSTAMP:20260423T083648Z
UID:4ecd1068-f6e8-40e7-82c6-9c237f168cc3
DTSTART;VALUE=DATE:20260504
DTEND;VALUE=DATE:20260505
DESCRIPTION:
LOCATION:
SUMMARY:JROTC Volleyball Concession
END:VEVENT
BEGIN:VEVENT
DTSTAMP:20260423T083648Z
UID:230e3ccc-1b2f-45b8-854e-08594a4577f4
DTSTART:20260504T143000
DTEND:20260504T151500
DESCRIPTION:
LOCATION:
SUMMARY:Student Council Meeting (Library)
END:VEVENT
BEGIN:VEVENT
DTSTAMP:20260423T083648Z
UID:a9253dd5-4e10-4c32-9161-363cde862510
DTSTART;VALUE=DATE:20260505
DTEND;VALUE=DATE:20260506
DESCRIPTION:Observance\nTo hide observances\, go to Google Calendar Setting
 s > Holidays in United States
LOCATION:
SUMMARY:Cinco de Mayo
END:VEVENT
BEGIN:VEVENT
DTSTAMP:20260423T083648Z
UID:4ff1a381-2081-4478-9f8a-07d0ae779abc
DTSTART:20260505T183000
DTEND:20260505T193000
DESCRIPTION:
LOCATION:
SUMMARY:JROTC Booster Meeting
END:VEVENT
BEGIN:VEVENT
DTSTAMP:20260423T083648Z
UID:a96c0c46-2d8c-4d12-a2f0-8f1494532cd4
DTSTART;VALUE=DATE:20260506
DTEND;VALUE=DATE:20260507
DESCRIPTION:
LOCATION:
SUMMARY:JROTC Volleyball Concession
END:VEVENT
BEGIN:VEVENT
DTSTAMP:20260423T083648Z
UID:687b78b3-b0a3-4ef6-ad56-849fc54cfa88
DTSTART:20260506T180000
DTEND:20260506T190000
DESCRIPTION:
LOCATION:
SUMMARY:Senior Awards
END:VEVENT
BEGIN:VEVENT
DTSTAMP:20260423T083648Z
UID:c829cf29-e033-4087-a96a-01dcd5fdadc4
DTSTART;VALUE=DATE:20260507
DTEND;VALUE=DATE:20260508
DESCRIPTION:
LOCATION:
SUMMARY:Seniors Last Day
END:VEVENT
BEGIN:VEVENT
DTSTAMP:20260423T083648Z
UID:fa8ad257-85a2-4be7-833d-0649a17922f3
DTSTART:20260507T183000
DTEND:20260507T203000
DESCRIPTION:
LOCATION:
SUMMARY:CLHS Band Spring Concert (Auditorium)
END:VEVENT
BEGIN:VEVENT
DTSTAMP:20260423T083648Z
UID:a5b81847-745a-4d60-a8aa-282d312379d2
DTSTART:20260508T180000
DTEND:20260508T210000
DESCRIPTION:
LOCATION:
SUMMARY:FFA Banquet
END:VEVENT
BEGIN:VEVENT
DTSTAMP:20260423T083648Z
UID:ee1df203-cfec-4f20-8cd5-1d606de5601e
DTSTART;VALUE=DATE:20260509
DTEND;VALUE=DATE:20260510
DESCRIPTION:
LOCATION:Tiger Stadium\, Baton Rouge\, LA 70803\, USA
SUMMARY:State Track Meet
END:VEVENT
BEGIN:VEVENT
DTSTAMP:20260423T083648Z
UID:606f221e-d2a3-4a4e-933a-7b77968a0498
DTSTART;VALUE=DATE:20260510
DTEND;VALUE=DATE:20260511
DESCRIPTION:Observance\nTo hide observances\, go to Google Calendar Setting
 s > Holidays in United States
LOCATION:
SUMMARY:Mother's Day
END:VEVENT
BEGIN:VEVENT
DTSTAMP:20260423T083648Z
UID:cf782cdb-6a1c-4a1b-a9ee-d9d3ea5532fb
DTSTART;VALUE=DATE:20260511
DTEND;VALUE=DATE:20260512
DESCRIPTION:
LOCATION:
SUMMARY:JROTC Volleyball Concession
END:VEVENT
BEGIN:VEVENT
DTSTAMP:20260423T083648Z
UID:2f763a89-839d-4394-a29f-97bc381d573e
DTSTART:20260512T170000
DTEND:20260512T200000
DESCRIPTION:
LOCATION:Central Lafourche High School\, 4820 LA-1\, Raceland\, LA 70394\, 
 USA
SUMMARY:Physicals 
END:VEVENT
BEGIN:VEVENT
DTSTAMP:20260423T083648Z
UID:a25c698e-8222-4eab-9fb4-8b0c44b63ef3
DTSTART;VALUE=DATE:20260513
DTEND;VALUE=DATE:20260514
DESCRIPTION:
LOCATION:
SUMMARY:Graduation Practice in Gym
END:VEVENT
BEGIN:VEVENT
DTSTAMP:20260423T083648Z
UID:28a3fde9-3625-459e-84a7-34454ab1da6c
DTSTART;VALUE=DATE:20260513
DTEND;VALUE=DATE:20260514
DESCRIPTION:
LOCATION:
SUMMARY:JROTC Volleyball Concession
END:VEVENT
BEGIN:VEVENT
DTSTAMP:20260423T083648Z
UID:277befc8-ac07-4dfc-9a6e-6a9b49f25b55
DTSTART:20260513T180000
DTEND:20260513T190000
DESCRIPTION:
LOCATION:
SUMMARY:Senior Mass @St. Hilary
END:VEVENT
BEGIN:VEVENT
DTSTAMP:20260423T083648Z
UID:ad788dde-89d1-4db5-b6df-f4e8b329b5fa
DTSTART;VALUE=DATE:20260514
DTEND;VALUE=DATE:20260515
DESCRIPTION:Hosted by: Band/MusicStudents listen to music during A and B Lu
 nches
LOCATION:
SUMMARY:PBIS Celebrates Music
END:VEVENT
BEGIN:VEVENT
DTSTAMP:20260423T083648Z
UID:d031ca99-bccf-409f-923a-aeed73b5cf5d
DTSTART:20260514T143000
DTEND:20260514T153000
DESCRIPTION:
LOCATION:
SUMMARY:Beta Meeting
END:VEVENT
BEGIN:VEVENT
DTSTAMP:20260423T083648Z
UID:c0b8932b-e30f-42e1-89f7-344865b245fa
DTSTART;VALUE=DATE:20260515
DTEND;VALUE=DATE:20260516
DESCRIPTION:Check the FB page for dress down criteria
LOCATION:
SUMMARY:PBIS Dress Down Day $1
END:VEVENT
BEGIN:VEVENT
DTSTAMP:20260423T083648Z
UID:7b629d69-be55-4696-b0cb-d310534d000f
DTSTART;VALUE=DATE:20260515
DTEND;VALUE=DATE:20260516
DESCRIPTION:Hosted by: Administration2 Trojan Bucks
LOCATION:
SUMMARY:PBIS Sonic Slushies
END:VEVENT
BEGIN:VEVENT
DTSTAMP:20260423T083648Z
UID:615a5df6-3b68-4256-805c-e84df279edeb
DTSTART:20260518T143000
DTEND:20260518T170000
DESCRIPTION:
LOCATION:Central Lafourche High School\, 4820 LA-1\, Raceland\, LA 70394\, 
 USA
SUMMARY:VB Tryouts (CL students)
END:VEVENT
BEGIN:VEVENT
DTSTAMP:20260423T083648Z
UID:52d1364b-b38d-4e1f-b81c-1db4a20c97ee
DTSTART:20260518T160000
DTEND:20260518T173000
DESCRIPTION:
LOCATION:Central Lafourche High School\, 4820 LA-1\, Raceland\, LA 70394\, 
 USA
SUMMARY:SB Tryouts
END:VEVENT
BEGIN:VEVENT
DTSTAMP:20260423T083648Z
UID:55641f0e-f957-4d46-97e1-e3510cafea62
DTSTART:20260518T170000
DTEND:20260518T183000
DESCRIPTION:
LOCATION:Central Lafourche High School\, 4820 LA-1\, Raceland\, LA 70394\, 
 USA
SUMMARY:BSOC Tryouts
END:VEVENT
BEGIN:VEVENT
DTSTAMP:20260423T083648Z
UID:6d9fd510-e9fd-42ec-b2f8-a1bc370f170c
DTSTART:20260518T183000
DTEND:20260518T200000
DESCRIPTION:
LOCATION:Central Lafourche High School\, 4820 LA-1\, Raceland\, LA 70394\, 
 USA
SUMMARY:GSOC Tryouts
END:VEVENT
BEGIN:VEVENT
DTSTAMP:20260423T083648Z
UID:27ff2819-b869-4341-b976-42029e520039
DTSTART:20260519T190000
DTEND:20260519T200000
DESCRIPTION:
LOCATION:
SUMMARY:CLHS Graduation
END:VEVENT
BEGIN:VEVENT
DTSTAMP:20260423T083648Z
UID:990393c1-397a-4c8a-a6e6-c5085860097b
DTSTART:20260520T150000
DTEND:20260520T170000
DESCRIPTION:
LOCATION:Central Lafourche High School\, 4820 LA-1\, Raceland\, LA 70394\, 
 USA
SUMMARY:VB Tryouts (Incoming Fresh)
END:VEVENT
BEGIN:VEVENT
DTSTAMP:20260423T083648Z
UID:c0a5bdbf-2683-4a44-8146-42b0b30f6ab0
DTSTART:20260520T153000
DTEND:20260520T170000
DESCRIPTION:
LOCATION:Central Lafourche High School\, 4820 LA-1\, Raceland\, LA 70394\, 
 USA
SUMMARY:Baseball Tryouts (CL students)
END:VEVENT
BEGIN:VEVENT
DTSTAMP:20260423T083648Z
UID:fde5090c-c550-4917-9237-00b842bb09ef
DTSTART:20260520T170000
DTEND:20260520T183000
DESCRIPTION:
LOCATION:Central Lafourche High School\, 4820 LA-1\, Raceland\, LA 70394\, 
 USA
SUMMARY:BSOC Tryouts
END:VEVENT
BEGIN:VEVENT
DTSTAMP:20260423T083648Z
UID:dd93195c-21df-4a10-9771-5cfe609fdf32
DTSTART:20260520T183000
DTEND:20260520T200000
DESCRIPTION:
LOCATION:Central Lafourche High School\, 4820 LA-1\, Raceland\, LA 70394\, 
 USA
SUMMARY:GSOC Tryouts
END:VEVENT
BEGIN:VEVENT
DTSTAMP:20260423T083648Z
UID:f59e569f-5a1b-4603-9a53-28b3cf82ea53
DTSTART;VALUE=DATE:20260521
DTEND;VALUE=DATE:20260522
DESCRIPTION:
LOCATION:
SUMMARY:Student's Last Day
END:VEVENT
BEGIN:VEVENT
DTSTAMP:20260423T083648Z
UID:1af77747-0733-4fb7-8b96-29a720c90259
DTSTART:20260521T150000
DTEND:20260521T173000
DESCRIPTION:
LOCATION:Central Lafourche High School\, 4820 LA-1\, Raceland\, LA 70394\, 
 USA
SUMMARY:VB Tryouts (Everyone)
END:VEVENT
BEGIN:VEVENT
DTSTAMP:20260423T083648Z
UID:c68adaa5-cecb-4519-9d39-d4bf3dde6fef
DTSTART:20260521T170000
DTEND:20260521T183000
DESCRIPTION:
LOCATION:Central Lafourche High School\, 4820 LA-1\, Raceland\, LA 70394\, 
 USA
SUMMARY:Baseball Tryouts (Incoming Fresh)
END:VEVENT
BEGIN:VEVENT
DTSTAMP:20260423T083648Z
UID:5935588f-54a3-4c68-85fa-428c47a1a206
DTSTART;VALUE=DATE:20260522
DTEND;VALUE=DATE:20260523
DESCRIPTION:
LOCATION:
SUMMARY:Records Day
END:VEVENT
BEGIN:VEVENT
DTSTAMP:20260423T083648Z
UID:95f82f68-5858-4736-b345-9f533e80b78c
DTSTART;VALUE=DATE:20260525
DTEND;VALUE=DATE:20260526
DESCRIPTION:Public holiday
LOCATION:
SUMMARY:Memorial Day
END:VEVENT
BEGIN:VEVENT
DTSTAMP:20260423T083648Z
UID:171105bb-96c1-4c50-b358-36b7401e2a24
DTSTART;VALUE=DATE:20260526
DTEND;VALUE=DATE:20260530
DESCRIPTION:
LOCATION:
SUMMARY:Soccer Kiddie Camp (9am to 12 pm)
END:VEVENT
BEGIN:VEVENT
DTSTAMP:20260423T083648Z
UID:9f7ad6f4-9c63-4397-a5e6-e460af99cb63
DTSTART:20260601T090000
DTEND:20260603T150000
DESCRIPTION:
LOCATION:Central Lafourche High School\, 4820 LA-1\, Raceland\, LA 70394\, 
 USA
SUMMARY:Cheer mini camp (Both Gyms\, Auditorium\, Cheer room)
END:VEVENT
BEGIN:VEVENT
DTSTAMP:20260423T083648Z
UID:f0c39af5-c208-47e7-afa2-9ab93c5289f3
DTSTART:20260602T183000
DTEND:20260602T193000
DESCRIPTION:
LOCATION:
SUMMARY:JROTC Booster Meeting
END:VEVENT
BEGIN:VEVENT
DTSTAMP:20260423T083648Z
UID:a3c3b3bb-3b5b-4e3d-a760-9acba89a1ff7
DTSTART;VALUE=DATE:20260613
DTEND;VALUE=DATE:20260614
DESCRIPTION:
LOCATION:
SUMMARY:ACT Testing on Campus
END:VEVENT
BEGIN:VEVENT
DTSTAMP:20260423T083648Z
UID:96c90b45-094b-4ef9-96f3-d5ac7b49965e
DTSTART;VALUE=DATE:20260614
DTEND;VALUE=DATE:20260615
DESCRIPTION:Observance\nTo hide observances\, go to Google Calendar Setting
 s > Holidays in United States
LOCATION:
SUMMARY:Flag Day
END:VEVENT
BEGIN:VEVENT
DTSTAMP:20260423T083648Z
UID:b80b153c-d739-4cfe-ba72-8c6a4ad4c684
DTSTART;VALUE=DATE:20260619
DTEND;VALUE=DATE:20260620
DESCRIPTION:Public holiday
LOCATION:
SUMMARY:Juneteenth
END:VEVENT
BEGIN:VEVENT
DTSTAMP:20260423T083648Z
UID:7cd998d2-289a-4441-92e0-3eb67a3d1369
DTSTART;VALUE=DATE:20260621
DTEND;VALUE=DATE:20260622
DESCRIPTION:Observance\nTo hide observances\, go to Google Calendar Setting
 s > Holidays in United States
LOCATION:
SUMMARY:Father's Day
END:VEVENT
BEGIN:VEVENT
DTSTAMP:20260423T083648Z
UID:320653b2-c307-4035-8b39-59be543c60e6
DTSTART;VALUE=DATE:20260703
DTEND;VALUE=DATE:20260704
DESCRIPTION:Public holiday
LOCATION:
SUMMARY:Independence Day (substitute)
END:VEVENT
BEGIN:VEVENT
DTSTAMP:20260423T083648Z
UID:1f772150-8348-414c-bf80-787ade77cd6e
DTSTART;VALUE=DATE:20260704
DTEND;VALUE=DATE:20260705
DESCRIPTION:Public holiday
LOCATION:
SUMMARY:Independence Day
END:VEVENT
BEGIN:VEVENT
DTSTAMP:20260423T083648Z
UID:277ea04b-4c3c-4697-b172-371c083a8558
DTSTART;VALUE=DATE:20260706
DTEND;VALUE=DATE:20260711
DESCRIPTION:
LOCATION:
SUMMARY:Guard/Percussion Camp (9am to 4pm)
END:VEVENT
BEGIN:VEVENT
DTSTAMP:20260423T083648Z
UID:0e978265-4143-4ec2-93b3-c9c1586f2a28
DTSTART:20260707T183000
DTEND:20260707T193000
DESCRIPTION:
LOCATION:
SUMMARY:JROTC Booster Meeting
END:VEVENT
BEGIN:VEVENT
DTSTAMP:20260423T083648Z
UID:09cbde93-ae60-4149-a88b-7de14c177820
DTSTART;VALUE=DATE:20260711
DTEND;VALUE=DATE:20260712
DESCRIPTION:
LOCATION:
SUMMARY:ACT Testing on Campus
END:VEVENT
BEGIN:VEVENT
DTSTAMP:20260423T083648Z
UID:fac566c5-7c36-4127-9713-b3a43ddc69dd
DTSTART;VALUE=DATE:20260713
DTEND;VALUE=DATE:20260718
DESCRIPTION:
LOCATION:
SUMMARY:Band Camp (8am - 5pm)
END:VEVENT
BEGIN:VEVENT
DTSTAMP:20260423T083648Z
UID:bf3928e5-3981-4bfb-9fd3-47921062b123
DTSTART;VALUE=DATE:20260720
DTEND;VALUE=DATE:20260725
DESCRIPTION:
LOCATION:
SUMMARY:Band Camp (noon to 9pm)
END:VEVENT
BEGIN:VEVENT
DTSTAMP:20260423T083648Z
UID:0ffcef17-8265-4871-9546-e53fc4ce9c54
DTSTART;VALUE=DATE:20260801
DTEND;VALUE=DATE:20260802
DESCRIPTION:
LOCATION:
SUMMARY:Full Band Rehearsal (9am to 4pm)
END:VEVENT
BEGIN:VEVENT
DTSTAMP:20260423T083648Z
UID:1927073c-347b-49b6-8e2d-ca605c2cf558
DTSTART:20260801T170000
DTEND:20260801T180000
DESCRIPTION:
LOCATION:
SUMMARY:Band Show Off (Stadium)
END:VEVENT
BEGIN:VEVENT
DTSTAMP:20260423T083648Z
UID:b4bf647a-ba05-44e3-8469-468bbc3868e7
DTSTART;VALUE=DATE:20260803
DTEND;VALUE=DATE:20260804
DESCRIPTION:
LOCATION:
SUMMARY:PD Day
END:VEVENT
BEGIN:VEVENT
DTSTAMP:20260423T083648Z
UID:531d93dc-b8b5-4101-bc23-fa39c314517c
DTSTART;VALUE=DATE:20260804
DTEND;VALUE=DATE:20260805
DESCRIPTION:
LOCATION:
SUMMARY:PD Day
END:VEVENT
BEGIN:VEVENT
DTSTAMP:20260423T083648Z
UID:1ffcbba7-9d2a-417f-bb9b-6adef5ae8396
DTSTART:20260804T183000
DTEND:20260804T193000
DESCRIPTION:
LOCATION:
SUMMARY:JROTC Booster Meeting
END:VEVENT
BEGIN:VEVENT
DTSTAMP:20260423T083648Z
UID:163de58c-5117-4e89-9991-fe227ff5ca81
DTSTART;VALUE=DATE:20260805
DTEND;VALUE=DATE:20260806
DESCRIPTION:
LOCATION:
SUMMARY:PD Day
END:VEVENT
BEGIN:VEVENT
DTSTAMP:20260423T083648Z
UID:25d114b3-328c-40f7-8876-c59f695d2c28
DTSTART;VALUE=DATE:20260806
DTEND;VALUE=DATE:20260807
DESCRIPTION:
LOCATION:
SUMMARY:1st Day of school
END:VEVENT
BEGIN:VEVENT
DTSTAMP:20260423T083648Z
UID:472c354c-8376-44bc-b6c7-af3b9b0aedef
DTSTART:20260901T183000
DTEND:20260901T193000
DESCRIPTION:
LOCATION:
SUMMARY:JROTC Booster Meeting
END:VEVENT
BEGIN:VEVENT
DTSTAMP:20260423T083648Z
UID:f9ddea3c-0f4d-43a3-8a36-8718e418fd65
DTSTART;VALUE=DATE:20260907
DTEND;VALUE=DATE:20260908
DESCRIPTION:Public holiday
LOCATION:
SUMMARY:Labor Day
END:VEVENT
BEGIN:VEVENT
DTSTAMP:20260423T083648Z
UID:8fa94283-d9ef-4d54-8458-6d6e1c3fabb8
DTSTART;VALUE=DATE:20260908
DTEND;VALUE=DATE:20260909
DESCRIPTION:
LOCATION:
SUMMARY:PD Day
END:VEVENT
BEGIN:VEVENT
DTSTAMP:20260423T083648Z
UID:45d8293d-22c6-43bb-b805-e0cded06ccb8
DTSTART:20261006T183000
DTEND:20261006T193000
DESCRIPTION:
LOCATION:
SUMMARY:JROTC Booster Meeting
END:VEVENT
BEGIN:VEVENT
DTSTAMP:20260423T083648Z
UID:6384b7b0-5931-4076-9abd-5f0f2a014384
DTSTART;VALUE=DATE:20261012
DTEND;VALUE=DATE:20261013
DESCRIPTION:Public holiday
LOCATION:
SUMMARY:Columbus Day
END:VEVENT
BEGIN:VEVENT
DTSTAMP:20260423T083648Z
UID:ec1699d4-9a46-4343-8db1-05fda7163db7
DTSTART;VALUE=DATE:20261012
DTEND;VALUE=DATE:20261013
DESCRIPTION:
LOCATION:
SUMMARY:Fall Break
END:VEVENT
BEGIN:VEVENT
DTSTAMP:20260423T083648Z
UID:f2cb2c7f-9b35-4b4c-b3e9-d2c6852821da
DTSTART;VALUE=DATE:20261013
DTEND;VALUE=DATE:20261014
DESCRIPTION:
LOCATION:
SUMMARY:PD Day
END:VEVENT
BEGIN:VEVENT
DTSTAMP:20260423T083648Z
UID:c26fd609-1c10-4428-874e-f543d9651d31
DTSTART;VALUE=DATE:20261031
DTEND;VALUE=DATE:20261101
DESCRIPTION:Observance\nTo hide observances\, go to Google Calendar Setting
 s > Holidays in United States
LOCATION:
SUMMARY:Halloween
END:VEVENT
BEGIN:VEVENT
DTSTAMP:20260423T083648Z
UID:b55cf0f2-956a-4034-8ae1-5603dd6ffe88
DTSTART;VALUE=DATE:20261101
DTEND;VALUE=DATE:20261102
DESCRIPTION:Observance\nTo hide observances\, go to Google Calendar Setting
 s > Holidays in United States
LOCATION:
SUMMARY:Daylight Saving Time ends
END:VEVENT
BEGIN:VEVENT
DTSTAMP:20260423T083648Z
UID:b2887aa7-b77a-44a8-8efa-5a86d3d35164
DTSTART;VALUE=DATE:20261103
DTEND;VALUE=DATE:20261104
DESCRIPTION:Observance\nTo hide observances\, go to Google Calendar Setting
 s > Holidays in United States
LOCATION:
SUMMARY:Election Day
END:VEVENT
BEGIN:VEVENT
DTSTAMP:20260423T083648Z
UID:15505906-3abe-4acb-b033-4dad6297b105
DTSTART;VALUE=DATE:20261103
DTEND;VALUE=DATE:20261104
DESCRIPTION:
LOCATION:
SUMMARY:Election Day OFF
END:VEVENT
BEGIN:VEVENT
DTSTAMP:20260423T083648Z
UID:a4dc3bd4-d7bf-4706-8f64-3c219cf12ecc
DTSTART;VALUE=DATE:20261111
DTEND;VALUE=DATE:20261112
DESCRIPTION:Public holiday
LOCATION:
SUMMARY:Veterans Day
END:VEVENT
BEGIN:VEVENT
DTSTAMP:20260423T083648Z
UID:1c0bea16-3ca1-40b8-ba3b-217c3ddb7726
DTSTART;VALUE=DATE:20261123
DTEND;VALUE=DATE:20261128
DESCRIPTION:
LOCATION:
SUMMARY:Thanksgiving Break
END:VEVENT
BEGIN:VEVENT
DTSTAMP:20260423T083648Z
UID:4f8eb3b9-b82d-4111-9789-9662a7a551b8
DTSTART;VALUE=DATE:20261126
DTEND;VALUE=DATE:20261127
DESCRIPTION:Public holiday
LOCATION:
SUMMARY:Thanksgiving Day
END:VEVENT
BEGIN:VEVENT
DTSTAMP:20260423T083648Z
UID:491fa196-fc4e-47b5-a6f9-b15d0fa8bead
DTSTART;VALUE=DATE:20261127
DTEND;VALUE=DATE:20261128
DESCRIPTION:Observance\nTo hide observances\, go to Google Calendar Setting
 s > Holidays in United States
LOCATION:
SUMMARY:Black Friday
END:VEVENT
BEGIN:VEVENT
DTSTAMP:20260423T083648Z
UID:b2b548a4-4afd-4d20-b68b-770bed143849
DTSTART:20261201T183000
DTEND:20261201T193000
DESCRIPTION:
LOCATION:
SUMMARY:JROTC Booster Meeting
END:VEVENT
BEGIN:VEVENT
DTSTAMP:20260423T083648Z
UID:eab98545-f030-4fd4-acf0-26fb9c79bc34
DTSTART;VALUE=DATE:20261219
DTEND;VALUE=DATE:20270104
DESCRIPTION:
LOCATION:
SUMMARY:Christmas Break
END:VEVENT
BEGIN:VEVENT
DTSTAMP:20260423T083648Z
UID:3cc7f307-5fd9-47a5-b13f-7817265b3e46
DTSTART;VALUE=DATE:20261224
DTEND;VALUE=DATE:20261225
DESCRIPTION:Observance\nTo hide observances\, go to Google Calendar Setting
 s > Holidays in United States
LOCATION:
SUMMARY:Christmas Eve
END:VEVENT
BEGIN:VEVENT
DTSTAMP:20260423T083648Z
UID:d06cb20b-490b-4483-9b2d-cd08e70139cb
DTSTART;VALUE=DATE:20261225
DTEND;VALUE=DATE:20261226
DESCRIPTION:Public holiday
LOCATION:
SUMMARY:Christmas Day
END:VEVENT
BEGIN:VEVENT
DTSTAMP:20260423T083648Z
UID:36c29812-7fb2-4b5e-99be-b959d0f98545
DTSTART;VALUE=DATE:20261231
DTEND;VALUE=DATE:20270101
DESCRIPTION:Observance\nTo hide observances\, go to Google Calendar Setting
 s > Holidays in United States
LOCATION:
SUMMARY:New Year's Eve
END:VEVENT
BEGIN:VEVENT
DTSTAMP:20260423T083648Z
UID:7d90dd1b-d965-4edd-84f4-6c07e790de53
DTSTART;VALUE=DATE:20270101
DTEND;VALUE=DATE:20270102
DESCRIPTION:Public holiday
LOCATION:
SUMMARY:New Year's Day
END:VEVENT
BEGIN:VEVENT
DTSTAMP:20260423T083648Z
UID:f680cf15-8a27-45b9-aef9-95d74c5c5865
DTSTART;VALUE=DATE:20270104
DTEND;VALUE=DATE:20270105
DESCRIPTION:
LOCATION:
SUMMARY:PD Day
END:VEVENT
BEGIN:VEVENT
DTSTAMP:20260423T083648Z
UID:a058aa19-7353-424c-a29c-1298aeea6695
DTSTART:20270105T183000
DTEND:20270105T193000
DESCRIPTION:
LOCATION:
SUMMARY:JROTC Booster Meeting
END:VEVENT
BEGIN:VEVENT
DTSTAMP:20260423T083648Z
UID:1aa2cb9d-6d85-48be-be00-f04e32fa5276
DTSTART;VALUE=DATE:20270118
DTEND;VALUE=DATE:20270119
DESCRIPTION:Public holiday
LOCATION:
SUMMARY:Martin Luther King Jr. Day
END:VEVENT
BEGIN:VEVENT
DTSTAMP:20260423T083648Z
UID:61c00449-69cc-4dec-b983-3ba12df3b890
DTSTART;VALUE=DATE:20270118
DTEND;VALUE=DATE:20270119
DESCRIPTION:
LOCATION:
SUMMARY:MLK Off
END:VEVENT
BEGIN:VEVENT
DTSTAMP:20260423T083648Z
UID:70537308-6d15-4dff-8406-f682fc7706e9
DTSTART:20270202T183000
DTEND:20270202T193000
DESCRIPTION:
LOCATION:
SUMMARY:JROTC Booster Meeting
END:VEVENT
BEGIN:VEVENT
DTSTAMP:20260423T083648Z
UID:0ba88ae5-93da-4420-a60c-71cc1d98a624
DTSTART;VALUE=DATE:20270208
DTEND;VALUE=DATE:20270213
DESCRIPTION:
LOCATION:
SUMMARY:Mardi Gras Break
END:VEVENT
BEGIN:VEVENT
DTSTAMP:20260423T083648Z
UID:2efd28ad-bcd0-49e7-b967-05a217886208
DTSTART;VALUE=DATE:20270214
DTEND;VALUE=DATE:20270215
DESCRIPTION:Observance\nTo hide observances\, go to Google Calendar Setting
 s > Holidays in United States
LOCATION:
SUMMARY:Valentine's Day
END:VEVENT
BEGIN:VEVENT
DTSTAMP:20260423T083648Z
UID:74d1678a-f4cf-4f8e-851b-31f37695391d
DTSTART;VALUE=DATE:20270215
DTEND;VALUE=DATE:20270216
DESCRIPTION:Public holiday
LOCATION:
SUMMARY:Presidents’ Day
END:VEVENT
BEGIN:VEVENT
DTSTAMP:20260423T083648Z
UID:b758693a-c8df-4697-9246-8d21cdeefc57
DTSTART;VALUE=DATE:20280221
DTEND;VALUE=DATE:20280222
DESCRIPTION:Public holiday
LOCATION:
SUMMARY:Presidents’ Day
END:VEVENT
BEGIN:VEVENT
DTSTAMP:20260423T083648Z
UID:0176c93b-76f1-4308-bf21-dbb06ecb562b
DTSTART;VALUE=DATE:20290219
DTEND;VALUE=DATE:20290220
DESCRIPTION:Public holiday
LOCATION:
SUMMARY:Presidents’ Day
END:VEVENT
BEGIN:VEVENT
DTSTAMP:20260423T083648Z
UID:2b12104e-64b9-4b9d-a7de-48505556869e
DTSTART;VALUE=DATE:20300218
DTEND;VALUE=DATE:20300219
DESCRIPTION:Public holiday
LOCATION:
SUMMARY:Presidents’ Day
END:VEVENT
BEGIN:VEVENT
DTSTAMP:20260423T083648Z
UID:be6c5773-30b3-4c05-9d89-4a6eecea65bf
DTSTART;VALUE=DATE:20310217
DTEND;VALUE=DATE:20310218
DESCRIPTION:Public holiday
LOCATION:
SUMMARY:Presidents’ Day
END:VEVENT
END:VCALENDAR
