BEGIN:VCALENDAR
VERSION:2.0
PRODID:icalendar-ruby
CALSCALE:GREGORIAN
BEGIN:VTIMEZONE
TZID:America/Chicago
BEGIN:DAYLIGHT
DTSTART:20260308T030000
TZOFFSETFROM:-0600
TZOFFSETTO:-0500
RRULE:FREQ=YEARLY;BYDAY=2SU;BYMONTH=3
TZNAME:CDT
END:DAYLIGHT
BEGIN:STANDARD
DTSTART:20261101T010000
TZOFFSETFROM:-0500
TZOFFSETTO:-0600
RRULE:FREQ=YEARLY;BYDAY=1SU;BYMONTH=11
TZNAME:CST
END:STANDARD
END:VTIMEZONE
BEGIN:VEVENT
DTSTAMP:20260424T154037Z
UID:bd2b98cf-35f8-4d03-a351-3fff6b0705ba
DTSTART;VALUE=DATE:20260420
DTEND;VALUE=DATE:20260425
DESCRIPTION:
LOCATION:
SUMMARY:After School Professionals Appreciation Week 
END:VEVENT
BEGIN:VEVENT
DTSTAMP:20260424T154037Z
UID:3049385d-8678-46a7-aaa4-c966137acecf
DTSTART;VALUE=DATE:20260501
DTEND;VALUE=DATE:20260502
DESCRIPTION:
LOCATION:
SUMMARY:National Principal Appreciation Day
END:VEVENT
BEGIN:VEVENT
DTSTAMP:20260424T154037Z
UID:ef89d48e-ae13-4655-948b-74b9054e7f1f
DTSTART;VALUE=DATE:20260501
DTEND;VALUE=DATE:20260502
DESCRIPTION:
LOCATION:
SUMMARY:School Lunch Hero Day 
END:VEVENT
BEGIN:VEVENT
DTSTAMP:20260424T154037Z
UID:da420159-5f34-48b2-9a36-fd3d6a8d3193
DTSTART;VALUE=DATE:20260504
DTEND;VALUE=DATE:20260509
DESCRIPTION:
LOCATION:
SUMMARY:Teacher Appreciation Week 
END:VEVENT
BEGIN:VEVENT
DTSTAMP:20260424T154037Z
UID:3b15a56c-ec07-416c-a7a7-b62778c45609
DTSTART;VALUE=DATE:20260505
DTEND;VALUE=DATE:20260506
DESCRIPTION:
LOCATION:
SUMMARY:National Teacher Day
END:VEVENT
BEGIN:VEVENT
DTSTAMP:20260424T154037Z
UID:175382c0-b2f8-4fe5-ac60-c80741c19a7a
DTSTART;VALUE=DATE:20260505
DTEND;VALUE=DATE:20260506
DESCRIPTION:<html><head><meta http-equiv="Content-Type" content="text/html\
 ; charset=utf-8"></head><body><p>No School for students</p></body></html>
LOCATION:1753 Fairfield Pike\, Shelbyville\, TN 37160\, USA
SUMMARY:Staff Development Day
END:VEVENT
BEGIN:VEVENT
DTSTAMP:20260424T154037Z
UID:87c1ad58-7599-4d41-b9ec-9014c6531ab3
DTSTART:20260505T080000
DTEND:20260505T150000
DESCRIPTION:
LOCATION:
SUMMARY:Staff Development/Election Day - No School for Students 
END:VEVENT
BEGIN:VEVENT
DTSTAMP:20260424T154037Z
UID:1e006f0a-8602-47d9-894d-24aaeb694c0e
DTSTART:20260505T083000
DTEND:20260505T140000
DESCRIPTION:
LOCATION:Every Elementary School
SUMMARY:Kindergarten Registration
END:VEVENT
BEGIN:VEVENT
DTSTAMP:20260424T154037Z
UID:e522ffd5-c2ef-4af1-86c4-17fa5e9a40c0
DTSTART:20260505T083000
DTEND:20260505T160000
DESCRIPTION:
LOCATION:Harris Middle School
SUMMARY:Pre-K Registration
END:VEVENT
BEGIN:VEVENT
DTSTAMP:20260424T154037Z
UID:3a430388-8edf-4629-ad8f-551afe03306e
DTSTART;VALUE=DATE:20260506
DTEND;VALUE=DATE:20260507
DESCRIPTION:
LOCATION:
SUMMARY:Interpreter Appreciation Day 
END:VEVENT
BEGIN:VEVENT
DTSTAMP:20260424T154037Z
UID:2702d553-763e-4415-96ef-8b5016b1b163
DTSTART;VALUE=DATE:20260506
DTEND;VALUE=DATE:20260507
DESCRIPTION:
LOCATION:
SUMMARY:School Nurse Appreciation Day
END:VEVENT
BEGIN:VEVENT
DTSTAMP:20260424T154037Z
UID:9d0941ba-2f0d-47f8-86f3-4cfeee7c0923
DTSTART:20260507T173000
DTEND:20260507T200000
DESCRIPTION:
LOCATION:Board of Education 500 Madison St. Shelbyville\, TN  37160
SUMMARY:Bedford County Board of Education Budget Work Session
END:VEVENT
BEGIN:VEVENT
DTSTAMP:20260424T154037Z
UID:0207a97b-1abc-417e-8f1c-ae2573f89c15
DTSTART:20260507T180000
DTEND:20260507T190000
DESCRIPTION:<html><head><meta http-equiv="Content-Type" content="text/html\
 ; charset=utf-8"></head><body><p>This is a FREE event for ALL BCS parents 
 on a wide variety of topics to help your child succeed! See link below for
  more details and monthly topics.<a href="https://www.bedfordk12tn.com/o/b
 cs/page/parent-university">https://www.bedfordk12tn.com/o/bcs/page/parent-
 university</a></p></body></html>
LOCATION:Harris Middle School\, 570 Eagle Blvd\, Shelbyville
SUMMARY:Parent University (Events)
END:VEVENT
BEGIN:VEVENT
DTSTAMP:20260424T154037Z
UID:383a8a59-4f64-4971-a41f-bba929c6ee2a
DTSTART;VALUE=DATE:20260508
DTEND;VALUE=DATE:20260509
DESCRIPTION:
LOCATION:
SUMMARY:National School Communicators Appreciation Day
END:VEVENT
BEGIN:VEVENT
DTSTAMP:20260424T154037Z
UID:d5c4ea91-0ca1-4d3a-9843-f658e80548b5
DTSTART:20260509T080000
DTEND:20260509T120000
DESCRIPTION:<html><head><meta http-equiv="Content-Type" content="text/html\
 ; charset=utf-8"></head><body><p>Over 1\,100 people participated at the in
 augural event in May of 2025!</p><p>Get signed up for the 2nd Annual <stro
 ng>Connected Community 5K!</strong> Run or walk and be part of something s
 pecial as we come together to support<strong>Bedford County Schools</stron
 g> and other important community initiatives.</p><p>See what people are sa
 ying: <a href="https://www.facebook.com/BRIDGEBEDFORDTN">https://www.faceb
 ook.com/BRIDGEBEDFORDTN</a></p><p>Every Bedford County School will have a 
 team\, and community teams are welcome too — or you can join as an indiv
 idual. However you choose to participate\, everyone is welcome!</p><p>Bonu
 s: The event will take place Mother’s Day weekend\, giving us the perfec
 t opportunity to celebrate moms in a meaningful way. All mothers will be h
 onored on this day! Make plans to participate with your mom\, or if she’
 s no longer with us\, walk or run in her memory.</p><p>Register here: <a h
 ref="https://runsignup.com/connectedcommunity5k"><strong>https://runsignup
 .com/connectedcommunity5k</strong></a></p></body></html>
LOCATION:
SUMMARY:Connected Community 5K
END:VEVENT
BEGIN:VEVENT
DTSTAMP:20260424T154037Z
UID:515d71cf-2dbb-447a-8661-2db677eda9b8
DTSTART:20260515T190000
DTEND:20260515T210000
DESCRIPTION:
LOCATION:SCHS Football Field\, 401 Eagle Blvd\, Shelbyville\, TN 37160\, US
 A
SUMMARY:Shelbyville Central High School Graduation
END:VEVENT
BEGIN:VEVENT
DTSTAMP:20260424T154037Z
UID:d9dc42a2-1b20-4ad8-9660-00cdc76f7c58
DTSTART:20260516T100000
DTEND:20260516T113000
DESCRIPTION:<html><head><meta http-equiv="Content-Type" content="text/html\
 ; charset=utf-8"></head><body><p>In case of rain\, the graduation ceremony
  will move from the football field to the Cascade High School gymnasium\, 
 3035 Fairfield Pike\, Bell Buckle\, TN 37020</p></body></html>
LOCATION:Cascade High School Football Field\, 1165 Bell Buckle Wartrace Roa
 d\, Wartrace\, TN 37183
SUMMARY:Cascade High School Graduation
END:VEVENT
BEGIN:VEVENT
DTSTAMP:20260424T154037Z
UID:285ddc55-fcbe-4cac-bb69-4bda500f76b0
DTSTART:20260516T190000
DTEND:20260516T203000
DESCRIPTION:
LOCATION:Community High School Football Field\, 3470 Highway 41A\, Unionvil
 le\, TN 37180
SUMMARY:Community High School Graduation
END:VEVENT
BEGIN:VEVENT
DTSTAMP:20260424T154037Z
UID:9b549f1c-f5f3-47d1-90f2-dcb7e0c6ba5c
DTSTART:20260517T150000
DTEND:20260517T163000
DESCRIPTION:
LOCATION:Community High School Football Field\, 3470 Highway 41A\, Unionvil
 le\, TN 37180
SUMMARY:RAIN DATE - Community High School Graduation - RAIN DATE
END:VEVENT
BEGIN:VEVENT
DTSTAMP:20260424T154037Z
UID:d306fcd9-ff1a-4351-9872-b84eff00e998
DTSTART:20260517T190000
DTEND:20260517T210000
DESCRIPTION:
LOCATION:401 Eagle Blvd\, Shelbyville\, TN 37160\, Football Field
SUMMARY:RAIN DATE - Shelbyville Central High School Graduation - RAIN DATE
END:VEVENT
BEGIN:VEVENT
DTSTAMP:20260424T154037Z
UID:48c462c3-2dc6-49f2-aa91-b81e0eaebc41
DTSTART;VALUE=DATE:20260518
DTEND;VALUE=DATE:20260519
DESCRIPTION:
LOCATION:
SUMMARY:Speech Pathologist Appreciation Day
END:VEVENT
BEGIN:VEVENT
DTSTAMP:20260424T154037Z
UID:33fbaac5-b204-44ab-918c-7fc73171a90c
DTSTART:20260521T180000
DTEND:20260521T200000
DESCRIPTION:<html><head><meta http-equiv="Content-Type" content="text/html\
 ; charset=utf-8"></head><body><p>Individuals who wish to appear before the
  Board should consult Board policy 1.404 Appeals to and Appearances Before
  the Board.<a href="https://bedfordcountyschoolstn.sites.thrillshare.com/d
 ocuments/26253258">See link to board policy</a>.</p></body></html>
LOCATION:Harris Middle School Library 570 Eagle Blvd.\, Shelbyville\, TN  3
 7160
SUMMARY:Board of Education Regular Monthly Meeting (Events)
END:VEVENT
BEGIN:VEVENT
DTSTAMP:20260424T154037Z
UID:b37a7aff-2452-4a0d-b129-60a2f0696011
DTSTART;VALUE=DATE:20260522
DTEND;VALUE=DATE:20260523
DESCRIPTION:<html><head><meta http-equiv="Content-Type" content="text/html\
 ; charset=utf-8"></head><body><p>This is a two hour day. Attendance will b
 e taken.</p></body></html>
LOCATION:1753 Fairfield Pike\, Shelbyville\, TN 37160\, USA
SUMMARY:Abbreviated Day
END:VEVENT
BEGIN:VEVENT
DTSTAMP:20260424T154037Z
UID:2241c840-0c37-4f63-be9f-0456a0d5bb73
DTSTART:20260522T080000
DTEND:20260522T150000
DESCRIPTION:
LOCATION:
SUMMARY:Abbreviated Day/Report Cards
END:VEVENT
BEGIN:VEVENT
DTSTAMP:20260424T154037Z
UID:7cfdfcb7-c0b6-4bee-996e-f3883fd35eb5
DTSTART:20260525T080000
DTEND:20260525T150000
DESCRIPTION:
LOCATION:
SUMMARY:Memorial Day - No School 
END:VEVENT
BEGIN:VEVENT
DTSTAMP:20260424T154037Z
UID:a448ad4e-914f-4447-922d-c6c271910ff2
DTSTART:20260526T080000
DTEND:20260526T150000
DESCRIPTION:
LOCATION:
SUMMARY:Administrative Day - No School
END:VEVENT
BEGIN:VEVENT
DTSTAMP:20260424T154037Z
UID:ca05c6db-df38-493f-bd85-408d4ef9a085
DTSTART:20260618T180000
DTEND:20260618T190000
DESCRIPTION:<html><head><meta http-equiv="Content-Type" content="text/html\
 ; charset=utf-8"></head><body><p>Individuals who wish to appear before the
  Board should consult Board policy 1.404 Appeals to and Appearances Before
  the Board.<a href="https://bedfordcountyschoolstn.sites.thrillshare.com/d
 ocuments/26253258">See link to board policy</a>.</p></body></html>
LOCATION:Board of Education Central Office\n500 Madison St.\nShelbyville\, 
 TN  37160
SUMMARY:Board of Education Regular Monthly Meeting (Events)
END:VEVENT
BEGIN:VEVENT
DTSTAMP:20260424T154037Z
UID:22630fcb-836d-4186-91e2-3f2c6f3374ca
DTSTART:20260721T080000
DTEND:20260721T120000
DESCRIPTION:
LOCATION:All Schools Across the County
SUMMARY:New Student Registration
END:VEVENT
BEGIN:VEVENT
DTSTAMP:20260424T154037Z
UID:9543ee89-75af-42a9-bae1-b52b5057c8b5
DTSTART:20260721T080000
DTEND:20260721T120000
DESCRIPTION:
LOCATION:All Schools Across the County
SUMMARY:New Student Registration
END:VEVENT
BEGIN:VEVENT
DTSTAMP:20260424T154037Z
UID:98d12a09-a531-43a7-8343-2d3c09bd4c30
DTSTART;VALUE=DATE:20260803
DTEND;VALUE=DATE:20260804
DESCRIPTION:
LOCATION:
SUMMARY:Welcome Back to School! Abbreviated Day
END:VEVENT
END:VCALENDAR
