BEGIN:VCALENDAR
VERSION:2.0
PRODID:icalendar-ruby
CALSCALE:GREGORIAN
BEGIN:VTIMEZONE
TZID:America/New_York
BEGIN:DAYLIGHT
DTSTART:20260308T030000
TZOFFSETFROM:-0500
TZOFFSETTO:-0400
RRULE:FREQ=YEARLY;BYDAY=2SU;BYMONTH=3
TZNAME:EDT
END:DAYLIGHT
BEGIN:STANDARD
DTSTART:20261101T010000
TZOFFSETFROM:-0400
TZOFFSETTO:-0500
RRULE:FREQ=YEARLY;BYDAY=1SU;BYMONTH=11
TZNAME:EST
END:STANDARD
END:VTIMEZONE
BEGIN:VEVENT
DTSTAMP:20260421T164223Z
UID:03975584-ff2c-4bc0-b116-4124056839da
DTSTART;VALUE=DATE:20260421
DTEND;VALUE=DATE:20260422
DESCRIPTION:
LOCATION:
SUMMARY:MS MAP Testing Reading
END:VEVENT
BEGIN:VEVENT
DTSTAMP:20260421T164223Z
UID:baff203a-722f-437a-b72e-35a888f54c0a
DTSTART:20260421T110000
DTEND:20260421T120000
DESCRIPTION:RK is inviting you to a scheduled Zoom meeting.\nJoin Zoom Meet
 ing\n<a href="https://www.google.com/url?q=https://zoom.us/j/91772180819&a
 mp\;sa=D&amp\;source=calendar&amp\;ust=1776685092234874&amp\;usg=AOvVaw28Z
 TNiyjnneFiWuAmgIXMA" target="_blank">https://zoom.us/j/91772180819</a>\n\n
 Meeting ID: 917 7218 0819\n\n---\n\nOne tap mobile\n+13052241968\,\,917721
 80819# US\n+13092053325\,\,91772180819# US\n\nJoin instructions\n<a href="
 https://www.google.com/url?q=https://zoom.us/meetings/91772180819/invitati
 ons?signature%3DZ3Nu0dwwjjpSDkg04MVHaDuVq_O-3lXvTChMb_VOSRg&amp\;sa=D&amp\
 ;source=calendar&amp\;ust=1776685092234874&amp\;usg=AOvVaw3e6x6TpWzTQFcJ_R
 O-fHv6" target="_blank">https://zoom.us/meetings/91772180819/invitations?s
 ignature=Z3Nu0dwwjjpSDkg04MVHaDuVq_O-3lXvTChMb_VOSRg</a>\n\n
LOCATION:https://zoom.us/j/91772180819
SUMMARY:Elementary Information Session and Tour
END:VEVENT
BEGIN:VEVENT
DTSTAMP:20260421T164223Z
UID:60dc14a3-cdb7-4b02-af8d-cf094765a8bc
DTSTART:20260421T173000
DTEND:20260421T183000
DESCRIPTION:
LOCATION:
SUMMARY:JV Boys Soccer @ Buford HS
END:VEVENT
BEGIN:VEVENT
DTSTAMP:20260421T164223Z
UID:c0b92b84-f64c-439b-a458-c6510ebfb41d
DTSTART:20260421T173000
DTEND:20260421T183000
DESCRIPTION:
LOCATION:
SUMMARY:JV Girls Soccer vs Buford HS
END:VEVENT
BEGIN:VEVENT
DTSTAMP:20260421T164223Z
UID:d8c07a53-3e71-4be9-97b6-12cc68aff2e8
DTSTART:20260421T183000
DTEND:20260421T193000
DESCRIPTION:
LOCATION:
SUMMARY:Varsity Baseball vs Andrew Jackson HS
END:VEVENT
BEGIN:VEVENT
DTSTAMP:20260421T164223Z
UID:f4f3d04e-79f8-45cc-99c3-3a838d46e0d0
DTSTART:20260421T190000
DTEND:20260421T200000
DESCRIPTION:
LOCATION:
SUMMARY:Varsity Boys Soccer @ Buford HS
END:VEVENT
BEGIN:VEVENT
DTSTAMP:20260421T164223Z
UID:d2db171c-b032-4952-857f-4fa533aa0450
DTSTART:20260421T190000
DTEND:20260421T193000
DESCRIPTION:
LOCATION:
SUMMARY:Varsity Girls Soccer vs Buford HS
END:VEVENT
BEGIN:VEVENT
DTSTAMP:20260421T164223Z
UID:1d255eac-4ef2-48cd-b935-4ddca7fb1169
DTSTART:20260422T110000
DTEND:20260422T114500
DESCRIPTION:RK is inviting you to a scheduled Zoom meeting.\nJoin Zoom Meet
 ing\n<a href="https://www.google.com/url?q=https://zoom.us/j/93912309325&a
 mp\;sa=D&amp\;source=calendar&amp\;ust=1776685092234874&amp\;usg=AOvVaw0ZU
 w1f9GnKb-g8LpsOLH-r" target="_blank">https://zoom.us/j/93912309325</a>\n\n
 Meeting ID: 939 1230 9325\n\n---\n\nOne tap mobile\n+16469313860\,\,939123
 09325# US\n+13017158592\,\,93912309325# US (Washington DC)\n\nJoin instruc
 tions\n<a href="https://www.google.com/url?q=https://zoom.us/meetings/9391
 2309325/invitations?signature%3DHGqExgM1Ei-gOOuvaBUUuQhO0sGxJ7qt0_LYTxT1qH
 Q&amp\;sa=D&amp\;source=calendar&amp\;ust=1776685092234874&amp\;usg=AOvVaw
 0t9Qzb_SFPs2XwaO_FUW-i" target="_blank">https://zoom.us/meetings/939123093
 25/invitations?signature=HGqExgM1Ei-gOOuvaBUUuQhO0sGxJ7qt0_LYTxT1qHQ</a>\n
 \n
LOCATION:https://zoom.us/j/93912309325
SUMMARY:Middle School (5th-8th grades) Information Session and Tour
END:VEVENT
BEGIN:VEVENT
DTSTAMP:20260421T164223Z
UID:f362626b-8eb2-4a0e-be34-6479500a505a
DTSTART:20260422T180000
DTEND:20260422T190000
DESCRIPTION:
LOCATION:
SUMMARY:Varsity Baseball vs Grace Academy
END:VEVENT
BEGIN:VEVENT
DTSTAMP:20260421T164223Z
UID:cb848cc9-2619-47f3-8feb-fa66c23a37f8
DTSTART;VALUE=DATE:20260423
DTEND;VALUE=DATE:20260424
DESCRIPTION:
LOCATION:
SUMMARY:MS MAP Testing Math
END:VEVENT
BEGIN:VEVENT
DTSTAMP:20260421T164223Z
UID:8d3df18a-98b4-4908-a252-9f37b51e671d
DTSTART:20260423T173000
DTEND:20260423T183000
DESCRIPTION:
LOCATION:
SUMMARY:JV Boys Soccer @ Cheraw HS
END:VEVENT
BEGIN:VEVENT
DTSTAMP:20260421T164223Z
UID:7e187e72-6bd4-492d-a83c-6a11c8d175fa
DTSTART:20260423T180000
DTEND:20260423T190000
DESCRIPTION:
LOCATION:
SUMMARY:Baseball C Team @ Andrew Jackson HS
END:VEVENT
BEGIN:VEVENT
DTSTAMP:20260421T164223Z
UID:31ed7c1c-f655-4464-9a7d-79d1e1b270fb
DTSTART:20260423T190000
DTEND:20260423T200000
DESCRIPTION:
LOCATION:
SUMMARY:Varsity Boys Soccer @ Cheraw HS
END:VEVENT
BEGIN:VEVENT
DTSTAMP:20260421T164223Z
UID:d9908d16-f1a1-4d4f-9c68-a62533a7e951
DTSTART:20260424T183000
DTEND:20260424T193000
DESCRIPTION:
LOCATION:
SUMMARY:Varsity Baseball vs Andrew Jackson HS
END:VEVENT
BEGIN:VEVENT
DTSTAMP:20260421T164223Z
UID:37eb1b19-63fe-4fca-b482-e1060db13674
DTSTART;VALUE=DATE:20260425
DTEND;VALUE=DATE:20260426
DESCRIPTION:The YPA 2026 Junior/Senior Prom Theme is April 25th and tickets
  are officially on sale at THIS <a href="https://www.studentquickpay.com/y
 orkprepsc/" target="_blank"><u>LINK</u></a>. The 2026 YPA Prom Theme is M
 illenium Magic.  Prom ticket sales will remain open until 11:59 pm\, Mo
 nday\, April 20\, 2026. Please contact <a href="mailto:kelly.lunsford@yor
 kprepsc.org" target="_blank"><u>Ms. Lunsford</u></a> with any questions.
LOCATION:
SUMMARY:Junior/Senior Prom
END:VEVENT
BEGIN:VEVENT
DTSTAMP:20260421T164223Z
UID:b2635d8a-2bd8-46a4-9f8a-0798c0eae679
DTSTART:20260427T180000
DTEND:20260427T190000
DESCRIPTION:
LOCATION:
SUMMARY:Baseball C Team @ York Comp HS
END:VEVENT
BEGIN:VEVENT
DTSTAMP:20260421T164223Z
UID:e8bbeb5c-d57f-48f3-9d39-77776615d51d
DTSTART:20260427T180000
DTEND:20260427T190000
DESCRIPTION:
LOCATION:
SUMMARY:Varsity Baseball vs Great Falls HS
END:VEVENT
BEGIN:VEVENT
DTSTAMP:20260421T164223Z
UID:9883ae55-e90a-4c28-9af8-d14b4d86b512
DTSTART:20260428T183000
DTEND:20260428T193000
DESCRIPTION:
LOCATION:
SUMMARY:Varsity Baseball vs Buford HS (Senior Night)
END:VEVENT
BEGIN:VEVENT
DTSTAMP:20260421T164223Z
UID:4f413415-ed9c-46fd-a05b-4b85707d8a4a
DTSTART:20260429T180000
DTEND:20260429T190000
DESCRIPTION:
LOCATION:
SUMMARY:Baseball C Team vs York Comp HS
END:VEVENT
BEGIN:VEVENT
DTSTAMP:20260421T164223Z
UID:9621452f-5b5d-4edb-9ee1-7b1ff1b17236
DTSTART:20260430T083000
DTEND:20260430T143000
DESCRIPTION:
LOCATION:
SUMMARY:3rd Grade SCReady Reading
END:VEVENT
BEGIN:VEVENT
DTSTAMP:20260421T164223Z
UID:1c87cc33-92d2-4ec2-9cba-ac2b3d747587
DTSTART:20260430T083000
DTEND:20260430T140000
DESCRIPTION:Sponsored by the BETA Club\, the Community Blood Drive will be 
 held in the YPA High School parking lot. This event is open to the public.
  Students 16+ may donate blood with parent permission.
LOCATION:
SUMMARY:Community Blood Drive
END:VEVENT
BEGIN:VEVENT
DTSTAMP:20260421T164223Z
UID:9103b754-944b-4c7c-8fdc-cbc5c094f534
DTSTART:20260430T173000
DTEND:20260430T183000
DESCRIPTION:
LOCATION:
SUMMARY:JV Boys Soccer @ Chester HS
END:VEVENT
BEGIN:VEVENT
DTSTAMP:20260421T164223Z
UID:ef65ea56-4d52-4a3a-9ac5-c6148796a367
DTSTART:20260430T190000
DTEND:20260430T193000
DESCRIPTION:<p>✨ 𝐓𝐡𝐞 𝐘𝐨𝐫𝐤 𝐏𝐫𝐞𝐩 𝐃𝐫
 𝐚𝐦𝐚 𝐂𝐥𝐮𝐛 𝐩𝐫𝐨𝐮𝐝𝐥𝐲 𝐩𝐫𝐞
 𝐬𝐞𝐧𝐭𝐬 𝐢𝐭𝐬 𝐒𝐩𝐫𝐢𝐧𝐠 𝐏𝐥𝐚
 𝐲: 𝐏𝐔𝐅𝐅𝐒 𝐛𝐲 𝐌𝐚𝐭𝐭 𝐂𝐨𝐱. </p><p>
 What happens when the spotlight shifts to the unlikely heroes of a magical
  wizarding world?</p><p>PUFFS is a laugh-out-loud\, heart-filled comedy th
 at puts the underdogs front and center. Packed with humor\, charm\, and wi
 zarding mishaps\, this family-friendly production brings the magic straigh
 t to York Prep’s stage.</p><p>🗓 𝐒𝐡𝐨𝐰𝐭𝐢𝐦𝐞𝐬:
  March 20 @ 7 pm\, March 21 @ 7:00 pm\, &amp\; March 22 @ 3:00 pm</p><p>
 🎟 𝐓𝐢𝐜𝐤𝐞𝐭𝐬: On sale now at <a href="https://gofan.
 co/app/school/SC86964?activity=Performing%20Arts" target="_blank">https://
 gofan.co/app/school/SC86964?activity=Performing%20Arts</a></p><p>Grab your
  tickets today and join us for an unforgettable night of laughter\, magic\
 , and heart—perfect for muggles of all ages!</p>
LOCATION:1047 Golden Gate Ct\, Rock Hill\, SC 29732\, USA
SUMMARY:PUFFS: York Prep Drama Club Spring Play
END:VEVENT
BEGIN:VEVENT
DTSTAMP:20260421T164223Z
UID:51386228-b882-49ce-9dfd-edc369c76627
DTSTART:20260430T190000
DTEND:20260430T200000
DESCRIPTION:
LOCATION:
SUMMARY:Varsity Boys Soccer @ Chester HS
END:VEVENT
BEGIN:VEVENT
DTSTAMP:20260421T164223Z
UID:49eed256-e498-4cdc-8d09-08fb11dd1c04
DTSTART:20260501T083000
DTEND:20260501T143000
DESCRIPTION:
LOCATION:
SUMMARY:3rd Grade SCReady Reading
END:VEVENT
BEGIN:VEVENT
DTSTAMP:20260421T164223Z
UID:d4f3d496-a863-4bbb-8474-0f6ea40e7c92
DTSTART:20260501T183000
DTEND:20260501T193000
DESCRIPTION:
LOCATION:
SUMMARY:Varsity Baseball @ Buford HS
END:VEVENT
BEGIN:VEVENT
DTSTAMP:20260421T164223Z
UID:7300bb22-0115-41b5-bc44-8edf77e95851
DTSTART:20260504T083000
DTEND:20260504T143000
DESCRIPTION:
LOCATION:
SUMMARY:3rd Grade SCReady Writing
END:VEVENT
BEGIN:VEVENT
DTSTAMP:20260421T164223Z
UID:c7882d6e-37ea-4821-b9b7-6f90a3aead3a
DTSTART;VALUE=DATE:20260505
DTEND;VALUE=DATE:20260506
DESCRIPTION:
LOCATION:
SUMMARY:MS Testing: SC Ready 5-8 Writing
END:VEVENT
BEGIN:VEVENT
DTSTAMP:20260421T164223Z
UID:b62f8845-91b1-434a-a9da-54bd5af7e902
DTSTART:20260505T083000
DTEND:20260505T143000
DESCRIPTION:
LOCATION:
SUMMARY:3rd Grade SCReady Math
END:VEVENT
BEGIN:VEVENT
DTSTAMP:20260421T164223Z
UID:a4510881-a107-4a72-901d-e535b705c952
DTSTART:20260506T083000
DTEND:20260506T143000
DESCRIPTION:
LOCATION:
SUMMARY:3rd Grade SCReady Math
END:VEVENT
BEGIN:VEVENT
DTSTAMP:20260421T164223Z
UID:598e23e3-4e6a-487b-bb4d-eb7c2e94b3ba
DTSTART:20260506T083000
DTEND:20260506T143000
DESCRIPTION:
LOCATION:
SUMMARY:4th Grade SCReady Math
END:VEVENT
BEGIN:VEVENT
DTSTAMP:20260421T164223Z
UID:f5fed744-1906-4f9d-88b4-b5533a56cea6
DTSTART;VALUE=DATE:20260507
DTEND;VALUE=DATE:20260508
DESCRIPTION:
LOCATION:
SUMMARY:MS Testing: SC Ready 5-8 Reading
END:VEVENT
BEGIN:VEVENT
DTSTAMP:20260421T164223Z
UID:b76ce7b5-ace8-475b-b164-b7d000d4f662
DTSTART:20260507T083000
DTEND:20260507T143000
DESCRIPTION:
LOCATION:
SUMMARY:4th Grade SCReady Math
END:VEVENT
BEGIN:VEVENT
DTSTAMP:20260421T164223Z
UID:3455ecbd-1979-4c03-819d-e60b9ac2b8b8
DTSTART;VALUE=DATE:20260508
DTEND;VALUE=DATE:20260509
DESCRIPTION:
LOCATION:
SUMMARY:MS Testing: SC Ready 5th Grade Reading 2
END:VEVENT
BEGIN:VEVENT
DTSTAMP:20260421T164223Z
UID:a9068517-53bb-40db-b82f-3a7ef7312d05
DTSTART;VALUE=DATE:20260508
DTEND;VALUE=DATE:20260509
DESCRIPTION:FCA club will be hosting a Senior breakfast on Friday\, May 8 
 in the commons after drop off. Following the breakfast will be a yearbook 
 signing.
LOCATION:
SUMMARY:Senior Breakfast and Yearbook Distribution
END:VEVENT
BEGIN:VEVENT
DTSTAMP:20260421T164223Z
UID:b5037ce5-7f75-4478-8fc5-d8ac6061648c
DTSTART:20260508T083000
DTEND:20260508T143000
DESCRIPTION:
LOCATION:
SUMMARY:4th Grade SCReady Writing
END:VEVENT
BEGIN:VEVENT
DTSTAMP:20260421T164223Z
UID:adfdddaf-d486-4e08-b098-19e788340b79
DTSTART;VALUE=DATE:20260512
DTEND;VALUE=DATE:20260513
DESCRIPTION:
LOCATION:
SUMMARY:MS Testing: SC Ready 5-8 Math
END:VEVENT
BEGIN:VEVENT
DTSTAMP:20260421T164223Z
UID:338d6d15-0e52-4d2a-b523-8347797f5076
DTSTART:20260512T083000
DTEND:20260512T143000
DESCRIPTION:
LOCATION:
SUMMARY:4th Grade SCReady Reading
END:VEVENT
BEGIN:VEVENT
DTSTAMP:20260421T164223Z
UID:19565dfa-f6d7-45e0-90be-4d6c57b0acb4
DTSTART:20260512T180000
DTEND:20260512T190000
DESCRIPTION:
LOCATION:
SUMMARY:HS Spring Band Concert
END:VEVENT
BEGIN:VEVENT
DTSTAMP:20260421T164223Z
UID:cb3961f2-255f-4bed-a2fa-df83047077b0
DTSTART;VALUE=DATE:20260513
DTEND;VALUE=DATE:20260514
DESCRIPTION:
LOCATION:
SUMMARY:MS Testing: SC Ready 5th Grade Math 2 and 6th Grade Science
END:VEVENT
BEGIN:VEVENT
DTSTAMP:20260421T164223Z
UID:a0151d54-7a05-4fe2-8487-fcd02584a056
DTSTART;VALUE=DATE:20260513
DTEND;VALUE=DATE:20260515
DESCRIPTION:
LOCATION:
SUMMARY:Senior Exams
END:VEVENT
BEGIN:VEVENT
DTSTAMP:20260421T164223Z
UID:d8a96322-6ab7-489b-a119-bbbbd7abe7b3
DTSTART:20260513T083000
DTEND:20260513T143000
DESCRIPTION:
LOCATION:
SUMMARY:4th Grade SCReady Reading
END:VEVENT
BEGIN:VEVENT
DTSTAMP:20260421T164223Z
UID:0df4ca0f-4613-4f40-b2a6-f7302c29815f
DTSTART:20260514T083000
DTEND:20260514T143000
DESCRIPTION:
LOCATION:
SUMMARY:4th Grade SCReady Science
END:VEVENT
BEGIN:VEVENT
DTSTAMP:20260421T164223Z
UID:4da4bcac-9bd5-4962-8133-ded2e8b222d5
DTSTART:20260514T173000
DTEND:20260514T180000
DESCRIPTION:Join us as we celebrate our 2026 graduating class and all their
  accomplishments. The Senior Awards Night will be at the Student Union bui
 lding on Thursday\, May 14 from 5:30-6:30 pm. Students should come dressed
  in business casual.
LOCATION:
SUMMARY:Senior Awards
END:VEVENT
BEGIN:VEVENT
DTSTAMP:20260421T164223Z
UID:85d7d83e-d3ea-4991-9d2e-9c444fb457df
DTSTART:20260515T083000
DTEND:20260515T090000
DESCRIPTION:<br><div dir="auto">Make plans to join us for one of our 𝐅
 𝐀𝐕𝐎𝐑𝐈𝐓𝐄 events of the year! <div dir="auto"><br><div 
 dir="auto">On Friday\, May 15\, High School Awards for 9th-11th grade will
  begin at 8:30 am at the Student Union gym. 9th-11th grade families will r
 eceive an email notifying them if their student is receiving an award.<br>
 <div dir="auto"><div dir="auto">Following the awards (approximately 9:45 a
 m)\, our 2026 Graduates will ride with their family in our Senior Parade a
 round campus. Seniors should wear their cap and gown.  Seniors should plan
  to arrive with their parade vehicle at 8:15 am. The student should displa
 y their name and their intentions after high school on their car.  Only se
 niors and immediate family are to ride in the parade. Underclassmen are no
 t allowed to join the parade. <br><div dir="auto"><div dir="auto">York Pre
 p students\, staff\, and families will line the sidewalks to cheer.  We ca
 n't wait to celebrate you!
LOCATION:
SUMMARY:Senior Parade and Underclassmen Awards
END:VEVENT
BEGIN:VEVENT
DTSTAMP:20260421T164223Z
UID:5582b094-7480-49da-9284-798de662bb01
DTSTART:20260519T180000
DTEND:20260519T193000
DESCRIPTION:
LOCATION:
SUMMARY:Middle School Band Concert
END:VEVENT
BEGIN:VEVENT
DTSTAMP:20260421T164223Z
UID:50230f0e-7d9a-4378-b20a-f1695013c04e
DTSTART:20260521T160000
DTEND:20260521T170000
DESCRIPTION:<p><span>Graduation rehearsal will be held on May 21st at 4 pm 
 at the Student Union. Make sure you are on time. You must be at practice i
 n order to walk at graduation! The Senior Picnic will follow graduation re
 hearsal. Come prepared to eat and celebrate!</span><br></p>
LOCATION:
SUMMARY:Graduation Practice and Picnic
END:VEVENT
BEGIN:VEVENT
DTSTAMP:20260421T164223Z
UID:cef839c4-c342-4532-a4fb-032f17677842
DTSTART:20260521T183000
DTEND:20260521T190000
DESCRIPTION:
LOCATION:
SUMMARY:Board Meeting
END:VEVENT
BEGIN:VEVENT
DTSTAMP:20260421T164223Z
UID:aa666d1c-5315-492d-80c3-97cdaf8ff887
DTSTART:20260522T170000
DTEND:20260522T173000
DESCRIPTION:<p>Graduation will take place at Winthrop Coliseum on May 22\, 
 2026 at 5:00pm. No tickets will be required. More details to be announced.
 </p><p><br></p>
LOCATION:Winthrop Coliseum\, 1162 Eden Terrace\, Rock Hill\, SC 29730\, USA
SUMMARY:Graduation
END:VEVENT
BEGIN:VEVENT
DTSTAMP:20260421T164223Z
UID:499428cb-a82b-499b-8931-fee78cfbd243
DTSTART;VALUE=DATE:20260525
DTEND;VALUE=DATE:20260526
DESCRIPTION:
LOCATION:
SUMMARY:Memorial Day- School Closed
END:VEVENT
BEGIN:VEVENT
DTSTAMP:20260421T164223Z
UID:eaf60649-ea6b-4527-af8b-7f8eba3219ed
DTSTART;VALUE=DATE:20260527
DTEND;VALUE=DATE:20260528
DESCRIPTION:
LOCATION:
SUMMARY:EOC and Final Exams: Blocks 1-2
END:VEVENT
BEGIN:VEVENT
DTSTAMP:20260421T164223Z
UID:e1088db1-ae59-4e26-b802-f756cd7de637
DTSTART:20260527T100000
DTEND:20260527T103000
DESCRIPTION:The Middle School will be celebrating our 8th graders as they t
 ransition to high school at our Promotion Ceremony on Wednesday\, May 27 a
 t 10:00 am in the Student Union Gym.  All family and friends are welcome t
 o attend.  No tickets or pre-registration is required.  8th grade students
  should plan to dress in business or smart casual for the ceremony.  We wi
 ll have check-out stations available after the event for any families wish
 ing to continue their celebration with their student.
LOCATION:
SUMMARY:8th Grade Promotion Ceremony
END:VEVENT
BEGIN:VEVENT
DTSTAMP:20260421T164223Z
UID:14202386-fa85-4d2b-8f8e-67285dbd184f
DTSTART;VALUE=DATE:20260528
DTEND;VALUE=DATE:20260529
DESCRIPTION:
LOCATION:
SUMMARY:EOC and Final Exams: Blocks 3-4
END:VEVENT
BEGIN:VEVENT
DTSTAMP:20260421T164223Z
UID:cb36d440-f3ae-46ee-8d64-6fd250d98330
DTSTART;VALUE=DATE:20260528
DTEND;VALUE=DATE:20260529
DESCRIPTION:<br><br><br><h3>HALF DAY DISMISSAL TIMES:</h3><br><br><br><p>El
 ementary School (K5-4th Grade): 11:30 am</p><p>Middle and High School (5th
 -12th): 12:00 pm </p>
LOCATION:
SUMMARY:Last Day of School- Half Day Dismissal
END:VEVENT
BEGIN:VEVENT
DTSTAMP:20260421T164223Z
UID:c7343927-9daa-46ae-a3d8-7887f18f2f29
DTSTART;VALUE=DATE:20260529
DTEND;VALUE=DATE:20260530
DESCRIPTION:
LOCATION:
SUMMARY:Makeup EOC and Final Exams
END:VEVENT
BEGIN:VEVENT
DTSTAMP:20260421T164223Z
UID:20da3208-9f7d-4247-97ab-666f633170d9
DTSTART;VALUE=DATE:20260529
DTEND;VALUE=DATE:20260530
DESCRIPTION:
LOCATION:
SUMMARY:Teacher Work Day- No School for Students
END:VEVENT
BEGIN:VEVENT
DTSTAMP:20260421T164223Z
UID:4eace19a-1309-488e-af49-5b308232bcbf
DTSTART:20260618T183000
DTEND:20260618T190000
DESCRIPTION:
LOCATION:
SUMMARY:Board Meeting
END:VEVENT
END:VCALENDAR
