BEGIN:VCALENDAR
VERSION:2.0
PRODID:icalendar-ruby
CALSCALE:GREGORIAN
BEGIN:VTIMEZONE
TZID:America/Chicago
BEGIN:DAYLIGHT
DTSTART:20260308T030000
TZOFFSETFROM:-0600
TZOFFSETTO:-0500
RRULE:FREQ=YEARLY;BYDAY=2SU;BYMONTH=3
TZNAME:CDT
END:DAYLIGHT
BEGIN:STANDARD
DTSTART:20261101T010000
TZOFFSETFROM:-0500
TZOFFSETTO:-0600
RRULE:FREQ=YEARLY;BYDAY=1SU;BYMONTH=11
TZNAME:CST
END:STANDARD
END:VTIMEZONE
BEGIN:VEVENT
DTSTAMP:20260422T210343Z
UID:c3cbaa80-bd1b-4cbc-80cc-aaae1270a2d5
DTSTART;VALUE=DATE:20260422
DTEND;VALUE=DATE:20260423
DESCRIPTION:
LOCATION:
SUMMARY:4th Grade Math STAAR Testing
END:VEVENT
BEGIN:VEVENT
DTSTAMP:20260422T210343Z
UID:eec78a73-84e8-486f-8ddd-061af8eef823
DTSTART;VALUE=DATE:20260423
DTEND;VALUE=DATE:20260424
DESCRIPTION:
LOCATION:
SUMMARY:Math STAAR Make Up Testing
END:VEVENT
BEGIN:VEVENT
DTSTAMP:20260422T210343Z
UID:f5bdaa92-cbf0-40ff-bd2e-b3baaca8cae8
DTSTART;VALUE=DATE:20260427
DTEND;VALUE=DATE:20260428
DESCRIPTION:
LOCATION:
SUMMARY:Grades due by noon 
END:VEVENT
BEGIN:VEVENT
DTSTAMP:20260422T210343Z
UID:276ff07d-b84f-4fc2-baaa-2da762443d50
DTSTART;VALUE=DATE:20260427
DTEND;VALUE=DATE:20260428
DESCRIPTION:
LOCATION:
SUMMARY:Kinder Dyslexia Screener Window Opens
END:VEVENT
BEGIN:VEVENT
DTSTAMP:20260422T210343Z
UID:4db16f24-f323-4e84-aa2c-9010153e5d7a
DTSTART:20260428T161500
DTEND:20260428T171500
DESCRIPTION:
LOCATION:
SUMMARY:Meeting #4 for SBDM (Summative Evaluation and CIP Revision)
END:VEVENT
BEGIN:VEVENT
DTSTAMP:20260422T210343Z
UID:70205ac6-9508-4082-b441-ed55ef413044
DTSTART;VALUE=DATE:20260429
DTEND;VALUE=DATE:20260430
DESCRIPTION:
LOCATION:
SUMMARY:Summer School Attendee Spreadsheet Due
END:VEVENT
BEGIN:VEVENT
DTSTAMP:20260422T210343Z
UID:b95355a9-7a91-4146-87eb-ec965004572e
DTSTART;VALUE=DATE:20260430
DTEND;VALUE=DATE:20260501
DESCRIPTION:
LOCATION:
SUMMARY:Kinder Dyslexia Screener Window Closes
END:VEVENT
BEGIN:VEVENT
DTSTAMP:20260422T210343Z
UID:c0b648c9-a29b-4bb2-96d7-6d0f371f589f
DTSTART:20260430T083000
DTEND:20260430T093000
DESCRIPTION:
LOCATION:
SUMMARY:4th Grade Zoo trip 
END:VEVENT
BEGIN:VEVENT
DTSTAMP:20260422T210343Z
UID:eb224576-0eae-4144-8fbc-480cc0bd6363
DTSTART;VALUE=DATE:20260504
DTEND;VALUE=DATE:20260505
DESCRIPTION:
LOCATION:
SUMMARY:4th 9 Weeks Benchmark Window Opens
END:VEVENT
BEGIN:VEVENT
DTSTAMP:20260422T210343Z
UID:0f2d9f88-b966-47f8-a5c2-f8ecd97fccf0
DTSTART:20260506T163000
DTEND:20260506T173000
DESCRIPTION:
LOCATION:
SUMMARY:PTO Meeting
END:VEVENT
BEGIN:VEVENT
DTSTAMP:20260422T210343Z
UID:dcc27076-9b35-492f-8948-71879264b7cc
DTSTART;VALUE=DATE:20260507
DTEND;VALUE=DATE:20260508
DESCRIPTION:
LOCATION:
SUMMARY:4th 9 Week Benchmark Closes
END:VEVENT
BEGIN:VEVENT
DTSTAMP:20260422T210343Z
UID:c47a2cf4-8016-4ae3-b771-991783838486
DTSTART;VALUE=DATE:20260511
DTEND;VALUE=DATE:20260512
DESCRIPTION:
LOCATION:
SUMMARY:EOY Universal Screener Window Opens
END:VEVENT
BEGIN:VEVENT
DTSTAMP:20260422T210343Z
UID:7357aff8-d6fc-4e8b-8513-7a87529b74b8
DTSTART:20260511T173000
DTEND:20260511T213000
DESCRIPTION:
LOCATION:Boardroom
SUMMARY:Board Meeting
END:VEVENT
BEGIN:VEVENT
DTSTAMP:20260422T210343Z
UID:3f98c73e-d267-43ff-bc72-89ddc69e207b
DTSTART;VALUE=DATE:20260512
DTEND;VALUE=DATE:20260513
DESCRIPTION:
LOCATION:
SUMMARY:5th grade graduation practice 
END:VEVENT
BEGIN:VEVENT
DTSTAMP:20260422T210343Z
UID:498af3eb-b274-4a8b-a999-e0e2f30bddd7
DTSTART;VALUE=DATE:20260514
DTEND;VALUE=DATE:20260515
DESCRIPTION:
LOCATION:
SUMMARY:5th Grade Graduation
END:VEVENT
BEGIN:VEVENT
DTSTAMP:20260422T210343Z
UID:3d8ad970-508a-4b3e-82c4-dbb6afbbed22
DTSTART;VALUE=DATE:20260514
DTEND;VALUE=DATE:20260515
DESCRIPTION:
LOCATION:
SUMMARY:EOY Universal Screener Window Closes
END:VEVENT
BEGIN:VEVENT
DTSTAMP:20260422T210343Z
UID:82f2f0d8-8a8f-46eb-8979-ba0e409fe950
DTSTART;VALUE=DATE:20260519
DTEND;VALUE=DATE:20260520
DESCRIPTION:
LOCATION:
SUMMARY:Kindergarten Graduation 
END:VEVENT
BEGIN:VEVENT
DTSTAMP:20260422T210343Z
UID:ff6def1b-5e6e-4adf-81e6-279d2aa54850
DTSTART;VALUE=DATE:20260520
DTEND;VALUE=DATE:20260521
DESCRIPTION:
LOCATION:
SUMMARY:Awards Ceremony Day
END:VEVENT
BEGIN:VEVENT
DTSTAMP:20260422T210343Z
UID:0703b56e-9087-45f5-bc64-284e4b1a3304
DTSTART;VALUE=DATE:20260521
DTEND;VALUE=DATE:20260522
DESCRIPTION:
LOCATION:
SUMMARY:End of 4th Nine Weeks
END:VEVENT
BEGIN:VEVENT
DTSTAMP:20260422T210343Z
UID:309db4dc-0f4c-47f8-8f62-aaad1f32fa8a
DTSTART;VALUE=DATE:20260521
DTEND;VALUE=DATE:20260522
DESCRIPTION:
LOCATION:
SUMMARY:Last Day of School
END:VEVENT
BEGIN:VEVENT
DTSTAMP:20260422T210343Z
UID:39404518-6b1b-409c-841e-058da30ce211
DTSTART;VALUE=DATE:20260522
DTEND;VALUE=DATE:20260523
DESCRIPTION:
LOCATION:
SUMMARY:Staff 1/2 Day Work Day
END:VEVENT
BEGIN:VEVENT
DTSTAMP:20260422T210343Z
UID:0ed8b6d2-981a-4464-82ad-155af0db5c5a
DTSTART:20260608T173000
DTEND:20260608T213000
DESCRIPTION:
LOCATION:Boardroom
SUMMARY:Board Meeting
END:VEVENT
BEGIN:VEVENT
DTSTAMP:20260422T210343Z
UID:801682ab-2ec4-40ef-9d19-7df646706ac4
DTSTART:20260713T173000
DTEND:20260713T213000
DESCRIPTION:
LOCATION:Boardroom
SUMMARY:Board Meeting
END:VEVENT
BEGIN:VEVENT
DTSTAMP:20260422T210343Z
UID:19595857-32e3-4c76-9771-ff43fcc34909
DTSTART:20260810T173000
DTEND:20260810T213000
DESCRIPTION:
LOCATION:Boardroom
SUMMARY:Board Meeting
END:VEVENT
BEGIN:VEVENT
DTSTAMP:20260422T210343Z
UID:f3b79e4a-4fee-4ce6-8294-59694d818385
DTSTART:20260914T173000
DTEND:20260914T213000
DESCRIPTION:
LOCATION:Boardroom
SUMMARY:Board Meeting
END:VEVENT
BEGIN:VEVENT
DTSTAMP:20260422T210343Z
UID:63193fa8-c0f7-45aa-ae9d-aea945aeb182
DTSTART:20261012T173000
DTEND:20261012T213000
DESCRIPTION:
LOCATION:Boardroom
SUMMARY:Board Meeting
END:VEVENT
END:VCALENDAR
