BEGIN:VCALENDAR
VERSION:2.0
PRODID:icalendar-ruby
CALSCALE:GREGORIAN
BEGIN:VTIMEZONE
TZID:America/Chicago
BEGIN:DAYLIGHT
DTSTART:20260308T030000
TZOFFSETFROM:-0600
TZOFFSETTO:-0500
RRULE:FREQ=YEARLY;BYDAY=2SU;BYMONTH=3
TZNAME:CDT
END:DAYLIGHT
BEGIN:STANDARD
DTSTART:20261101T010000
TZOFFSETFROM:-0500
TZOFFSETTO:-0600
RRULE:FREQ=YEARLY;BYDAY=1SU;BYMONTH=11
TZNAME:CST
END:STANDARD
END:VTIMEZONE
BEGIN:VEVENT
DTSTAMP:20260425T165951Z
UID:40c96bfa-3fb1-4e6a-9095-438c495cfb6a
DTSTART;VALUE=DATE:20260425
DTEND;VALUE=DATE:20260426
DESCRIPTION:
LOCATION:
SUMMARY:Prom
END:VEVENT
BEGIN:VEVENT
DTSTAMP:20260425T165951Z
UID:5040efbf-4ad7-4bbc-a357-1cb85e036e06
DTSTART:20260428T190000
DTEND:20260428T210000
DESCRIPTION:
LOCATION:
SUMMARY:Senior Awards Night
END:VEVENT
BEGIN:VEVENT
DTSTAMP:20260425T165951Z
UID:9909749a-acb3-4f02-8ed7-75ff00925796
DTSTART:20260430T180000
DTEND:20260430T203000
DESCRIPTION:
LOCATION:
SUMMARY:One Act Performances
END:VEVENT
BEGIN:VEVENT
DTSTAMP:20260425T165951Z
UID:b48012f3-bc7d-4aff-8aaa-c28fe8c903c6
DTSTART;VALUE=DATE:20260501
DTEND;VALUE=DATE:20260502
DESCRIPTION:
LOCATION:
SUMMARY:MSHSAA State Solo & Ensemble
END:VEVENT
BEGIN:VEVENT
DTSTAMP:20260425T165951Z
UID:756e5672-8e86-4d8c-a64a-1c223add6c2d
DTSTART:20260505T190000
DTEND:20260505T210000
DESCRIPTION:
LOCATION:
SUMMARY:NMS/NHS Jazz Band
END:VEVENT
BEGIN:VEVENT
DTSTAMP:20260425T165951Z
UID:cda3eab2-08e7-42f5-98e8-a8d8c2a6fe41
DTSTART:20260507T190000
DTEND:20260507T203000
DESCRIPTION:
LOCATION:
SUMMARY:Orchestra Concert
END:VEVENT
BEGIN:VEVENT
DTSTAMP:20260425T165951Z
UID:430ae4f3-94f3-4ff9-bc07-d8beb5cb149f
DTSTART:20260512T190000
DTEND:20260512T203000
DESCRIPTION:
LOCATION:
SUMMARY:Band Concert
END:VEVENT
BEGIN:VEVENT
DTSTAMP:20260425T165951Z
UID:4af2bc14-a222-44f6-9440-3a709db778d1
DTSTART:20260514T190000
DTEND:20260514T210000
DESCRIPTION:
LOCATION:
SUMMARY:Choir Concert
END:VEVENT
END:VCALENDAR
