BEGIN:VCALENDAR
VERSION:2.0
PRODID:icalendar-ruby
CALSCALE:GREGORIAN
BEGIN:VTIMEZONE
TZID:America/New_York
BEGIN:DAYLIGHT
DTSTART:20260308T030000
TZOFFSETFROM:-0500
TZOFFSETTO:-0400
RRULE:FREQ=YEARLY;BYDAY=2SU;BYMONTH=3
TZNAME:EDT
END:DAYLIGHT
BEGIN:STANDARD
DTSTART:20261101T010000
TZOFFSETFROM:-0400
TZOFFSETTO:-0500
RRULE:FREQ=YEARLY;BYDAY=1SU;BYMONTH=11
TZNAME:EST
END:STANDARD
END:VTIMEZONE
BEGIN:VEVENT
DTSTAMP:20260423T153655Z
UID:e4b44f2c-3241-4fdf-8abb-0708fa0facc5
DTSTART;VALUE=DATE:20260423
DTEND;VALUE=DATE:20260424
DESCRIPTION:
LOCATION:
SUMMARY:ES Homework Club
END:VEVENT
BEGIN:VEVENT
DTSTAMP:20260423T153655Z
UID:95777db6-ef10-4898-9225-10b0695509e4
DTSTART;VALUE=DATE:20260423
DTEND;VALUE=DATE:20260424
DESCRIPTION:
LOCATION:
SUMMARY:Take Your Child to Work
END:VEVENT
BEGIN:VEVENT
DTSTAMP:20260423T153655Z
UID:d3d1d3c6-c74e-480f-8fde-0cc581f41cf0
DTSTART;VALUE=DATE:20260424
DTEND;VALUE=DATE:20260425
DESCRIPTION:
LOCATION:
SUMMARY:MS Spring Fling Dance
END:VEVENT
BEGIN:VEVENT
DTSTAMP:20260423T153655Z
UID:f10bbb4c-72f8-4e66-b804-9490c307c08a
DTSTART:20260427T183000
DTEND:20260427T193000
DESCRIPTION:
LOCATION:
SUMMARY:BOE Meeting
END:VEVENT
BEGIN:VEVENT
DTSTAMP:20260423T153655Z
UID:77d02664-7fc3-4009-9cc6-d523137e4464
DTSTART;VALUE=DATE:20260428
DTEND;VALUE=DATE:20260429
DESCRIPTION:
LOCATION:
SUMMARY:ES Homework Club
END:VEVENT
BEGIN:VEVENT
DTSTAMP:20260423T153655Z
UID:8436c242-56cd-432e-bcfe-24d7c31e550d
DTSTART;VALUE=DATE:20260429
DTEND;VALUE=DATE:20260430
DESCRIPTION:
LOCATION:
SUMMARY:MS Trep$
END:VEVENT
BEGIN:VEVENT
DTSTAMP:20260423T153655Z
UID:4025eef4-88e8-4c75-9194-c71a1bb180c9
DTSTART;VALUE=DATE:20260430
DTEND;VALUE=DATE:20260501
DESCRIPTION:
LOCATION:
SUMMARY:ES Homework Club
END:VEVENT
BEGIN:VEVENT
DTSTAMP:20260423T153655Z
UID:1eddda1e-47f6-438d-8a52-846a77bb31b5
DTSTART;VALUE=DATE:20260430
DTEND;VALUE=DATE:20260501
DESCRIPTION:
LOCATION:
SUMMARY:MS 7th Grade Field Trip
END:VEVENT
BEGIN:VEVENT
DTSTAMP:20260423T153655Z
UID:5a95fa9d-0611-4e61-b590-c74ff4f2f5e5
DTSTART;VALUE=DATE:20260501
DTEND;VALUE=DATE:20260502
DESCRIPTION:
LOCATION:
SUMMARY:MS GoHunterdon Walk to School
END:VEVENT
BEGIN:VEVENT
DTSTAMP:20260423T153655Z
UID:9b94fea4-3065-4f77-9119-bc7af86c73c6
DTSTART;VALUE=DATE:20260504
DTEND;VALUE=DATE:20260505
DESCRIPTION:
LOCATION:
SUMMARY:MS 5th Grade Field Trip
END:VEVENT
BEGIN:VEVENT
DTSTAMP:20260423T153655Z
UID:a6af16a2-480b-4c75-9bb9-d64209143865
DTSTART:20260504T183000
DTEND:20260504T193000
DESCRIPTION:
LOCATION:
SUMMARY:BOE Meeting 
END:VEVENT
BEGIN:VEVENT
DTSTAMP:20260423T153655Z
UID:318cad1d-319f-4c30-9036-0a4a70caff6c
DTSTART;VALUE=DATE:20260505
DTEND;VALUE=DATE:20260506
DESCRIPTION:
LOCATION:
SUMMARY:ES Homework Club
END:VEVENT
BEGIN:VEVENT
DTSTAMP:20260423T153655Z
UID:eeb397b3-93cf-4be6-ae95-5bb968a76c19
DTSTART;VALUE=DATE:20260505
DTEND;VALUE=DATE:20260506
DESCRIPTION:
LOCATION:
SUMMARY:ES Walk to School
END:VEVENT
BEGIN:VEVENT
DTSTAMP:20260423T153655Z
UID:8e98494b-bb12-497f-89e7-bb3dd7b48d61
DTSTART:20260505T120000
DTEND:20260505T130000
DESCRIPTION:
LOCATION:
SUMMARY:2nd Grade Field Trip
END:VEVENT
BEGIN:VEVENT
DTSTAMP:20260423T153655Z
UID:f0e564a5-c6ce-4d33-aaa8-f294e4958199
DTSTART;VALUE=DATE:20260506
DTEND;VALUE=DATE:20260507
DESCRIPTION:
LOCATION:
SUMMARY:MS Trep$
END:VEVENT
BEGIN:VEVENT
DTSTAMP:20260423T153655Z
UID:73684405-dab3-4dc4-8c92-b6182ddc21ea
DTSTART;VALUE=DATE:20260507
DTEND;VALUE=DATE:20260508
DESCRIPTION:
LOCATION:
SUMMARY:ES Homework Club
END:VEVENT
BEGIN:VEVENT
DTSTAMP:20260423T153655Z
UID:6bf2e2f4-54e5-407b-9a80-52b68210f951
DTSTART;VALUE=DATE:20260511
DTEND;VALUE=DATE:20260516
DESCRIPTION:
LOCATION:
SUMMARY:MS NJSLA Testing
END:VEVENT
BEGIN:VEVENT
DTSTAMP:20260423T153655Z
UID:07ad110a-c207-43ba-a4ff-9268f5e42eea
DTSTART:20260511T183000
DTEND:20260511T193000
DESCRIPTION:
LOCATION:
SUMMARY:BOE Meeting 
END:VEVENT
BEGIN:VEVENT
DTSTAMP:20260423T153655Z
UID:e41a3cd4-9b09-4e6d-b3dc-a15c9b62c93c
DTSTART;VALUE=DATE:20260512
DTEND;VALUE=DATE:20260513
DESCRIPTION:
LOCATION:
SUMMARY:ES Homework Club
END:VEVENT
BEGIN:VEVENT
DTSTAMP:20260423T153655Z
UID:4dad99e0-ca1f-45c4-91b2-8c945d71901b
DTSTART;VALUE=DATE:20260513
DTEND;VALUE=DATE:20260514
DESCRIPTION:
LOCATION:
SUMMARY:MS Trep$
END:VEVENT
BEGIN:VEVENT
DTSTAMP:20260423T153655Z
UID:885202b3-f509-482d-b7f3-fbe484dea522
DTSTART;VALUE=DATE:20260514
DTEND;VALUE=DATE:20260515
DESCRIPTION:
LOCATION:
SUMMARY:ES Homework Club
END:VEVENT
BEGIN:VEVENT
DTSTAMP:20260423T153655Z
UID:d338a77e-950b-4218-9ddf-94cf2c6f4629
DTSTART;VALUE=DATE:20260514
DTEND;VALUE=DATE:20260515
DESCRIPTION:
LOCATION:
SUMMARY:MS Unified
END:VEVENT
BEGIN:VEVENT
DTSTAMP:20260423T153655Z
UID:b2358072-3bf2-4b0b-8a15-473926f03049
DTSTART;VALUE=DATE:20260515
DTEND;VALUE=DATE:20260516
DESCRIPTION:
LOCATION:
SUMMARY:MS Trep$ Marketplace
END:VEVENT
BEGIN:VEVENT
DTSTAMP:20260423T153655Z
UID:2ab16ff7-7fe4-4e81-add3-871ec84cfb85
DTSTART;VALUE=DATE:20260518
DTEND;VALUE=DATE:20260519
DESCRIPTION:
LOCATION:
SUMMARY:MS GoHunterdon Game Show
END:VEVENT
BEGIN:VEVENT
DTSTAMP:20260423T153655Z
UID:5210f945-9992-40e7-b5a8-428ab035ba8c
DTSTART;VALUE=DATE:20260519
DTEND;VALUE=DATE:20260520
DESCRIPTION:
LOCATION:
SUMMARY:ES Homework Club
END:VEVENT
BEGIN:VEVENT
DTSTAMP:20260423T153655Z
UID:6fc2dd91-5e60-4f88-a8d1-46d475f329ac
DTSTART;VALUE=DATE:20260519
DTEND;VALUE=DATE:20260520
DESCRIPTION:
LOCATION:
SUMMARY:MS Trep$
END:VEVENT
BEGIN:VEVENT
DTSTAMP:20260423T153655Z
UID:b01fcc6c-04db-40d2-8950-cc15eb2bcd88
DTSTART;VALUE=DATE:20260519
DTEND;VALUE=DATE:20260520
DESCRIPTION:
LOCATION:
SUMMARY:Spring Concert (tentative date)
END:VEVENT
BEGIN:VEVENT
DTSTAMP:20260423T153655Z
UID:5cf2afe0-9561-4539-8e43-5fe5470c1a06
DTSTART;VALUE=DATE:20260520
DTEND;VALUE=DATE:20260523
DESCRIPTION:
LOCATION:
SUMMARY:MS 8th grade field trip
END:VEVENT
BEGIN:VEVENT
DTSTAMP:20260423T153655Z
UID:75f3138f-da20-48f1-96f7-7ada3ff34c8f
DTSTART;VALUE=DATE:20260521
DTEND;VALUE=DATE:20260522
DESCRIPTION:
LOCATION:
SUMMARY:ES Homework Club
END:VEVENT
BEGIN:VEVENT
DTSTAMP:20260423T153655Z
UID:ead4f9a2-358e-4330-ae2a-ccdb73e656a7
DTSTART;VALUE=DATE:20260525
DTEND;VALUE=DATE:20260526
DESCRIPTION:
LOCATION:
SUMMARY:No School 
END:VEVENT
BEGIN:VEVENT
DTSTAMP:20260423T153655Z
UID:f88f5a71-b9ff-430e-8a21-4446c180a879
DTSTART;VALUE=DATE:20260526
DTEND;VALUE=DATE:20260527
DESCRIPTION:
LOCATION:
SUMMARY:ES Homework Club
END:VEVENT
BEGIN:VEVENT
DTSTAMP:20260423T153655Z
UID:b0c82ee5-42f9-4d4d-93f2-d63004ead0c0
DTSTART:20260526T130000
DTEND:20260526T150000
DESCRIPTION:
LOCATION:
SUMMARY:ES Environmental Club River Trip
END:VEVENT
BEGIN:VEVENT
DTSTAMP:20260423T153655Z
UID:c05aa28c-6fe8-4b61-afe8-4407ea8dd87f
DTSTART;VALUE=DATE:20260528
DTEND;VALUE=DATE:20260529
DESCRIPTION:
LOCATION:
SUMMARY:ES Homework Club
END:VEVENT
BEGIN:VEVENT
DTSTAMP:20260423T153655Z
UID:a7a81c98-1cae-4b69-b29d-48b4f78a5983
DTSTART;VALUE=DATE:20260528
DTEND;VALUE=DATE:20260529
DESCRIPTION:
LOCATION:
SUMMARY:MS Unified
END:VEVENT
BEGIN:VEVENT
DTSTAMP:20260423T153655Z
UID:f943a9bf-329e-42bf-b177-fbde97769ce4
DTSTART;VALUE=DATE:20260529
DTEND;VALUE=DATE:20260530
DESCRIPTION:
LOCATION:
SUMMARY:MS Breakfast Social
END:VEVENT
BEGIN:VEVENT
DTSTAMP:20260423T153655Z
UID:8de54119-24f9-4839-ac7b-9e9c47c99252
DTSTART;VALUE=DATE:20260602
DTEND;VALUE=DATE:20260603
DESCRIPTION:
LOCATION:
SUMMARY:ES Homework Club
END:VEVENT
BEGIN:VEVENT
DTSTAMP:20260423T153655Z
UID:5ef2db15-320a-47bd-b2ca-ab9245c1ca78
DTSTART;VALUE=DATE:20260602
DTEND;VALUE=DATE:20260603
DESCRIPTION:
LOCATION:
SUMMARY:ES Walk to School
END:VEVENT
BEGIN:VEVENT
DTSTAMP:20260423T153655Z
UID:9718c88b-b42e-463b-a289-662093a36061
DTSTART;VALUE=DATE:20260604
DTEND;VALUE=DATE:20260605
DESCRIPTION:
LOCATION:
SUMMARY:ES Homework Club
END:VEVENT
BEGIN:VEVENT
DTSTAMP:20260423T153655Z
UID:413b05cf-37e8-47e0-94c3-358f096abc8d
DTSTART;VALUE=DATE:20260604
DTEND;VALUE=DATE:20260605
DESCRIPTION:
LOCATION:
SUMMARY:MS Field Day 
END:VEVENT
BEGIN:VEVENT
DTSTAMP:20260423T153655Z
UID:494f3924-a4de-415d-9991-df8cab354aaf
DTSTART;VALUE=DATE:20260605
DTEND;VALUE=DATE:20260606
DESCRIPTION:
LOCATION:
SUMMARY:MS Field Day Rain Date
END:VEVENT
BEGIN:VEVENT
DTSTAMP:20260423T153655Z
UID:772d06d8-69cd-4c47-a0ab-5750f3d9b0a1
DTSTART:20260608T140000
DTEND:20260608T150000
DESCRIPTION:
LOCATION:
SUMMARY:Kindergarten Proud Day
END:VEVENT
BEGIN:VEVENT
DTSTAMP:20260423T153655Z
UID:5e898837-be19-4c04-8ee4-dca5ea98c09c
DTSTART:20260608T183000
DTEND:20260608T193000
DESCRIPTION:
LOCATION:
SUMMARY:BOE Meeting 
END:VEVENT
BEGIN:VEVENT
DTSTAMP:20260423T153655Z
UID:8b3f68df-14d6-44d1-9266-d844793a0826
DTSTART;VALUE=DATE:20260609
DTEND;VALUE=DATE:20260610
DESCRIPTION:
LOCATION:
SUMMARY:ES Homework Club
END:VEVENT
BEGIN:VEVENT
DTSTAMP:20260423T153655Z
UID:fd606337-5e4f-4792-8785-64443fba7396
DTSTART;VALUE=DATE:20260611
DTEND;VALUE=DATE:20260612
DESCRIPTION:
LOCATION:
SUMMARY:ES Homework Club
END:VEVENT
BEGIN:VEVENT
DTSTAMP:20260423T153655Z
UID:eedac4bd-d1e5-4f7c-bebb-dc5eeea8e89b
DTSTART;VALUE=DATE:20260612
DTEND;VALUE=DATE:20260613
DESCRIPTION:
LOCATION:
SUMMARY:MS Tentative Graduation Date
END:VEVENT
BEGIN:VEVENT
DTSTAMP:20260423T153655Z
UID:2257fd54-b7b5-4d6e-bc50-fb0c223a21fb
DTSTART;VALUE=DATE:20260617
DTEND;VALUE=DATE:20260618
DESCRIPTION:
LOCATION:
SUMMARY:Last Day of School (Tentative) 
END:VEVENT
BEGIN:VEVENT
DTSTAMP:20260423T153655Z
UID:fb1c2101-a413-4834-8cd4-f1e42842e299
DTSTART:20260713T183000
DTEND:20260713T193000
DESCRIPTION:
LOCATION:
SUMMARY:BOE Meeting 
END:VEVENT
BEGIN:VEVENT
DTSTAMP:20260423T153655Z
UID:361ab94b-be31-4b3b-b4eb-8cc6ae64c20e
DTSTART:20260824T183000
DTEND:20260824T193000
DESCRIPTION:
LOCATION:
SUMMARY:BOE Meeting 
END:VEVENT
BEGIN:VEVENT
DTSTAMP:20260423T153655Z
UID:a2f917c2-9723-42e8-8850-22ba4110edf1
DTSTART:20260831T183000
DTEND:20260831T193000
DESCRIPTION:
LOCATION:
SUMMARY:BOE Meeting 
END:VEVENT
BEGIN:VEVENT
DTSTAMP:20260423T153655Z
UID:c7cd9d18-60e8-44d4-aaa9-7206c78162b1
DTSTART:20260914T183000
DTEND:20260914T193000
DESCRIPTION:
LOCATION:
SUMMARY:BOE Meeting 
END:VEVENT
BEGIN:VEVENT
DTSTAMP:20260423T153655Z
UID:3e828cae-1918-4990-b52c-febcf6089109
DTSTART:20260921T183000
DTEND:20260921T193000
DESCRIPTION:
LOCATION:
SUMMARY:BOE Meeting 
END:VEVENT
BEGIN:VEVENT
DTSTAMP:20260423T153655Z
UID:5c3f9325-f68f-45a7-965b-0ad231263b3b
DTSTART:20261005T183000
DTEND:20261005T193000
DESCRIPTION:
LOCATION:
SUMMARY:BOE Meeting 
END:VEVENT
BEGIN:VEVENT
DTSTAMP:20260423T153655Z
UID:8bef1f84-add0-48f9-aed4-a899a7916d0f
DTSTART:20261013T183000
DTEND:20261013T193000
DESCRIPTION:
LOCATION:
SUMMARY:BOE Meeting 
END:VEVENT
BEGIN:VEVENT
DTSTAMP:20260423T153655Z
UID:cad159cd-8f82-491f-b5ed-39112c888fb5
DTSTART:20261109T183000
DTEND:20261109T193000
DESCRIPTION:
LOCATION:
SUMMARY:BOE Meeting 
END:VEVENT
BEGIN:VEVENT
DTSTAMP:20260423T153655Z
UID:9f52e42f-315b-4bea-b43b-19be7ae77ac8
DTSTART:20261116T183000
DTEND:20261116T193000
DESCRIPTION:
LOCATION:
SUMMARY:BOE Meeting 
END:VEVENT
BEGIN:VEVENT
DTSTAMP:20260423T153655Z
UID:74338b93-a929-46c8-b0d9-98eb7976037b
DTSTART:20261207T183000
DTEND:20261207T193000
DESCRIPTION:
LOCATION:
SUMMARY:BOE Meeting 
END:VEVENT
BEGIN:VEVENT
DTSTAMP:20260423T153655Z
UID:4fa83fba-ef21-4bec-babe-2981a6eb74c8
DTSTART:20261214T183000
DTEND:20261214T193000
DESCRIPTION:
LOCATION:
SUMMARY:BOE Meeting 
END:VEVENT
BEGIN:VEVENT
DTSTAMP:20260423T153655Z
UID:be165052-37f8-4740-ba8f-6bd0887bf437
DTSTART:20270104T183000
DTEND:20270104T193000
DESCRIPTION:
LOCATION:
SUMMARY:BOE Meeting - Reorganization Meeting
END:VEVENT
END:VCALENDAR
