BEGIN:VCALENDAR
VERSION:2.0
PRODID:icalendar-ruby
CALSCALE:GREGORIAN
BEGIN:VTIMEZONE
TZID:America/Kentucky/Louisville
BEGIN:DAYLIGHT
DTSTART:20260308T030000
TZOFFSETFROM:-0500
TZOFFSETTO:-0400
RRULE:FREQ=YEARLY;BYDAY=2SU;BYMONTH=3
TZNAME:EDT
END:DAYLIGHT
BEGIN:STANDARD
DTSTART:20261101T010000
TZOFFSETFROM:-0400
TZOFFSETTO:-0500
RRULE:FREQ=YEARLY;BYDAY=1SU;BYMONTH=11
TZNAME:EST
END:STANDARD
END:VTIMEZONE
BEGIN:VEVENT
DTSTAMP:20260423T114659Z
UID:4df5bd3c-5fbb-4b4a-b910-6352c82fe3d5
DTSTART:20260427T170000
DTEND:20260427T180000
DESCRIPTION:
LOCATION:
SUMMARY:MNA/Medical Office Pinning Ceremony at ATC
END:VEVENT
BEGIN:VEVENT
DTSTAMP:20260423T114659Z
UID:2bc0ca56-2882-4250-8127-24ae25eb6e82
DTSTART;VALUE=DATE:20260508
DTEND;VALUE=DATE:20260509
DESCRIPTION:
LOCATION:
SUMMARY:Last Day of School for Students (Original)
END:VEVENT
END:VCALENDAR
