BEGIN:VCALENDAR
VERSION:2.0
PRODID:icalendar-ruby
CALSCALE:GREGORIAN
BEGIN:VTIMEZONE
TZID:America/Chicago
BEGIN:DAYLIGHT
DTSTART:20260308T030000
TZOFFSETFROM:-0600
TZOFFSETTO:-0500
RRULE:FREQ=YEARLY;BYDAY=2SU;BYMONTH=3
TZNAME:CDT
END:DAYLIGHT
BEGIN:STANDARD
DTSTART:20261101T010000
TZOFFSETFROM:-0500
TZOFFSETTO:-0600
RRULE:FREQ=YEARLY;BYDAY=1SU;BYMONTH=11
TZNAME:CST
END:STANDARD
END:VTIMEZONE
BEGIN:VEVENT
DTSTAMP:20260423T144925Z
UID:b236830e-9adb-422d-9e64-017f2abab7b2
DTSTART;VALUE=DATE:20260423
DTEND;VALUE=DATE:20260424
DESCRIPTION:
LOCATION:Dibble School District\, Blanchard\, OK 73010\, USA
SUMMARY:HS Baseball @Dibble Festival 
END:VEVENT
BEGIN:VEVENT
DTSTAMP:20260423T144925Z
UID:91579555-f17a-4c38-a3b4-bc9328c4176f
DTSTART:20260423T163000
DTEND:20260423T173000
DESCRIPTION:
LOCATION:
SUMMARY:JH Baseball @ Okarche
END:VEVENT
BEGIN:VEVENT
DTSTAMP:20260423T144925Z
UID:8d1054e4-eef2-408c-88cd-44555e886dc0
DTSTART;VALUE=DATE:20260424
DTEND;VALUE=DATE:20260425
DESCRIPTION:
LOCATION:Cashion\, OK 73016\, USA
SUMMARY:HS Skordle Relays 
END:VEVENT
BEGIN:VEVENT
DTSTAMP:20260423T144925Z
UID:2ce24f16-7bcf-492e-a6e5-7fe1f7047d1c
DTSTART:20260424T170000
DTEND:20260424T190000
DESCRIPTION:
LOCATION:Cashion High School Baseball Field\, 506 N 3rd St\, Cashion\, OK 7
 3016\, USA
SUMMARY:HS Baseball VS Morrison 
END:VEVENT
BEGIN:VEVENT
DTSTAMP:20260423T144925Z
UID:ed145f58-3b71-4e22-9058-92cae8b0eaac
DTSTART:20260424T170000
DTEND:20260424T180000
DESCRIPTION:
LOCATION:
SUMMARY:JH Baseball @ OKC Bronchos
END:VEVENT
BEGIN:VEVENT
DTSTAMP:20260423T144925Z
UID:ee03bffb-d72c-4575-a1c9-a56920e28c5a
DTSTART;VALUE=DATE:20260427
DTEND;VALUE=DATE:20260428
DESCRIPTION:
LOCATION:
SUMMARY:HS Boys Golf-Regional Tourn @TBD 
END:VEVENT
BEGIN:VEVENT
DTSTAMP:20260423T144925Z
UID:2e1b0afd-721d-4743-a024-9726d349577d
DTSTART:20260427T170000
DTEND:20260427T190000
DESCRIPTION:
LOCATION:Oklahoma Christian Academy\, 1101 E 9th St\, Edmond\, OK 73034\, U
 SA
SUMMARY:HS Baseball @OCA 
END:VEVENT
BEGIN:VEVENT
DTSTAMP:20260423T144925Z
UID:fae2779d-dda8-4d77-8400-ad7437b38023
DTSTART:20260428T163000
DTEND:20260428T173000
DESCRIPTION:
LOCATION:
SUMMARY:JH Baseball @ Hennessey
END:VEVENT
BEGIN:VEVENT
DTSTAMP:20260423T144925Z
UID:fa58149b-8cae-4087-94b6-fe48d4eb5bb4
DTSTART:20260428T170000
DTEND:20260428T190000
DESCRIPTION:
LOCATION:Cashion High School Baseball Field\, 506 N 3rd St\, Cashion\, OK 7
 3016\, USA
SUMMARY:HS Baseball VS Sayre *Senior Night 
END:VEVENT
BEGIN:VEVENT
DTSTAMP:20260423T144925Z
UID:0e2894f0-f272-4ee6-bdb2-d7f188b5f948
DTSTART:20260430T170000
DTEND:20260430T190000
DESCRIPTION:
LOCATION:Cashion High School Baseball Field\, 506 N 3rd St\, Cashion\, OK 7
 3016\, USA
SUMMARY:HS Baseball vs Luther 
END:VEVENT
BEGIN:VEVENT
DTSTAMP:20260423T144925Z
UID:1a12f3d1-ba47-420e-91ff-2f04b5fbd022
DTSTART:20260501T170000
DTEND:20260501T190000
DESCRIPTION:
LOCATION:Edmond Santa Fe High School\, 1901 W 15th St\, Edmond\, OK 73013\,
  USA
SUMMARY:HS Baseball @Edmond Santa Fe 
END:VEVENT
BEGIN:VEVENT
DTSTAMP:20260423T144925Z
UID:e0fc1431-040f-417b-8d19-1901b84987c6
DTSTART;VALUE=DATE:20260502
DTEND;VALUE=DATE:20260503
DESCRIPTION:
LOCATION:TBA
SUMMARY:HS Track Regionals @TBA
END:VEVENT
BEGIN:VEVENT
DTSTAMP:20260423T144925Z
UID:688e118c-25fa-4c09-aaf4-beb9e916e674
DTSTART;VALUE=DATE:20260504
DTEND;VALUE=DATE:20260505
DESCRIPTION:
LOCATION:
SUMMARY:HS Baseball (open) 
END:VEVENT
BEGIN:VEVENT
DTSTAMP:20260423T144925Z
UID:2b7cf535-6240-4f2a-89e8-8bbff13cad30
DTSTART;VALUE=DATE:20260504
DTEND;VALUE=DATE:20260506
DESCRIPTION:
LOCATION:
SUMMARY:HS Girls Golf-State Tourn @TBD
END:VEVENT
BEGIN:VEVENT
DTSTAMP:20260423T144925Z
UID:c626d3d0-189f-41f9-ac4d-2ac8f687d33f
DTSTART:20260504T143000
DTEND:20260504T163000
DESCRIPTION:HS PHYSICALS START 7TH HOUR AT 2:30\nJH PHYSICALS START RIGHT A
 FTER SCHOOL
LOCATION:FIELDHOUSE
SUMMARY:Sports Physicals 
END:VEVENT
BEGIN:VEVENT
DTSTAMP:20260423T144925Z
UID:6d76ce7b-f525-4a42-964c-d37c365ebdb3
DTSTART;VALUE=DATE:20260507
DTEND;VALUE=DATE:20260509
DESCRIPTION:
LOCATION:Cashion High School Baseball Field\, 506 N 3rd St\, Cashion\, OK 7
 3016\, USA
SUMMARY:HS Baseball Regional Tournament 
END:VEVENT
BEGIN:VEVENT
DTSTAMP:20260423T144925Z
UID:0a2a2c4a-4b5b-459a-a897-f4dbc98f553f
DTSTART;VALUE=DATE:20260508
DTEND;VALUE=DATE:20260510
DESCRIPTION:
LOCATION:Western Heights High School\, 8201 SW 44th St\, Oklahoma City\, OK
  73179\, USA
SUMMARY:HS State Track Meet @Western Heights 
END:VEVENT
BEGIN:VEVENT
DTSTAMP:20260423T144925Z
UID:40307503-0266-4892-87c7-5451fe51c9a6
DTSTART;VALUE=DATE:20260511
DTEND;VALUE=DATE:20260513
DESCRIPTION:
LOCATION:
SUMMARY:HS Boys Golf-State Tourn @TBD 
END:VEVENT
BEGIN:VEVENT
DTSTAMP:20260423T144925Z
UID:a5121b16-8224-4046-84a6-463ea04b575d
DTSTART;VALUE=DATE:20260514
DTEND;VALUE=DATE:20260517
DESCRIPTION:
LOCATION:TBA
SUMMARY:HS Baseball State Tournament 
END:VEVENT
END:VCALENDAR
