BEGIN:VCALENDAR
VERSION:2.0
PRODID:icalendar-ruby
CALSCALE:GREGORIAN
BEGIN:VTIMEZONE
TZID:America/Chicago
BEGIN:DAYLIGHT
DTSTART:20260308T030000
TZOFFSETFROM:-0600
TZOFFSETTO:-0500
RRULE:FREQ=YEARLY;BYDAY=2SU;BYMONTH=3
TZNAME:CDT
END:DAYLIGHT
BEGIN:STANDARD
DTSTART:20261101T010000
TZOFFSETFROM:-0500
TZOFFSETTO:-0600
RRULE:FREQ=YEARLY;BYDAY=1SU;BYMONTH=11
TZNAME:CST
END:STANDARD
END:VTIMEZONE
BEGIN:VEVENT
DTSTAMP:20260419T212131Z
UID:9c66956f-4348-460e-acb4-47473d8bfeb7
DTSTART;VALUE=DATE:20260420
DTEND;VALUE=DATE:20260421
DESCRIPTION:
LOCATION:
SUMMARY:3rd & 4th Reading ATLAS Summative Assessment (district-wide) 
END:VEVENT
BEGIN:VEVENT
DTSTAMP:20260419T212131Z
UID:a703aa9d-8709-43a7-bf23-d7a01d30dc52
DTSTART;VALUE=DATE:20260421
DTEND;VALUE=DATE:20260422
DESCRIPTION:
LOCATION:
SUMMARY:3rd & 4th Writing ATLAS Summative Assessment (district-wide) 
END:VEVENT
BEGIN:VEVENT
DTSTAMP:20260419T212131Z
UID:d91397ea-716b-4979-bf5d-c0d0c370879a
DTSTART;VALUE=DATE:20260422
DTEND;VALUE=DATE:20260423
DESCRIPTION:
LOCATION:
SUMMARY:3rd & 4th Math ATLAS Summative Assessment (district-wide) 
END:VEVENT
BEGIN:VEVENT
DTSTAMP:20260419T212131Z
UID:99ca8b1d-e24f-49ed-9b77-e3c0117c272f
DTSTART;VALUE=DATE:20260423
DTEND;VALUE=DATE:20260424
DESCRIPTION:
LOCATION:
SUMMARY:3rd & 4th Science ATLAS Summative Assessment (district-wide) 
END:VEVENT
BEGIN:VEVENT
DTSTAMP:20260419T212131Z
UID:eeb942b3-01f7-4284-888e-23afba8fb682
DTSTART;VALUE=DATE:20260427
DTEND;VALUE=DATE:20260428
DESCRIPTION:
LOCATION:
SUMMARY:5th & 6th Reading ATLAS Summative Assessment (district-wide) 
END:VEVENT
BEGIN:VEVENT
DTSTAMP:20260419T212131Z
UID:1d278420-fb80-4dfa-a646-d70b1c8fba8d
DTSTART;VALUE=DATE:20260428
DTEND;VALUE=DATE:20260429
DESCRIPTION:
LOCATION:
SUMMARY:5th & 6th Writing ATLAS Summative Assessment (district-wide) 
END:VEVENT
BEGIN:VEVENT
DTSTAMP:20260419T212131Z
UID:2171c511-c609-4d97-9a00-76bd92466fc4
DTSTART;VALUE=DATE:20260429
DTEND;VALUE=DATE:20260430
DESCRIPTION:
LOCATION:
SUMMARY:5th & 6th Math ATLAS Summative Assessment (district-wide) 
END:VEVENT
BEGIN:VEVENT
DTSTAMP:20260419T212131Z
UID:3067e2d4-e8c7-4780-b844-8cd46300d011
DTSTART;VALUE=DATE:20260430
DTEND;VALUE=DATE:20260501
DESCRIPTION:
LOCATION:
SUMMARY:5th & 6th Science ATLAS Summative Assessment (district-wide) 
END:VEVENT
BEGIN:VEVENT
DTSTAMP:20260419T212131Z
UID:081a3230-32d0-4355-adea-4dba13357d64
DTSTART;VALUE=DATE:20260504
DTEND;VALUE=DATE:20260506
DESCRIPTION:
LOCATION:
SUMMARY:1st grade Literacy ATLAS Summative Assessment (Southwood) 
END:VEVENT
BEGIN:VEVENT
DTSTAMP:20260419T212131Z
UID:dca75b98-d1bf-4b44-bbce-42826ec2bc81
DTSTART;VALUE=DATE:20260506
DTEND;VALUE=DATE:20260507
DESCRIPTION:
LOCATION:
SUMMARY:1st grade Math ATLAS Summative Assessment (Southwood) 
END:VEVENT
BEGIN:VEVENT
DTSTAMP:20260419T212131Z
UID:52562612-45fa-4b31-8333-206d9ad14d65
DTSTART;VALUE=DATE:20260511
DTEND;VALUE=DATE:20260513
DESCRIPTION:
LOCATION:
SUMMARY:2nd grade Literacy ATLAS Summative Assessment (Southwood)
END:VEVENT
BEGIN:VEVENT
DTSTAMP:20260419T212131Z
UID:f6172378-a608-4e04-bf9a-a1be698f0008
DTSTART;VALUE=DATE:20260511
DTEND;VALUE=DATE:20260516
DESCRIPTION:<p>Pine Bluff School District Needs Reading Volunteers!</p><p>T
 he Pine Bluff School District is seeking community volunteers to share the
  joy of reading with our students each month. As a reading volunteer\, you
 ’ll have the opportunity to:</p><p> Read grade-level books with students
 </p><p> Share how reading impacts your career and daily life</p><p> Inspir
 e a love for reading in the next generation</p><p>Your time and voice can 
 make a powerful difference!</p><p>If you are interested in becoming a mont
 hly reading volunteer\, please click the link to sign up.</p><p>Together\,
  we can help our students see the power and importance of being lifelong r
 eaders. </p><p><a target="_blank" rel="noopener noreferrer nofollow" href=
 "https://forms.gle/eENF1tCELCiiCHqX7"><strong>https://forms.gle/eENF1tCELC
 iiCHqX7</strong></a></p>
LOCATION:
SUMMARY:Leader Readers Week
END:VEVENT
BEGIN:VEVENT
DTSTAMP:20260419T212131Z
UID:5d7d1df9-59e8-4ba4-9c10-fb393a3fd040
DTSTART;VALUE=DATE:20260513
DTEND;VALUE=DATE:20260514
DESCRIPTION:
LOCATION:
SUMMARY:2nd grade Math ATLAS Summative Assessment (Southwood)
END:VEVENT
BEGIN:VEVENT
DTSTAMP:20260419T212131Z
UID:409c7ae4-0419-4746-a980-a8aa44491fed
DTSTART;VALUE=DATE:20260521
DTEND;VALUE=DATE:20260527
DESCRIPTION:<p><span>No School: The Pine Bluff School District will observe
  Memorial Day Break Thursday\, May 21\, 2026 - Tuesday\, May 26\, 2026. Cl
 asses will resume on Wednesday\, May 27\, 2026.</span></p>
LOCATION:
SUMMARY:No School: Memorial Day Break
END:VEVENT
BEGIN:VEVENT
DTSTAMP:20260419T212131Z
UID:d53e6834-0723-4eef-88f3-f20e03a3504e
DTSTART;VALUE=DATE:20260521
DTEND;VALUE=DATE:20260523
DESCRIPTION:
LOCATION:
SUMMARY:Inclement Weather Make-Up Days (if needed)
END:VEVENT
BEGIN:VEVENT
DTSTAMP:20260419T212131Z
UID:7622dd24-2bc8-444d-9d6f-ebaa2f4c3050
DTSTART;VALUE=DATE:20260605
DTEND;VALUE=DATE:20260606
DESCRIPTION:
LOCATION:
SUMMARY:End of 4th Quarter
END:VEVENT
BEGIN:VEVENT
DTSTAMP:20260419T212131Z
UID:10d026da-5abf-4490-8682-db00be9e396f
DTSTART;VALUE=DATE:20260605
DTEND;VALUE=DATE:20260606
DESCRIPTION:
LOCATION:
SUMMARY:Students' Last Day of School
END:VEVENT
BEGIN:VEVENT
DTSTAMP:20260419T212131Z
UID:49087450-294c-4a5d-a1d1-4793e4a53103
DTSTART;VALUE=DATE:20260608
DTEND;VALUE=DATE:20260609
DESCRIPTION:
LOCATION:
SUMMARY:Staff PD Day (no students)
END:VEVENT
BEGIN:VEVENT
DTSTAMP:20260419T212131Z
UID:562688cd-b3fd-42f0-861d-8ef60f2bade6
DTSTART;VALUE=DATE:20260729
DTEND;VALUE=DATE:20260801
DESCRIPTION:
LOCATION:
SUMMARY:Staff PD Days (no students)
END:VEVENT
BEGIN:VEVENT
DTSTAMP:20260419T212131Z
UID:a8555258-3fc4-41be-b16e-479d29720442
DTSTART;VALUE=DATE:20260803
DTEND;VALUE=DATE:20260804
DESCRIPTION:
LOCATION:
SUMMARY:Students' First Day
END:VEVENT
BEGIN:VEVENT
DTSTAMP:20260419T212131Z
UID:1e16951a-2fcc-456e-9ff0-b38de76e3ad8
DTSTART;VALUE=DATE:20260831
DTEND;VALUE=DATE:20260901
DESCRIPTION:
LOCATION:
SUMMARY:Staff PD Day (no students)
END:VEVENT
BEGIN:VEVENT
DTSTAMP:20260419T212131Z
UID:f4c61212-719a-4dfa-b0d8-7e9c5e3a37b5
DTSTART;VALUE=DATE:20260831
DTEND;VALUE=DATE:20260908
DESCRIPTION:
LOCATION:
SUMMARY:No School: Labor Day Break
END:VEVENT
BEGIN:VEVENT
DTSTAMP:20260419T212131Z
UID:3178c668-e51b-4159-94cd-e514ef491c7c
DTSTART;VALUE=DATE:20260908
DTEND;VALUE=DATE:20260909
DESCRIPTION:
LOCATION:
SUMMARY:Early Dismissal & Parent Teacher Conferences
END:VEVENT
BEGIN:VEVENT
DTSTAMP:20260419T212131Z
UID:7cb02ff1-fbe5-417f-82fd-7a7e7c7aef1f
DTSTART;VALUE=DATE:20261009
DTEND;VALUE=DATE:20261010
DESCRIPTION:
LOCATION:
SUMMARY:End of 1st Quarter
END:VEVENT
BEGIN:VEVENT
DTSTAMP:20260419T212131Z
UID:a6f99c68-93de-41e3-82fc-45d067da8d71
DTSTART;VALUE=DATE:20261014
DTEND;VALUE=DATE:20261015
DESCRIPTION:
LOCATION:
SUMMARY:Staff PD Day (no students)
END:VEVENT
BEGIN:VEVENT
DTSTAMP:20260419T212131Z
UID:10f79181-ad38-4554-ad24-d3f743f8cdcc
DTSTART;VALUE=DATE:20261014
DTEND;VALUE=DATE:20261021
DESCRIPTION:
LOCATION:
SUMMARY:No School: Fall Break
END:VEVENT
BEGIN:VEVENT
DTSTAMP:20260419T212131Z
UID:17dca970-f833-4ce9-bf02-bc87769d63ee
DTSTART;VALUE=DATE:20261021
DTEND;VALUE=DATE:20261022
DESCRIPTION:
LOCATION:
SUMMARY:Classes Resume
END:VEVENT
BEGIN:VEVENT
DTSTAMP:20260419T212131Z
UID:2c87333f-6e2a-4ada-9a67-303af06d8cdb
DTSTART;VALUE=DATE:20261123
DTEND;VALUE=DATE:20261128
DESCRIPTION:
LOCATION:
SUMMARY:No School: Thanksgiving Break
END:VEVENT
BEGIN:VEVENT
DTSTAMP:20260419T212131Z
UID:8c15ebfc-3221-46e3-862a-cc562fe287bf
DTSTART;VALUE=DATE:20261130
DTEND;VALUE=DATE:20261201
DESCRIPTION:
LOCATION:
SUMMARY:Classes Resume
END:VEVENT
BEGIN:VEVENT
DTSTAMP:20260419T212131Z
UID:c5c0ba62-4e6b-4810-9c47-97a908c264de
DTSTART;VALUE=DATE:20261218
DTEND;VALUE=DATE:20261219
DESCRIPTION:
LOCATION:
SUMMARY:End of 2nd Quarter
END:VEVENT
BEGIN:VEVENT
DTSTAMP:20260419T212131Z
UID:2639c631-6eb9-471d-a58c-b7cb163c472b
DTSTART;VALUE=DATE:20261221
DTEND;VALUE=DATE:20270107
DESCRIPTION:
LOCATION:
SUMMARY:No School: Christmas Break  and New Year's Break
END:VEVENT
BEGIN:VEVENT
DTSTAMP:20260419T212131Z
UID:8da3dcfe-d892-4751-930e-299bdd5bd05f
DTSTART;VALUE=DATE:20270104
DTEND;VALUE=DATE:20270107
DESCRIPTION:
LOCATION:
SUMMARY:Staff PD Days (no students)
END:VEVENT
BEGIN:VEVENT
DTSTAMP:20260419T212131Z
UID:58b65e94-d3be-4add-aabf-a9d11d704390
DTSTART;VALUE=DATE:20270107
DTEND;VALUE=DATE:20270108
DESCRIPTION:
LOCATION:
SUMMARY:Students' First Day Back
END:VEVENT
BEGIN:VEVENT
DTSTAMP:20260419T212131Z
UID:88264669-8f3c-40aa-b1e9-4333f3aec122
DTSTART;VALUE=DATE:20270118
DTEND;VALUE=DATE:20270119
DESCRIPTION:
LOCATION:
SUMMARY:No School: MLK Day
END:VEVENT
BEGIN:VEVENT
DTSTAMP:20260419T212131Z
UID:5b3ae6ec-92c3-4714-8ad8-da4604089fe0
DTSTART;VALUE=DATE:20270209
DTEND;VALUE=DATE:20270210
DESCRIPTION:
LOCATION:
SUMMARY:Early Dismissal & Parent Teacher Conferences
END:VEVENT
BEGIN:VEVENT
DTSTAMP:20260419T212131Z
UID:6635860e-20bb-4b07-8032-4b1e1e814f54
DTSTART;VALUE=DATE:20270215
DTEND;VALUE=DATE:20270217
DESCRIPTION:
LOCATION:
SUMMARY:No School: Winter Break
END:VEVENT
BEGIN:VEVENT
DTSTAMP:20260419T212131Z
UID:8d52e2f9-ae95-45a5-9ea1-16ef7343b3e5
DTSTART;VALUE=DATE:20270217
DTEND;VALUE=DATE:20270218
DESCRIPTION:
LOCATION:
SUMMARY:Classes Resume
END:VEVENT
BEGIN:VEVENT
DTSTAMP:20260419T212131Z
UID:c1f3c3e5-e1fd-4361-841a-b5641bcb32ce
DTSTART;VALUE=DATE:20270319
DTEND;VALUE=DATE:20270320
DESCRIPTION:
LOCATION:
SUMMARY:End of 3rd Quarter
END:VEVENT
BEGIN:VEVENT
DTSTAMP:20260419T212131Z
UID:071d4402-f4fa-443a-af44-4e365efd2ece
DTSTART;VALUE=DATE:20270322
DTEND;VALUE=DATE:20270330
DESCRIPTION:
LOCATION:
SUMMARY:No School: Spring Break
END:VEVENT
BEGIN:VEVENT
DTSTAMP:20260419T212131Z
UID:74c0efe1-fd9e-471c-88d6-25768bfd5daf
DTSTART;VALUE=DATE:20270329
DTEND;VALUE=DATE:20270330
DESCRIPTION:
LOCATION:
SUMMARY:Staff PD Day (no students)
END:VEVENT
BEGIN:VEVENT
DTSTAMP:20260419T212131Z
UID:def37411-068b-49f3-8715-5f3ba7316dbf
DTSTART;VALUE=DATE:20270330
DTEND;VALUE=DATE:20270331
DESCRIPTION:
LOCATION:
SUMMARY:Classes Resume
END:VEVENT
BEGIN:VEVENT
DTSTAMP:20260419T212131Z
UID:2eaad8dc-e338-411a-9226-bce88fd2004a
DTSTART;VALUE=DATE:20270428
DTEND;VALUE=DATE:20270501
DESCRIPTION:
LOCATION:
SUMMARY:No School: S.E.L. Days
END:VEVENT
BEGIN:VEVENT
DTSTAMP:20260419T212131Z
UID:7b2eefaa-7c9e-4a5d-856f-a2d36d16dfb3
DTSTART;VALUE=DATE:20270503
DTEND;VALUE=DATE:20270504
DESCRIPTION:
LOCATION:
SUMMARY:Classes Resume
END:VEVENT
BEGIN:VEVENT
DTSTAMP:20260419T212131Z
UID:bc5fa57c-8244-4df2-939a-b746db200264
DTSTART;VALUE=DATE:20270531
DTEND;VALUE=DATE:20270601
DESCRIPTION:
LOCATION:
SUMMARY:No School: Memorial Day
END:VEVENT
BEGIN:VEVENT
DTSTAMP:20260419T212131Z
UID:411ca4e0-7eae-476a-abc1-4101389a904d
DTSTART;VALUE=DATE:20270604
DTEND;VALUE=DATE:20270605
DESCRIPTION:
LOCATION:
SUMMARY:Students' Last Day & End of 4th Quarter
END:VEVENT
BEGIN:VEVENT
DTSTAMP:20260419T212131Z
UID:5deeaf69-c933-4325-ba56-2ab1786203f8
DTSTART;VALUE=DATE:20270607
DTEND;VALUE=DATE:20270608
DESCRIPTION:
LOCATION:
SUMMARY:Staff PD Day (no students)
END:VEVENT
END:VCALENDAR
