BEGIN:VCALENDAR
VERSION:2.0
PRODID:icalendar-ruby
CALSCALE:GREGORIAN
BEGIN:VTIMEZONE
TZID:America/New_York
BEGIN:DAYLIGHT
DTSTART:20260308T030000
TZOFFSETFROM:-0500
TZOFFSETTO:-0400
RRULE:FREQ=YEARLY;BYDAY=2SU;BYMONTH=3
TZNAME:EDT
END:DAYLIGHT
BEGIN:STANDARD
DTSTART:20261101T010000
TZOFFSETFROM:-0400
TZOFFSETTO:-0500
RRULE:FREQ=YEARLY;BYDAY=1SU;BYMONTH=11
TZNAME:EST
END:STANDARD
END:VTIMEZONE
BEGIN:VEVENT
DTSTAMP:20260419T164111Z
UID:19065d0a-29d8-4c5a-8fad-a5b15b3ed88a
DTSTART;VALUE=DATE:20260421
DTEND;VALUE=DATE:20260422
DESCRIPTION:
LOCATION:
SUMMARY:State Writing Assessment 
END:VEVENT
BEGIN:VEVENT
DTSTAMP:20260419T164111Z
UID:61000142-aea7-48e4-9c91-b900ac6ade53
DTSTART;VALUE=DATE:20260423
DTEND;VALUE=DATE:20260424
DESCRIPTION:
LOCATION:
SUMMARY:Purple Up Day- Wear Purple 
END:VEVENT
BEGIN:VEVENT
DTSTAMP:20260419T164111Z
UID:f7a0c7a6-6600-4962-8118-d4b0acdb6b30
DTSTART:20260424T180000
DTEND:20260424T190000
DESCRIPTION:
LOCATION:
SUMMARY:Grade 5 Happy Campers Family Dance
END:VEVENT
BEGIN:VEVENT
DTSTAMP:20260419T164111Z
UID:1082044d-4d97-4777-9572-e3a6d995441e
DTSTART;VALUE=DATE:20260427
DTEND;VALUE=DATE:20260428
DESCRIPTION:
LOCATION:
SUMMARY:Grades 4-5 BizTown
END:VEVENT
BEGIN:VEVENT
DTSTAMP:20260419T164111Z
UID:799c48ab-f6ca-4178-a968-de1474853029
DTSTART;VALUE=DATE:20260428
DTEND;VALUE=DATE:20260429
DESCRIPTION:
LOCATION:
SUMMARY:WV State Social Studies Fair 
END:VEVENT
END:VCALENDAR
