BEGIN:VCALENDAR
VERSION:2.0
PRODID:icalendar-ruby
CALSCALE:GREGORIAN
BEGIN:VTIMEZONE
TZID:America/New_York
BEGIN:DAYLIGHT
DTSTART:20260308T030000
TZOFFSETFROM:-0500
TZOFFSETTO:-0400
RRULE:FREQ=YEARLY;BYDAY=2SU;BYMONTH=3
TZNAME:EDT
END:DAYLIGHT
BEGIN:STANDARD
DTSTART:20261101T010000
TZOFFSETFROM:-0400
TZOFFSETTO:-0500
RRULE:FREQ=YEARLY;BYDAY=1SU;BYMONTH=11
TZNAME:EST
END:STANDARD
END:VTIMEZONE
BEGIN:VEVENT
DTSTAMP:20260419T164041Z
UID:0c65ce7c-3d61-4e69-98d0-7709ed1ea076
DTSTART;VALUE=DATE:20260423
DTEND;VALUE=DATE:20260424
DESCRIPTION:
LOCATION:
SUMMARY:Special Olympics
END:VEVENT
BEGIN:VEVENT
DTSTAMP:20260419T164041Z
UID:87dfaeba-01e2-48b8-987b-861d20bbd450
DTSTART;VALUE=DATE:20260424
DTEND;VALUE=DATE:20260425
DESCRIPTION:
LOCATION:
SUMMARY:Interim Reports
END:VEVENT
BEGIN:VEVENT
DTSTAMP:20260419T164041Z
UID:7fcaf4d3-8391-46e9-956b-3b9b6a463d06
DTSTART;VALUE=DATE:20260427
DTEND;VALUE=DATE:20260428
DESCRIPTION:
LOCATION:
SUMMARY:3rd Grade Field Trip - Schrader Environmental Center
END:VEVENT
BEGIN:VEVENT
DTSTAMP:20260419T164041Z
UID:74529d36-d1c1-40a2-9c7a-fc661163ab10
DTSTART;VALUE=DATE:20260428
DTEND;VALUE=DATE:20260429
DESCRIPTION:
LOCATION:
SUMMARY:WV State Social Studies Fair
END:VEVENT
BEGIN:VEVENT
DTSTAMP:20260419T164041Z
UID:70da24d5-1c97-436c-80d0-82138d440015
DTSTART:20260504T170000
DTEND:20260504T180000
DESCRIPTION:
LOCATION:
SUMMARY:TEAM Meeting
END:VEVENT
BEGIN:VEVENT
DTSTAMP:20260419T164041Z
UID:09af8c1d-b772-4bad-952b-1caa4116ca3b
DTSTART;VALUE=DATE:20260512
DTEND;VALUE=DATE:20260513
DESCRIPTION:
LOCATION:
SUMMARY:Election Day - No School for Students
END:VEVENT
BEGIN:VEVENT
DTSTAMP:20260419T164041Z
UID:fed07427-a657-4097-acd6-4d7a48b36cf2
DTSTART;VALUE=DATE:20260515
DTEND;VALUE=DATE:20260516
DESCRIPTION:
LOCATION:
SUMMARY:Last Day of School for Pre-K
END:VEVENT
BEGIN:VEVENT
DTSTAMP:20260419T164041Z
UID:0dc5ada0-a5b4-4058-9f57-ac901a50a237
DTSTART;VALUE=DATE:20260519
DTEND;VALUE=DATE:20260520
DESCRIPTION:
LOCATION:
SUMMARY:Fun Day - Highlands Sports Complex
END:VEVENT
BEGIN:VEVENT
DTSTAMP:20260419T164041Z
UID:a2ddc521-4c39-47fc-9869-243efba1e518
DTSTART;VALUE=DATE:20260522
DTEND;VALUE=DATE:20260523
DESCRIPTION:
LOCATION:
SUMMARY:Last Day of School for Students
END:VEVENT
END:VCALENDAR
