BEGIN:VCALENDAR
VERSION:2.0
PRODID:icalendar-ruby
CALSCALE:GREGORIAN
BEGIN:VTIMEZONE
TZID:America/New_York
BEGIN:DAYLIGHT
DTSTART:20260308T030000
TZOFFSETFROM:-0500
TZOFFSETTO:-0400
RRULE:FREQ=YEARLY;BYDAY=2SU;BYMONTH=3
TZNAME:EDT
END:DAYLIGHT
BEGIN:STANDARD
DTSTART:20261101T010000
TZOFFSETFROM:-0400
TZOFFSETTO:-0500
RRULE:FREQ=YEARLY;BYDAY=1SU;BYMONTH=11
TZNAME:EST
END:STANDARD
END:VTIMEZONE
BEGIN:VEVENT
DTSTAMP:20260419T175438Z
UID:35004fb1-ae11-4cb0-8edb-71570b604aff
DTSTART;VALUE=DATE:20260420
DTEND;VALUE=DATE:20260421
DESCRIPTION:
LOCATION:
SUMMARY:Interim 4
END:VEVENT
BEGIN:VEVENT
DTSTAMP:20260419T175438Z
UID:3115ed04-a872-432f-b773-436280492bdd
DTSTART;VALUE=DATE:20260421
DTEND;VALUE=DATE:20260422
DESCRIPTION:
LOCATION:
SUMMARY:3-5 GSA Writing
END:VEVENT
BEGIN:VEVENT
DTSTAMP:20260419T175438Z
UID:72b391ee-a34f-4c99-a798-674cce935398
DTSTART:20260421T150000
DTEND:20260421T160000
DESCRIPTION:
LOCATION:
SUMMARY:LSIC
END:VEVENT
BEGIN:VEVENT
DTSTAMP:20260419T175438Z
UID:faa5461f-307b-4086-9c32-624ad522513e
DTSTART;VALUE=DATE:20260423
DTEND;VALUE=DATE:20260424
DESCRIPTION:
LOCATION:
SUMMARY:Special Olympics @ JMHS
END:VEVENT
BEGIN:VEVENT
DTSTAMP:20260419T175438Z
UID:ed1b212a-0215-471d-890b-aef93d5c4239
DTSTART;VALUE=DATE:20260428
DTEND;VALUE=DATE:20260429
DESCRIPTION:
LOCATION:
SUMMARY:State Social Studies Fair-Charleston
END:VEVENT
BEGIN:VEVENT
DTSTAMP:20260419T175438Z
UID:98f1c1da-fa61-4356-bee9-01052a830db2
DTSTART:20260508T090000
DTEND:20260508T103000
DESCRIPTION:
LOCATION:
SUMMARY:Career Fair
END:VEVENT
BEGIN:VEVENT
DTSTAMP:20260419T175438Z
UID:849b1c56-4c7b-41d3-9957-0505f15dc415
DTSTART;VALUE=DATE:20260512
DTEND;VALUE=DATE:20260513
DESCRIPTION:
LOCATION:
SUMMARY:NO SCHOOL-Election Day
END:VEVENT
BEGIN:VEVENT
DTSTAMP:20260419T175438Z
UID:550c022a-f482-4b77-b2a7-95fa8edd21fd
DTSTART;VALUE=DATE:20260513
DTEND;VALUE=DATE:20260514
DESCRIPTION:
LOCATION:
SUMMARY:5th Grade GSA Science
END:VEVENT
BEGIN:VEVENT
DTSTAMP:20260419T175438Z
UID:a68f08a0-d8a6-43a8-a1c8-448970817bdc
DTSTART:20260515T080000
DTEND:20260515T090000
DESCRIPTION:
LOCATION:
SUMMARY:Pre School Graduation
END:VEVENT
BEGIN:VEVENT
DTSTAMP:20260419T175438Z
UID:bef5ad8d-b7d2-4350-84e4-a03277638f5d
DTSTART;VALUE=DATE:20260518
DTEND;VALUE=DATE:20260519
DESCRIPTION:
LOCATION:
SUMMARY:Talent Show
END:VEVENT
BEGIN:VEVENT
DTSTAMP:20260419T175438Z
UID:7c816f87-209e-4d7a-8e8f-205616bee414
DTSTART:20260519T133000
DTEND:20260519T143000
DESCRIPTION:
LOCATION:
SUMMARY:Wax Museum
END:VEVENT
BEGIN:VEVENT
DTSTAMP:20260419T175438Z
UID:2fec6d54-cf5a-4676-b385-8b2724702828
DTSTART;VALUE=DATE:20260520
DTEND;VALUE=DATE:20260521
DESCRIPTION:
LOCATION:
SUMMARY:Field Day-Highlands Sports Complex
END:VEVENT
BEGIN:VEVENT
DTSTAMP:20260419T175438Z
UID:60f041d7-59a0-479a-bd9b-1073ddcc34ae
DTSTART:20260521T090000
DTEND:20260521T100000
DESCRIPTION:
LOCATION:
SUMMARY:5th Grade Graduation
END:VEVENT
BEGIN:VEVENT
DTSTAMP:20260419T175438Z
UID:e9b9d0d9-86ab-4739-9e94-469cd95dad1f
DTSTART;VALUE=DATE:20260522
DTEND;VALUE=DATE:20260523
DESCRIPTION:
LOCATION:
SUMMARY:LAST DAY OF SCHOOL
END:VEVENT
BEGIN:VEVENT
DTSTAMP:20260419T175438Z
UID:f471bce8-1857-4e7b-ad5e-b40389d29586
DTSTART;VALUE=DATE:20260526
DTEND;VALUE=DATE:20260527
DESCRIPTION:
LOCATION:
SUMMARY:Staff Last Day
END:VEVENT
END:VCALENDAR
