BEGIN:VCALENDAR
VERSION:2.0
PRODID:icalendar-ruby
CALSCALE:GREGORIAN
BEGIN:VTIMEZONE
TZID:America/Chicago
BEGIN:DAYLIGHT
DTSTART:20260308T030000
TZOFFSETFROM:-0600
TZOFFSETTO:-0500
RRULE:FREQ=YEARLY;BYDAY=2SU;BYMONTH=3
TZNAME:CDT
END:DAYLIGHT
BEGIN:STANDARD
DTSTART:20261101T010000
TZOFFSETFROM:-0500
TZOFFSETTO:-0600
RRULE:FREQ=YEARLY;BYDAY=1SU;BYMONTH=11
TZNAME:CST
END:STANDARD
END:VTIMEZONE
BEGIN:VEVENT
DTSTAMP:20260425T102801Z
UID:9b96a252-26b0-4ef6-bb2f-68b091f1f770
DTSTART:20260428T173000
DTEND:20260428T183000
DESCRIPTION:
LOCATION:Pecos Valley Country Club\, 80 Starley Dr\, Pecos\, TX 79772\, USA
SUMMARY:🎾 Tennis Banquet
END:VEVENT
BEGIN:VEVENT
DTSTAMP:20260425T102801Z
UID:712d0eee-ad18-4267-9485-39e3d4ecd7f9
DTSTART;VALUE=DATE:20260501
DTEND;VALUE=DATE:20260503
DESCRIPTION:
LOCATION:Lowrey Field at Plains Capital Park 1301 66th St\, Lubbock\, TX 79
 412
SUMMARY:👟 PHS Varsity Track & Field: Regional Meet @ Lubbock
END:VEVENT
BEGIN:VEVENT
DTSTAMP:20260425T102801Z
UID:342ca1ff-3267-4170-b15c-484461d356c4
DTSTART:20260501T180000
DTEND:20260501T193000
DESCRIPTION:
LOCATION:
SUMMARY:⚾️ Baseball Banquet
END:VEVENT
BEGIN:VEVENT
DTSTAMP:20260425T102801Z
UID:90b386cc-b665-4795-9073-0678de44084d
DTSTART;VALUE=DATE:20260502
DTEND;VALUE=DATE:20260503
DESCRIPTION:Boys & Girls
LOCATION:Andrews County Golf Course\, Andrews\, TX
SUMMARY:🏌🏻‍♂️MS Golf: Andrews
END:VEVENT
BEGIN:VEVENT
DTSTAMP:20260425T102801Z
UID:31a7afcc-37e9-4699-9e07-fafb9e28daef
DTSTART:20260503T180000
DTEND:20260503T193000
DESCRIPTION:
LOCATION:Field House
SUMMARY:⛳️ Golf Banquet
END:VEVENT
BEGIN:VEVENT
DTSTAMP:20260425T102801Z
UID:7ab4c69f-0668-4c38-98b4-5098ad06fb8f
DTSTART:20260504T173000
DTEND:20260504T203000
DESCRIPTION:
LOCATION:
SUMMARY:All-Sports Banquet
END:VEVENT
BEGIN:VEVENT
DTSTAMP:20260425T102801Z
UID:ecc132b9-6fa0-4ddf-a3bf-8e87e6e1261a
DTSTART:20260509T090000
DTEND:20260509T133000
DESCRIPTION:
LOCATION:
SUMMARY:⚽️ Middle School Soccer Tournament
END:VEVENT
BEGIN:VEVENT
DTSTAMP:20260425T102801Z
UID:2cf28af8-c7e9-432e-8964-8d01ee41a35d
DTSTART;VALUE=DATE:20260514
DTEND;VALUE=DATE:20260515
DESCRIPTION:
LOCATION:Mike A. Myers Stadium 707 Clyde Littlefield Dr\, Austin\, TX 78712
SUMMARY:👟 PHS Varsity Track & Field: State Meet
END:VEVENT
BEGIN:VEVENT
DTSTAMP:20260425T102801Z
UID:2f9319b8-0a0b-484a-961c-ddceea681abe
DTSTART:20260514T133000
DTEND:20260514T153000
DESCRIPTION:
LOCATION:
SUMMARY:HS Athletic + Band Physicals
END:VEVENT
BEGIN:VEVENT
DTSTAMP:20260425T102801Z
UID:d483d100-33e0-46fe-87ab-5658d98cf1fc
DTSTART:20260624T090000
DTEND:20260624T130000
DESCRIPTION:
LOCATION:
SUMMARY:District Offices Closed for Pecos Rodeo Parade
END:VEVENT
BEGIN:VEVENT
DTSTAMP:20260425T102801Z
UID:87b731a4-2bc3-4190-8e2e-ca3d68a65e35
DTSTART:20260807T200000
DTEND:20260807T230000
DESCRIPTION:
LOCATION:
SUMMARY:Midnight Madness + Alumni 7-on-7 Tournament
END:VEVENT
END:VCALENDAR
