BEGIN:VCALENDAR
VERSION:2.0
PRODID:icalendar-ruby
CALSCALE:GREGORIAN
BEGIN:VTIMEZONE
TZID:America/Chicago
BEGIN:DAYLIGHT
DTSTART:20260308T030000
TZOFFSETFROM:-0600
TZOFFSETTO:-0500
RRULE:FREQ=YEARLY;BYDAY=2SU;BYMONTH=3
TZNAME:CDT
END:DAYLIGHT
BEGIN:STANDARD
DTSTART:20261101T010000
TZOFFSETFROM:-0500
TZOFFSETTO:-0600
RRULE:FREQ=YEARLY;BYDAY=1SU;BYMONTH=11
TZNAME:CST
END:STANDARD
END:VTIMEZONE
BEGIN:VEVENT
DTSTAMP:20260423T164026Z
UID:2112a0eb-1a07-49a6-8872-3262de305bd5
DTSTART:20260423T183000
DTEND:20260423T200000
DESCRIPTION:<p>6:30 p.m. Call to Order/Closed Session / 7:00 p.m. Business 
 Meeting <br><br>: Live stream: <a href="https://www.d214.org/o/d214/page/b
 oard-of-education-livestream" target="_blank" rel="noopener noreferrer nof
 ollow" path-prefix="">https://www.d214.org/o/d214/page/board-of-education-
 livestream</a></p>
LOCATION:
SUMMARY:Board of Education Meeting
END:VEVENT
BEGIN:VEVENT
DTSTAMP:20260423T164026Z
UID:3bfca486-a666-4cc7-b23c-3c8de63aa0bf
DTSTART:20260507T183000
DTEND:20260507T200000
DESCRIPTION:<p>6:30 p.m. Call to Order/Closed Session / 7:00 p.m. Committee
  of the Whole <br><br>: Live stream: <a href="https://www.d214.org/o/d214/
 page/board-of-education-livestream" target="_blank" rel="noopener noreferr
 er nofollow" path-prefix="">https://www.d214.org/o/d214/page/board-of-educ
 ation-livestream</a></p>
LOCATION:
SUMMARY:Board of Education Meeting
END:VEVENT
BEGIN:VEVENT
DTSTAMP:20260423T164026Z
UID:6be4bb76-efab-4b89-8618-6e2932916c57
DTSTART:20260521T183000
DTEND:20260521T200000
DESCRIPTION:<p>6:30 p.m. Call to Order/Closed Session / 7:00 p.m. Business 
 Meeting <br><br>: Live stream: <a href="https://www.d214.org/o/d214/page/b
 oard-of-education-livestream" target="_blank" rel="noopener noreferrer nof
 ollow" path-prefix="">https://www.d214.org/o/d214/page/board-of-education-
 livestream</a></p>
LOCATION:
SUMMARY:Board of Education Meeting
END:VEVENT
BEGIN:VEVENT
DTSTAMP:20260423T164026Z
UID:150c6a10-dead-4dc6-995e-b96692fdbfec
DTSTART:20260524T100000
DTEND:20260524T120000
DESCRIPTION:<p><a target="_blank" rel="noopener noreferrer nofollow" href="
 https://www.d214.org/page/graduation-2026">https://www.d214.org/page/gradu
 ation-2026</a></p>
LOCATION:NOW Arena: 5333 Prairie Stone Pkwy\, Hoffman Estates\, IL 60192
SUMMARY:Elk Grove High School Commencement Ceremony
END:VEVENT
BEGIN:VEVENT
DTSTAMP:20260423T164026Z
UID:a4e7934f-0c38-482e-92d3-cce1178da6aa
DTSTART:20260524T140000
DTEND:20260524T160000
DESCRIPTION:<p><a target="_blank" rel="noopener noreferrer nofollow" href="
 https://www.d214.org/page/graduation-2026">https://www.d214.org/page/gradu
 ation-2026</a></p>
LOCATION:NOW Arena: 5333 Prairie Stone Pkwy\, Hoffman Estates\, IL 60192
SUMMARY:Prospect High School Commencement Ceremony
END:VEVENT
BEGIN:VEVENT
DTSTAMP:20260423T164026Z
UID:212ce8a2-80e3-404d-8744-a3c24263e550
DTSTART:20260524T180000
DTEND:20260524T200000
DESCRIPTION:<p><a target="_blank" rel="noopener noreferrer nofollow" href="
 https://www.d214.org/page/graduation-2026">https://www.d214.org/page/gradu
 ation-2026</a></p>
LOCATION:NOW Arena: 5333 Prairie Stone Pkwy\, Hoffman Estates\, IL 60192
SUMMARY:Rolling Meadows Commencement Ceremony
END:VEVENT
BEGIN:VEVENT
DTSTAMP:20260423T164026Z
UID:163f6499-a9da-4ce4-97c6-369e71a5c545
DTSTART;VALUE=DATE:20260525
DTEND;VALUE=DATE:20260526
DESCRIPTION:All Buildings Closed
LOCATION:
SUMMARY:Memorial Day
END:VEVENT
BEGIN:VEVENT
DTSTAMP:20260423T164026Z
UID:e2eba9fc-f7f5-48fb-905b-e0885e009449
DTSTART:20260526T190000
DTEND:20260526T210000
DESCRIPTION:<p><a target="_blank" rel="noopener noreferrer nofollow" href="
 https://www.d214.org/page/graduation-2026">https://www.d214.org/page/gradu
 ation-2026</a></p>
LOCATION:NOW Arena: 5333 Prairie Stone Pkwy\, Hoffman Estates\, IL 60192
SUMMARY:Wheeling High School Commencement Ceremony
END:VEVENT
BEGIN:VEVENT
DTSTAMP:20260423T164026Z
UID:800002cc-dc39-4e7d-bf00-dee0f2140d1e
DTSTART:20260527T190000
DTEND:20260527T210000
DESCRIPTION:<p><a target="_blank" rel="noopener noreferrer nofollow" href="
 https://www.d214.org/page/graduation-2026">https://www.d214.org/page/gradu
 ation-2026</a></p>
LOCATION:NOW Arena: 5333 Prairie Stone Pkwy\, Hoffman Estates\, IL 60192
SUMMARY:John Hersey High School Commencement Ceremony
END:VEVENT
BEGIN:VEVENT
DTSTAMP:20260423T164026Z
UID:523634dd-d25c-4c1f-b128-b29be3cbe8ae
DTSTART:20260528T190000
DTEND:20260528T210000
DESCRIPTION:<p><a target="_blank" rel="noopener noreferrer nofollow" href="
 https://www.d214.org/page/graduation-2026">https://www.d214.org/page/gradu
 ation-2026</a></p>
LOCATION:NOW Arena: 5333 Prairie Stone Pkwy\, Hoffman Estates\, IL 60192
SUMMARY:Buffalo Grove High School Commencement Ceremony
END:VEVENT
BEGIN:VEVENT
DTSTAMP:20260423T164026Z
UID:90af7562-c6a0-4374-8969-a27defa31a46
DTSTART;VALUE=DATE:20260529
DTEND;VALUE=DATE:20260530
DESCRIPTION:
LOCATION:
SUMMARY:End of 2nd Semester/Last Day of Classes
END:VEVENT
BEGIN:VEVENT
DTSTAMP:20260423T164026Z
UID:c08c568d-891b-4ea0-83f1-fba1e6468c10
DTSTART:20260611T183000
DTEND:20260611T200000
DESCRIPTION:<p>6:30 p.m. Call to Order/Closed Session / 7:00 p.m. Committee
  of the Whole <br><br>: Live stream: <a href="https://www.d214.org/o/d214/
 page/board-of-education-livestream" target="_blank" rel="noopener noreferr
 er nofollow" path-prefix="">https://www.d214.org/o/d214/page/board-of-educ
 ation-livestream</a></p>
LOCATION:
SUMMARY:Board of Education Meeting
END:VEVENT
BEGIN:VEVENT
DTSTAMP:20260423T164026Z
UID:173d07d1-4cb3-4026-bc31-09a57aa63173
DTSTART:20260625T183000
DTEND:20260625T200000
DESCRIPTION:<p>6:30 p.m. Call to Order/Closed Session / 7:00 p.m. Business 
 Meeting <br><br>: Live stream: <a href="https://www.d214.org/o/d214/page/b
 oard-of-education-livestream" target="_blank" rel="noopener noreferrer nof
 ollow" path-prefix="">https://www.d214.org/o/d214/page/board-of-education-
 livestream</a></p>
LOCATION:
SUMMARY:Board of Education Meeting
END:VEVENT
BEGIN:VEVENT
DTSTAMP:20260423T164026Z
UID:095b0070-cc89-48bc-a162-de345188a780
DTSTART:20260703T090000
DTEND:20260703T170000
DESCRIPTION:All Buildings Closed
LOCATION:
SUMMARY:Fourth of July (Observed)
END:VEVENT
BEGIN:VEVENT
DTSTAMP:20260423T164026Z
UID:5e10eac2-48a1-4e8a-a01a-0bc7d03ba9a5
DTSTART:20260704T090000
DTEND:20260704T170000
DESCRIPTION:All Buildings Closed
LOCATION:
SUMMARY:Fourth of July (All Buildings Closed)
END:VEVENT
BEGIN:VEVENT
DTSTAMP:20260423T164026Z
UID:4982b90a-0ac7-49fc-87fe-2ca7d8e00c31
DTSTART:20260810T070000
DTEND:20260810T153000
DESCRIPTION:
LOCATION:
SUMMARY:Institute Day (Students Not in Attendance)
END:VEVENT
BEGIN:VEVENT
DTSTAMP:20260423T164026Z
UID:ece987c9-6c03-4ee2-a999-b86f1b0bf373
DTSTART:20260811T070000
DTEND:20260811T153000
DESCRIPTION:
LOCATION:
SUMMARY:In-Service Day (Students Not in Attendance)
END:VEVENT
BEGIN:VEVENT
DTSTAMP:20260423T164026Z
UID:59fc762a-ed66-408a-acfa-96e60fc29ee6
DTSTART;VALUE=DATE:20260812
DTEND;VALUE=DATE:20260813
DESCRIPTION:
LOCATION:
SUMMARY:First Day of Classes – 1st Quarter
END:VEVENT
BEGIN:VEVENT
DTSTAMP:20260423T164026Z
UID:f0d71673-6b7f-4382-814a-e7628b866577
DTSTART:20260827T180000
DTEND:20260827T210000
DESCRIPTION:
LOCATION:
SUMMARY:Open House\, Evening
END:VEVENT
BEGIN:VEVENT
DTSTAMP:20260423T164026Z
UID:026f4bf7-8508-42ae-bce5-7993a8c5760e
DTSTART;VALUE=DATE:20260907
DTEND;VALUE=DATE:20260908
DESCRIPTION:All Buildings Closed
LOCATION:
SUMMARY:Labor Day (All Buildings Closed)
END:VEVENT
BEGIN:VEVENT
DTSTAMP:20260423T164026Z
UID:bf938149-3707-4ea4-b658-d91e21ad3262
DTSTART:20260921T090000
DTEND:20260921T170000
DESCRIPTION:All Buildings Closed
LOCATION:
SUMMARY:Non-Attendance Day (All Buildings Closed)
END:VEVENT
BEGIN:VEVENT
DTSTAMP:20260423T164026Z
UID:c58bf7d8-2f83-4074-a4f2-7356c505e531
DTSTART:20261009T090000
DTEND:20261009T170000
DESCRIPTION:
LOCATION:
SUMMARY:End of 1st Quarter
END:VEVENT
BEGIN:VEVENT
DTSTAMP:20260423T164026Z
UID:d13144ad-a6fb-4032-8221-af1c432d76fe
DTSTART:20261012T070000
DTEND:20261012T153000
DESCRIPTION:Students Not in Attendance
LOCATION:
SUMMARY:Institute Day (Students Not in Attendance)
END:VEVENT
BEGIN:VEVENT
DTSTAMP:20260423T164026Z
UID:1a04229c-06e1-42aa-98d1-29042ac8246c
DTSTART:20261013T090000
DTEND:20261013T170000
DESCRIPTION:
LOCATION:
SUMMARY:First Day of Classes: 2nd Quarter
END:VEVENT
BEGIN:VEVENT
DTSTAMP:20260423T164026Z
UID:3329c12e-b6dc-47a7-8631-0cac56a03142
DTSTART:20261103T090000
DTEND:20261103T170000
DESCRIPTION:Students Not in Attendance
LOCATION:
SUMMARY:Election Day (Students Not in Attendance)
END:VEVENT
BEGIN:VEVENT
DTSTAMP:20260423T164026Z
UID:f15de7ce-f6e9-4de8-a130-80ad37d65922
DTSTART:20261125T090000
DTEND:20261125T170000
DESCRIPTION:All Buildings Closed
LOCATION:
SUMMARY:Non-Attendance Day (All Buildings Closed)
END:VEVENT
BEGIN:VEVENT
DTSTAMP:20260423T164026Z
UID:e08c48d2-51e8-4c3d-a319-bf27fa4aeac2
DTSTART:20261126T090000
DTEND:20261126T170000
DESCRIPTION:All Buildings Closed
LOCATION:
SUMMARY:Thanksgiving Day (All Buildings Closed)
END:VEVENT
BEGIN:VEVENT
DTSTAMP:20260423T164026Z
UID:11230791-6dfa-40a9-a6b9-75167b2c5281
DTSTART:20261127T090000
DTEND:20261127T170000
DESCRIPTION:All Buildings Closed
LOCATION:
SUMMARY:Non-Attendance Day (All Buildings Closed)
END:VEVENT
BEGIN:VEVENT
DTSTAMP:20260423T164026Z
UID:6011ac85-7cca-4fdf-a949-18aafab03bb9
DTSTART:20261218T090000
DTEND:20261218T170000
DESCRIPTION:
LOCATION:
SUMMARY:End of 2nd Quarter/1st Semester
END:VEVENT
BEGIN:VEVENT
DTSTAMP:20260423T164026Z
UID:4da9e58e-73ea-4724-833d-006f02efbb53
DTSTART:20261218T170000
DTEND:20270104T090000
DESCRIPTION:
LOCATION:
SUMMARY:Winter Break Begins at Close of Classes
END:VEVENT
BEGIN:VEVENT
DTSTAMP:20260423T164026Z
UID:6c357092-f490-410c-8eb2-60523bc6bfb2
DTSTART:20270104T090000
DTEND:20270104T170000
DESCRIPTION:Students Not in Attendance
LOCATION:
SUMMARY:Institute Day (Students Not in Attendance)
END:VEVENT
BEGIN:VEVENT
DTSTAMP:20260423T164026Z
UID:50b033bf-2da0-4b2a-8490-2523bb14ae0c
DTSTART:20270105T090000
DTEND:20270105T170000
DESCRIPTION:Students Not in Attendance
LOCATION:
SUMMARY:In-Service Day (Students Not in Attendance)
END:VEVENT
BEGIN:VEVENT
DTSTAMP:20260423T164026Z
UID:8f28edf4-c301-45c9-9ad2-299c31a7b8e7
DTSTART:20270106T090000
DTEND:20270106T170000
DESCRIPTION:
LOCATION:
SUMMARY:First Day of Classes: 3rd Quarter
END:VEVENT
BEGIN:VEVENT
DTSTAMP:20260423T164026Z
UID:90d2690e-ddc3-40a0-953c-1b1a9163719a
DTSTART:20270118T090000
DTEND:20270118T170000
DESCRIPTION:All Buildings Closed
LOCATION:
SUMMARY:Martin Luther King\, Jr. Day (All Buildings Closed)
END:VEVENT
BEGIN:VEVENT
DTSTAMP:20260423T164026Z
UID:e9ea7b79-b767-4919-9b1c-7dfedab224a1
DTSTART:20270212T090000
DTEND:20270212T170000
DESCRIPTION:Teachers\, Students and 10-month Staff Not in Attendance
LOCATION:
SUMMARY:Non-Attendance Day (Teachers\, Students and 10-month Staff Not in A
 ttendance)
END:VEVENT
BEGIN:VEVENT
DTSTAMP:20260423T164026Z
UID:c69fc287-c2c7-41ed-b45c-1aeec738042a
DTSTART:20270215T090000
DTEND:20270215T170000
DESCRIPTION:All Buildings Closed
LOCATION:
SUMMARY:Presidents' Day\, Non-Attendance Day (All Buildings Closed)
END:VEVENT
BEGIN:VEVENT
DTSTAMP:20260423T164026Z
UID:0c0a2a41-8ff9-48eb-b7fc-e9e7d89d24a0
DTSTART:20270312T090000
DTEND:20270312T170000
DESCRIPTION:
LOCATION:
SUMMARY:End of 3rd Quarter
END:VEVENT
BEGIN:VEVENT
DTSTAMP:20260423T164026Z
UID:45f128ae-68bc-46c8-9e89-8c3c9c85a9ce
DTSTART:20270315T090000
DTEND:20270315T170000
DESCRIPTION:
LOCATION:
SUMMARY:First Day of Classes: 4th Quarter
END:VEVENT
BEGIN:VEVENT
DTSTAMP:20260423T164026Z
UID:8fe77677-eb65-41b5-ba86-4bdbad01456f
DTSTART:20270319T170000
DTEND:20270327T090000
DESCRIPTION:
LOCATION:
SUMMARY:Spring Break Begins at Close of Classes
END:VEVENT
BEGIN:VEVENT
DTSTAMP:20260423T164026Z
UID:7fc6a423-471f-4b0e-a2c4-22624fe1c889
DTSTART:20270326T090000
DTEND:20270326T170000
DESCRIPTION:All Buildings Closed
LOCATION:
SUMMARY:Non-Attendance Day (All Buildings Closed)
END:VEVENT
BEGIN:VEVENT
DTSTAMP:20260423T164026Z
UID:5625c688-92f3-4c07-8d53-8a4cb802ed8d
DTSTART:20270326T170000
DTEND:20270326T170000
DESCRIPTION:
LOCATION:
SUMMARY:Spring Break Ends
END:VEVENT
BEGIN:VEVENT
DTSTAMP:20260423T164026Z
UID:24b037ee-3905-4e7b-9431-fa8ef5b79abf
DTSTART:20270528T090000
DTEND:20270528T170000
DESCRIPTION:
LOCATION:
SUMMARY:End of 4th Quarter/2nd Semester
END:VEVENT
BEGIN:VEVENT
DTSTAMP:20260423T164026Z
UID:e8144002-b665-450a-98bc-3ae1993a7ccc
DTSTART:20270528T090000
DTEND:20270528T170000
DESCRIPTION:
LOCATION:
SUMMARY:Last Day of Classes
END:VEVENT
BEGIN:VEVENT
DTSTAMP:20260423T164026Z
UID:e89094e4-db3d-4da3-905e-2a3a6c8798fa
DTSTART:20270531T090000
DTEND:20270531T170000
DESCRIPTION:All Buildings Closed
LOCATION:
SUMMARY:Memorial Day (All Buildings Closed)
END:VEVENT
BEGIN:VEVENT
DTSTAMP:20260423T164026Z
UID:be2a7c5d-c6a3-42d0-a161-1c2720b285d3
DTSTART:20270601T090000
DTEND:20270601T170000
DESCRIPTION:Students Not in Attendance
LOCATION:
SUMMARY:Institute Day (Students Not in Attendance)
END:VEVENT
BEGIN:VEVENT
DTSTAMP:20260423T164026Z
UID:772ee575-7b53-4292-ac7e-dff1ad81cff1
DTSTART:20270602T090000
DTEND:20270602T170000
DESCRIPTION:Students Not in Attendance
LOCATION:
SUMMARY:Institute Day (Students Not in Attendance)
END:VEVENT
BEGIN:VEVENT
DTSTAMP:20260423T164026Z
UID:748f478b-6fba-44a6-a20a-50144c821510
DTSTART:20270702T090000
DTEND:20270702T170000
DESCRIPTION:All Buildings Closed
LOCATION:
SUMMARY:Fourth of July (Observed) (All Buildings Closed)
END:VEVENT
BEGIN:VEVENT
DTSTAMP:20260423T164026Z
UID:29cbfe92-06e7-4065-af36-b3b9cc60bb90
DTSTART:20270704T090000
DTEND:20270704T170000
DESCRIPTION:All Buildings Closed
LOCATION:
SUMMARY:Fourth of July (All Buildings Closed)
END:VEVENT
END:VCALENDAR
