BEGIN:VCALENDAR
VERSION:2.0
PRODID:icalendar-ruby
CALSCALE:GREGORIAN
BEGIN:VTIMEZONE
TZID:America/New_York
BEGIN:DAYLIGHT
DTSTART:20260308T030000
TZOFFSETFROM:-0500
TZOFFSETTO:-0400
RRULE:FREQ=YEARLY;BYDAY=2SU;BYMONTH=3
TZNAME:EDT
END:DAYLIGHT
BEGIN:STANDARD
DTSTART:20261101T010000
TZOFFSETFROM:-0400
TZOFFSETTO:-0500
RRULE:FREQ=YEARLY;BYDAY=1SU;BYMONTH=11
TZNAME:EST
END:STANDARD
END:VTIMEZONE
BEGIN:VEVENT
DTSTAMP:20260425T113555Z
UID:c1ccf5e0-42ba-4fa8-b931-c372cc4d46d9
DTSTART;VALUE=DATE:20260506
DTEND;VALUE=DATE:20260507
DESCRIPTION:
LOCATION:
SUMMARY:Early Release (dismissal @ 11:40am\, No PRE-K) 
END:VEVENT
BEGIN:VEVENT
DTSTAMP:20260425T113555Z
UID:6900e243-7675-4bf6-8773-89d063389b54
DTSTART:20260506T183000
DTEND:20260506T203000
DESCRIPTION:ZOOM <a target="_blank" href="https://us02web.zoom.us/j/896047
 46181">https://us02web.zoom.us/j/89604746181</a>
LOCATION:
SUMMARY:RSU38 Board of Directors Meeting
END:VEVENT
BEGIN:VEVENT
DTSTAMP:20260425T113555Z
UID:d01d36cd-f6eb-4fb2-98d2-5d1b710ea659
DTSTART:20260513T190000
DTEND:20260513T210000
DESCRIPTION:
LOCATION:
SUMMARY:RSU#38 Board of Directors ANNUAL MEETING
END:VEVENT
BEGIN:VEVENT
DTSTAMP:20260425T113555Z
UID:4d1da89a-ede0-4ae1-9b5d-a96edda7496c
DTSTART;VALUE=DATE:20260525
DTEND;VALUE=DATE:20260526
DESCRIPTION:
LOCATION:
SUMMARY:Memorial Day
END:VEVENT
BEGIN:VEVENT
DTSTAMP:20260425T113555Z
UID:5c67d6d9-7a86-432c-8b5c-978fa975d7f7
DTSTART:20260527T171500
DTEND:20260527T181500
DESCRIPTION:
LOCATION:
SUMMARY:⚖️POLICY COMMITTEE MEETING @ CENTRAL OFFICE
END:VEVENT
BEGIN:VEVENT
DTSTAMP:20260425T113555Z
UID:a92e7e93-a432-4d18-a70a-b9e93e64aeef
DTSTART:20260603T171500
DTEND:20260603T181500
DESCRIPTION:
LOCATION:
SUMMARY:🚌FACILITIES & TRANSPORTATION COMMITTEE MEETING @ MS MEDIA CENTER
END:VEVENT
BEGIN:VEVENT
DTSTAMP:20260425T113555Z
UID:6929d607-5a12-4860-a5ad-dae5982103ff
DTSTART:20260603T183000
DTEND:20260603T203000
DESCRIPTION:
LOCATION:
SUMMARY:BOARD OF DIRECTORS MEETING @ MCMS CAFETERIA
END:VEVENT
BEGIN:VEVENT
DTSTAMP:20260425T113555Z
UID:0a4dc18b-bcf8-49f7-bf34-54c6425eb540
DTSTART;VALUE=DATE:20260608
DTEND;VALUE=DATE:20260609
DESCRIPTION:
LOCATION:
SUMMARY:Graduation
END:VEVENT
BEGIN:VEVENT
DTSTAMP:20260425T113555Z
UID:4834ea4f-aab3-45cc-8526-30bd34b86807
DTSTART;VALUE=DATE:20260609
DTEND;VALUE=DATE:20260610
DESCRIPTION:
LOCATION:
SUMMARY:REFERENDUM VOTE FY27 RSU#38 BUDGET
END:VEVENT
BEGIN:VEVENT
DTSTAMP:20260425T113555Z
UID:cb0c9d2d-636b-4da8-9c38-6af5e9a70fce
DTSTART:20260610T183000
DTEND:20260610T203000
DESCRIPTION:
LOCATION:
SUMMARY:RSU 38 Board of Directors Meeting
END:VEVENT
BEGIN:VEVENT
DTSTAMP:20260425T113555Z
UID:be83d2ca-5dc3-4b4e-9e72-a6c84af35586
DTSTART;VALUE=DATE:20260615
DTEND;VALUE=DATE:20260616
DESCRIPTION:
LOCATION:
SUMMARY:Last Student/Staff Day- Early Release (if 2 emergency days used)
END:VEVENT
BEGIN:VEVENT
DTSTAMP:20260425T113555Z
UID:67e71da1-e375-48ff-a87a-a2729864d99a
DTSTART;VALUE=DATE:20260619
DTEND;VALUE=DATE:20260620
DESCRIPTION:
LOCATION:
SUMMARY:Juneteenth
END:VEVENT
END:VCALENDAR
