BEGIN:VCALENDAR
VERSION:2.0
PRODID:icalendar-ruby
CALSCALE:GREGORIAN
BEGIN:VTIMEZONE
TZID:America/Chicago
BEGIN:DAYLIGHT
DTSTART:20260308T030000
TZOFFSETFROM:-0600
TZOFFSETTO:-0500
RRULE:FREQ=YEARLY;BYDAY=2SU;BYMONTH=3
TZNAME:CDT
END:DAYLIGHT
BEGIN:STANDARD
DTSTART:20261101T010000
TZOFFSETFROM:-0500
TZOFFSETTO:-0600
RRULE:FREQ=YEARLY;BYDAY=1SU;BYMONTH=11
TZNAME:CST
END:STANDARD
END:VTIMEZONE
BEGIN:VEVENT
DTSTAMP:20260425T040518Z
UID:3f339170-1116-4bc7-833f-e1b03b1c1ab2
DTSTART:20260511T131500
DTEND:20260511T153000
DESCRIPTION:
LOCATION:
SUMMARY:Early Release: Teacher Workshop Day
END:VEVENT
BEGIN:VEVENT
DTSTAMP:20260425T040518Z
UID:dcfd5ab9-631b-49b6-85c7-5dfd40f6d383
DTSTART;VALUE=DATE:20260522
DTEND;VALUE=DATE:20260523
DESCRIPTION:
LOCATION:
SUMMARY:Last Day for Seniors: Congratulations\, Class of 2026!
END:VEVENT
BEGIN:VEVENT
DTSTAMP:20260425T040518Z
UID:75c07487-f52a-4134-9afd-3d9f07f0d6cb
DTSTART;VALUE=DATE:20260525
DTEND;VALUE=DATE:20260526
DESCRIPTION:
LOCATION:
SUMMARY:No School: Memorial Day
END:VEVENT
BEGIN:VEVENT
DTSTAMP:20260425T040518Z
UID:250897a2-54a2-40a2-8513-77963e4f23d6
DTSTART;VALUE=DATE:20260528
DTEND;VALUE=DATE:20260529
DESCRIPTION:
LOCATION:
SUMMARY:Last Day of School: Half Day
END:VEVENT
END:VCALENDAR
