BEGIN:VCALENDAR
VERSION:2.0
PRODID:icalendar-ruby
CALSCALE:GREGORIAN
BEGIN:VTIMEZONE
TZID:America/Chicago
BEGIN:DAYLIGHT
DTSTART:20260308T030000
TZOFFSETFROM:-0600
TZOFFSETTO:-0500
RRULE:FREQ=YEARLY;BYDAY=2SU;BYMONTH=3
TZNAME:CDT
END:DAYLIGHT
BEGIN:STANDARD
DTSTART:20261101T010000
TZOFFSETFROM:-0500
TZOFFSETTO:-0600
RRULE:FREQ=YEARLY;BYDAY=1SU;BYMONTH=11
TZNAME:CST
END:STANDARD
END:VTIMEZONE
BEGIN:VEVENT
DTSTAMP:20260420T223534Z
UID:d3e521ad-28e9-42af-9afa-ed6c9de16174
DTSTART:20260420T100000
DTEND:20260420T150000
DESCRIPTION:
LOCATION:8587 ND-1\, Oakes\, ND 58474\, USA
SUMMARY:Golf: Varsity at Oakes
END:VEVENT
BEGIN:VEVENT
DTSTAMP:20260420T223534Z
UID:1b8bd8d7-6fe2-4a08-b71b-b43cda000f22
DTSTART:20260420T140000
DTEND:20260420T180000
DESCRIPTION:
LOCATION:Wilton\, ND 58579\, USA
SUMMARY:Softball: Varsity vs. Beulah
END:VEVENT
BEGIN:VEVENT
DTSTAMP:20260420T223534Z
UID:a85e31c9-1dda-475f-99d9-9db8bcb7651e
DTSTART:20260420T150000
DTEND:20260420T200000
DESCRIPTION:
LOCATION:123 Summit St\, Underwood\, ND 58576\, USA
SUMMARY:Track & Field: Junior High at Underwood
END:VEVENT
BEGIN:VEVENT
DTSTAMP:20260420T223534Z
UID:8627bfe6-83cf-412d-8362-362bde451eb1
DTSTART:20260421T083000
DTEND:20260421T133000
DESCRIPTION:<p>9:00-9:40am-Kindergarten</p><p>9:40-10:20am-2nd&nbsp\;Grade<
 /p><p>10:20-11:00am-4th&nbsp\;Grade</p><p>11:30-12:10pm-1st&nbsp\;Grade</p
 ><p>12:10-12:50pm-3rd&nbsp\;Grade</p><p>12:50-1:30pm-5th&nbsp\;Grade</p>
LOCATION:101 4th St SE\, Steele\, ND 58482\, USA
SUMMARY:Elementary Health Fair by NDSU Nursing Students
END:VEVENT
BEGIN:VEVENT
DTSTAMP:20260420T223534Z
UID:7d563348-c5a6-49b5-80c2-2b7d152b434f
DTSTART:20260421T130000
DTEND:20260421T200000
DESCRIPTION:
LOCATION:Linton\, ND 58552\, USA
SUMMARY:Track & Field: Varsity & Junior High at Linton
END:VEVENT
BEGIN:VEVENT
DTSTAMP:20260420T223534Z
UID:b38b8196-594d-4060-abe4-9111fd33844b
DTSTART:20260421T163000
DTEND:20260421T203000
DESCRIPTION:<p>(KC Home game at New Rockford due to KC Field conditions)</p
 >
LOCATION:New Rockford\, ND 58356\, USA
SUMMARY:Baseball: Varsity at. New Rockford
END:VEVENT
BEGIN:VEVENT
DTSTAMP:20260420T223534Z
UID:cf1ff491-2f6e-474f-b1e6-cf2b1a7ef32a
DTSTART:20260421T163000
DTEND:20260421T203000
DESCRIPTION:
LOCATION:South Heart\, ND\, USA
SUMMARY:Softball: Varsity at South Heart
END:VEVENT
BEGIN:VEVENT
DTSTAMP:20260420T223534Z
UID:8fb9fd4c-812f-4cb3-9cde-0a485323a2e3
DTSTART:20260421T163500
DTEND:20260421T200000
DESCRIPTION:<p>Jamboree Schedule: <a target="_blank" rel="noopener noreferr
 er nofollow" href="https://aptg.co/SmYP-j">https://aptg.co/SmYP-j</a></p>
LOCATION:307 Main St\, Strasburg\, ND 58573\, USA
SUMMARY:Volleyball: Elementary at Strasburg-Zeeland Jamboree
END:VEVENT
BEGIN:VEVENT
DTSTAMP:20260420T223534Z
UID:633c4796-e694-4520-953a-5d89e6a2a22d
DTSTART:20260422T124500
DTEND:20260422T150000
DESCRIPTION:
LOCATION:
SUMMARY:Career Fair at Pifers 
END:VEVENT
BEGIN:VEVENT
DTSTAMP:20260420T223534Z
UID:dd223a30-adb9-4bcc-8d13-ae75cf6b615c
DTSTART:20260422T133000
DTEND:20260422T190000
DESCRIPTION:
LOCATION:Multipurpose Roose
SUMMARY:KC Student Council Blood Drive
END:VEVENT
BEGIN:VEVENT
DTSTAMP:20260420T223534Z
UID:7f16cd80-0909-47a6-8b51-5056e240f9e6
DTSTART:20260422T190000
DTEND:20260422T210000
DESCRIPTION:
LOCATION:101 4th St SE\, Steele\, ND 58482\, USA
SUMMARY:KC Regular April School Board Meeting
END:VEVENT
BEGIN:VEVENT
DTSTAMP:20260420T223534Z
UID:8991c91c-df62-4742-bca9-210d600c2c8a
DTSTART:20260422T190000
DTEND:20260422T200000
DESCRIPTION:
LOCATION:114 1st St NW\, Steele\, ND 58482\, USA
SUMMARY:KC Summer Youth Baseball Information Meeting
END:VEVENT
BEGIN:VEVENT
DTSTAMP:20260420T223534Z
UID:3daa4e0f-fdbf-41c8-8612-bccb475bae61
DTSTART;VALUE=DATE:20260423
DTEND;VALUE=DATE:20260424
DESCRIPTION:
LOCATION:101 4th St SE\, Steele\, ND 58482\, USA
SUMMARY:No School-Teacher Professional Development Day
END:VEVENT
BEGIN:VEVENT
DTSTAMP:20260420T223534Z
UID:19f32825-9872-467e-a89d-840bf50c3e93
DTSTART:20260423T140000
DTEND:20260423T180000
DESCRIPTION:
LOCATION:Valley City\, ND 58072\, USA
SUMMARY:Track & Field: Varsity at Valley City
END:VEVENT
BEGIN:VEVENT
DTSTAMP:20260420T223534Z
UID:e27a9247-074d-404d-b0ec-f9c3b45e630b
DTSTART:20260423T163000
DTEND:20260423T203000
DESCRIPTION:
LOCATION:Wilton\, ND 58579\, USA
SUMMARY:Softball: Varsity vs. Hazen
END:VEVENT
BEGIN:VEVENT
DTSTAMP:20260420T223534Z
UID:50bcca8d-6bdb-458f-aed5-aa084c863bc0
DTSTART;VALUE=DATE:20260424
DTEND;VALUE=DATE:20260425
DESCRIPTION:
LOCATION:101 4th St SE\, Steele\, ND 58482\, USA
SUMMARY:No School-PT Compensation Day
END:VEVENT
BEGIN:VEVENT
DTSTAMP:20260420T223534Z
UID:6e62fbb8-2523-4b76-af4b-ed25ea3aaee8
DTSTART:20260424T100000
DTEND:20260424T120000
DESCRIPTION:
LOCATION:New Rockford\, ND 58356\, USA
SUMMARY:Baseball: Varsity vs. Langdon at New Rockford
END:VEVENT
BEGIN:VEVENT
DTSTAMP:20260420T223534Z
UID:360eee68-d18f-48d2-8ea4-865fff6b7341
DTSTART:20260424T130000
DTEND:20260424T180000
DESCRIPTION:
LOCATION:Eureka\, SD 57437\, USA
SUMMARY:Track & Field: Junior High at Eureka
END:VEVENT
BEGIN:VEVENT
DTSTAMP:20260420T223534Z
UID:694d39fc-084a-4b91-bf08-bbcf82e8fe1a
DTSTART:20260424T140000
DTEND:20260424T160000
DESCRIPTION:
LOCATION:New Rockford\, ND 58356\, USA
SUMMARY:Baseball: Varsity vs. North Star at New Rockford
END:VEVENT
BEGIN:VEVENT
DTSTAMP:20260420T223534Z
UID:a12c664d-682d-4e2a-bd62-2756f584a621
DTSTART:20260424T150000
DTEND:20260424T200000
DESCRIPTION:
LOCATION:Oakes\, ND 58474\, USA
SUMMARY:Track & Field: Varsity at Oakes (Tentative)
END:VEVENT
BEGIN:VEVENT
DTSTAMP:20260420T223534Z
UID:7b22f073-5f50-4dac-bb18-6545432c855c
DTSTART:20260424T163000
DTEND:20260424T203000
DESCRIPTION:<p>*Games in Steele</p>
LOCATION:101 4th St SE\, Steele\, ND 58482\, USA
SUMMARY:Softball: Varsity vs. Carrington
END:VEVENT
BEGIN:VEVENT
DTSTAMP:20260420T223534Z
UID:6c2515eb-3409-4e76-9d74-181290bfa0b7
DTSTART;VALUE=DATE:20260425
DTEND;VALUE=DATE:20260426
DESCRIPTION:
LOCATION:
SUMMARY:Softball: JV Wilton Jamboree
END:VEVENT
BEGIN:VEVENT
DTSTAMP:20260420T223534Z
UID:75a7e55d-2003-4bf7-a6cb-d35cda159865
DTSTART:20260425T120000
DTEND:20260425T140000
DESCRIPTION:
LOCATION:New Rockford\, ND 58356\, USA
SUMMARY:Baseball: Varsity vs. Nelson County at New Rockford
END:VEVENT
BEGIN:VEVENT
DTSTAMP:20260420T223534Z
UID:8f458794-3aa3-42c8-8ff7-5acf3e3f278b
DTSTART:20260427T163000
DTEND:20260427T203000
DESCRIPTION:
LOCATION:Medina\, ND 58467\, USA
SUMMARY:Baseball: Junior High at. Medina-PB
END:VEVENT
BEGIN:VEVENT
DTSTAMP:20260420T223534Z
UID:20827058-d283-480f-bf8e-6b5cc018ea4d
DTSTART:20260427T180000
DTEND:20260427T190000
DESCRIPTION:
LOCATION:101 4th St SE\, Steele\, ND 58482\, USA
SUMMARY:Music: Elementary Spring Music Concert
END:VEVENT
BEGIN:VEVENT
DTSTAMP:20260420T223534Z
UID:53edfd89-0e90-4cdc-bae4-03ebf952e62a
DTSTART:20260428T083000
DTEND:20260428T153000
DESCRIPTION:
LOCATION:101 4th St SE\, Steele\, ND 58482\, USA
SUMMARY:4th Grade ND Studies Day with Mr. LaBore
END:VEVENT
BEGIN:VEVENT
DTSTAMP:20260420T223534Z
UID:c2fccea7-defb-4480-8565-6dff7ef03e57
DTSTART:20260428T083000
DTEND:20260428T101300
DESCRIPTION:
LOCATION:101 4th St SE\, Steele\, ND 58482\, USA
SUMMARY:5th Grade Step-Up Day to JH
END:VEVENT
BEGIN:VEVENT
DTSTAMP:20260420T223534Z
UID:8a9246ae-c701-4189-9472-8b9af192acc7
DTSTART:20260428T090000
DTEND:20260428T150000
DESCRIPTION:
LOCATION:101 4th St SE\, Steele\, ND 58482\, USA
SUMMARY:KCDHU: Vision Screenings Grades 1\, 3\, 5
END:VEVENT
BEGIN:VEVENT
DTSTAMP:20260420T223534Z
UID:9e4cc11f-13c0-4862-ae3f-53b0f1b810f9
DTSTART:20260428T100000
DTEND:20260428T150000
DESCRIPTION:
LOCATION:7964 6th Ave SE\, Linton\, ND 58552\, USA
SUMMARY:Golf: Varsity at Linton
END:VEVENT
BEGIN:VEVENT
DTSTAMP:20260420T223534Z
UID:97670879-88d6-4e07-9af0-1671053393fc
DTSTART:20260428T140000
DTEND:20260428T180000
DESCRIPTION:
LOCATION:500 2nd St N\, Fessenden\, ND 58438\, USA
SUMMARY:Track & Field: Junior High at Fessenden
END:VEVENT
BEGIN:VEVENT
DTSTAMP:20260420T223534Z
UID:6c03e6f2-b26f-4bb0-a462-86151a44b0ba
DTSTART:20260428T150000
DTEND:20260428T200000
DESCRIPTION:
LOCATION:Oakes\, ND 58474\, USA
SUMMARY:Track & Field: Varsity at Oakes
END:VEVENT
BEGIN:VEVENT
DTSTAMP:20260420T223534Z
UID:a7109a4e-49d4-428b-9943-0da3d91571d7
DTSTART:20260428T160000
DTEND:20260428T203000
DESCRIPTION:<p>Two\, 7-inning counter games (DH)</p>
LOCATION:Wishek\, ND 58495\, USA
SUMMARY:Baseball: Varsity at South Border
END:VEVENT
BEGIN:VEVENT
DTSTAMP:20260420T223534Z
UID:078f0de1-9176-44f6-bfe0-89b82c7a01f3
DTSTART:20260428T163000
DTEND:20260428T203000
DESCRIPTION:
LOCATION:Max\, ND 58759\, USA
SUMMARY:Softball: Varsity at Max
END:VEVENT
BEGIN:VEVENT
DTSTAMP:20260420T223534Z
UID:7f1496c3-1e3b-455c-adc6-3268e4491ee7
DTSTART:20260428T183000
DTEND:20260428T200000
DESCRIPTION:
LOCATION:
SUMMARY:FFA Meeting - April 
END:VEVENT
BEGIN:VEVENT
DTSTAMP:20260420T223534Z
UID:bbc60f8d-fbf4-4f93-a72c-177742e59305
DTSTART:20260429T080000
DTEND:20260429T150000
DESCRIPTION:
LOCATION:101 4th St SE\, Steele\, ND 58482\, USA
SUMMARY:Kidder County Elementary Ag Day
END:VEVENT
BEGIN:VEVENT
DTSTAMP:20260420T223534Z
UID:8c15c058-ded9-4478-a7c7-d860465ae90f
DTSTART:20260430T083000
DTEND:20260430T153000
DESCRIPTION:
LOCATION:101 4th St SE\, Steele\, ND 58482\, USA
SUMMARY:4th Grade ND Studies Day with Mr. LaBore
END:VEVENT
BEGIN:VEVENT
DTSTAMP:20260420T223534Z
UID:6e2a1bae-ce49-462b-9523-31ac6ee72e3f
DTSTART:20260430T100000
DTEND:20260430T150000
DESCRIPTION:
LOCATION:Cooperstown\, ND 58425\, USA
SUMMARY:Golf: Varsity at Cooperstown
END:VEVENT
BEGIN:VEVENT
DTSTAMP:20260420T223534Z
UID:25689980-e861-4e22-8344-476254ba040e
DTSTART:20260430T163000
DTEND:20260430T203000
DESCRIPTION:
LOCATION:Bismarck\, ND\, USA
SUMMARY:Baseball: Junior High at St. Mary's
END:VEVENT
BEGIN:VEVENT
DTSTAMP:20260420T223534Z
UID:767c6137-7ba0-41df-acaa-011ced02111e
DTSTART:20260430T163000
DTEND:20260430T203000
DESCRIPTION:
LOCATION:101 4th St SE\, Steele\, ND 58482\, USA
SUMMARY:Baseball: Varsity vs. Valley City
END:VEVENT
BEGIN:VEVENT
DTSTAMP:20260420T223534Z
UID:a21d0ab0-141d-471f-96b7-fb1103091e2b
DTSTART:20260430T163000
DTEND:20260430T203000
DESCRIPTION:
LOCATION:Wilton\, ND 58579\, USA
SUMMARY:Softball: Varsity vs. Velva
END:VEVENT
BEGIN:VEVENT
DTSTAMP:20260420T223534Z
UID:f725a767-98cf-443d-9f91-fdcbae3eb62c
DTSTART:20260501T100000
DTEND:20260501T150000
DESCRIPTION:
LOCATION:9755 66th St SE\, Lamoure\, ND 58458\, USA
SUMMARY:Golf: JV at Grand Rapids
END:VEVENT
BEGIN:VEVENT
DTSTAMP:20260420T223534Z
UID:1c5a7b26-4e36-40d0-beff-e5374d8065cd
DTSTART:20260501T150000
DTEND:20260501T200000
DESCRIPTION:
LOCATION:Oakes\, ND 58474\, USA
SUMMARY:Track & Field: Junior High at Oakes
END:VEVENT
BEGIN:VEVENT
DTSTAMP:20260420T223534Z
UID:6daf4aaf-7327-4942-ae42-574dbde4ab60
DTSTART:20260501T190000
DTEND:20260501T203000
DESCRIPTION:<p>Grades 6th-12th performing</p>
LOCATION:101 4th St SE\, Steele\, ND 58482\, USA
SUMMARY:Music: Kidder County Pops Concert
END:VEVENT
BEGIN:VEVENT
DTSTAMP:20260420T223534Z
UID:13fb6e8e-1c23-4364-98c8-673728806f57
DTSTART;VALUE=DATE:20260502
DTEND;VALUE=DATE:20260503
DESCRIPTION:
LOCATION:1500 Edwards Ave\, Bismarck\, ND 58506\, USA
SUMMARY:Music: State Music Competition at Bismarck State College
END:VEVENT
BEGIN:VEVENT
DTSTAMP:20260420T223534Z
UID:e64b647c-6f98-49a3-8e92-62600164d88d
DTSTART:20260502T110000
DTEND:20260502T150000
DESCRIPTION:
LOCATION:Carrington\, ND 58421\, USA
SUMMARY:Track & Field: Varsity at Carrington
END:VEVENT
BEGIN:VEVENT
DTSTAMP:20260420T223534Z
UID:04ba4946-fc7d-44b4-9527-f8e5103f332c
DTSTART:20260502T120000
DTEND:20260502T160000
DESCRIPTION:
LOCATION:101 4th St SE\, Steele\, ND 58482\, USA
SUMMARY:Baseball: Varsity vs. Century JV
END:VEVENT
BEGIN:VEVENT
DTSTAMP:20260420T223534Z
UID:c9c3116f-8fcd-48d8-93b4-5fcc2893e78e
DTSTART:20260502T130000
DTEND:20260502T160000
DESCRIPTION:
LOCATION:Wilton\, ND 58579\, USA
SUMMARY:Softball: Varsity vs. Garrison
END:VEVENT
BEGIN:VEVENT
DTSTAMP:20260420T223534Z
UID:09843394-62aa-42fe-8221-a868b5f9118b
DTSTART:20260504T100000
DTEND:20260504T143000
DESCRIPTION:
LOCATION:
SUMMARY:Alpha Wolves Bismarck Trip
END:VEVENT
BEGIN:VEVENT
DTSTAMP:20260420T223534Z
UID:8abfab64-1091-46e7-b304-e8a5aedd55c6
DTSTART:20260504T100000
DTEND:20260504T150000
DESCRIPTION:
LOCATION:7964 6th Ave SE\, Linton\, ND 58552\, USA
SUMMARY:Golf: JV at Linton
END:VEVENT
BEGIN:VEVENT
DTSTAMP:20260420T223534Z
UID:10a93324-8314-4198-bac4-83925f39c8f7
DTSTART:20260504T133000
DTEND:20260504T153000
DESCRIPTION:<p>Grades 4 and 5 Girls and Grade 5 Boys</p>
LOCATION:101 4th St SE\, Steele\, ND 58482\, USA
SUMMARY:KCDHU: Growing Up Education 
END:VEVENT
BEGIN:VEVENT
DTSTAMP:20260420T223534Z
UID:3a2ca99b-e77c-4956-b9a7-ff769c3d37b0
DTSTART:20260504T150000
DTEND:20260504T200000
DESCRIPTION:
LOCATION:Oakes\, ND 58474\, USA
SUMMARY:Track & Field: Varsity at Oakes
END:VEVENT
BEGIN:VEVENT
DTSTAMP:20260420T223534Z
UID:d7fad606-1182-4a59-9515-e2df6bd6fe0f
DTSTART:20260504T163000
DTEND:20260504T203000
DESCRIPTION:
LOCATION:New England\, ND 58647\, USA
SUMMARY:Softball: Varsity at New England
END:VEVENT
BEGIN:VEVENT
DTSTAMP:20260420T223534Z
UID:c8306807-e485-43da-bddf-979275025f38
DTSTART:20260505T100000
DTEND:20260505T150000
DESCRIPTION:
LOCATION:3131 ND-34\, Napoleon\, ND 58561\, USA
SUMMARY:Golf: Varsity at Napoleon
END:VEVENT
BEGIN:VEVENT
DTSTAMP:20260420T223534Z
UID:a17f6b35-c66f-4550-a4a7-93dba1e2ff55
DTSTART:20260505T150000
DTEND:20260505T200000
DESCRIPTION:
LOCATION:Carrington\, ND 58421\, USA
SUMMARY:Track & Field: Junior High at Carrington
END:VEVENT
BEGIN:VEVENT
DTSTAMP:20260420T223534Z
UID:9ddf862d-574a-40a8-a2ae-47f7b2a8cbc5
DTSTART:20260505T150000
DTEND:20260505T200000
DESCRIPTION:
LOCATION:Linton\, ND 58552\, USA
SUMMARY:Track & Field: Varsity at Linton
END:VEVENT
BEGIN:VEVENT
DTSTAMP:20260420T223534Z
UID:33fece95-7566-49d3-bece-f19b742d13f4
DTSTART:20260505T163000
DTEND:20260505T203000
DESCRIPTION:
LOCATION:Mandan\, ND 58554\, USA
SUMMARY:Baseball: Junior High at Mandan
END:VEVENT
BEGIN:VEVENT
DTSTAMP:20260420T223534Z
UID:82f4f08d-048c-416d-90ff-9c1f2047d7ff
DTSTART:20260505T163000
DTEND:20260505T203000
DESCRIPTION:
LOCATION:101 4th St SE\, Steele\, ND 58482\, USA
SUMMARY:Baseball: Varsity vs. LaMoure-LME
END:VEVENT
BEGIN:VEVENT
DTSTAMP:20260420T223534Z
UID:7acce2ec-4bdd-4c8b-a196-703ab52541c9
DTSTART:20260506T080000
DTEND:20260506T150000
DESCRIPTION:
LOCATION:2301 University Dr\, Bismarck\, ND 58504\, USA
SUMMARY:5th Grade Aviation Field Trip to Bismarck Airport
END:VEVENT
BEGIN:VEVENT
DTSTAMP:20260420T223534Z
UID:8c87054d-f6b6-4c4e-a898-04eb25696a8d
DTSTART:20260506T150000
DTEND:20260506T153000
DESCRIPTION:
LOCATION:
SUMMARY:High School Student Council Assembly 
END:VEVENT
BEGIN:VEVENT
DTSTAMP:20260420T223534Z
UID:c14b63ae-353c-4b58-ae44-5f1d9053e06a
DTSTART:20260506T183000
DTEND:20260506T200000
DESCRIPTION:<p>Social: 6:30pm</p><p>Banquet: 7:00pm</p><p>Photos: 8:00pm</p
 >
LOCATION:114 1st St NW\, Steele\, ND 58482\, USA
SUMMARY:Kidder County Activities Banquet
END:VEVENT
BEGIN:VEVENT
DTSTAMP:20260420T223534Z
UID:9dc2bc72-dc88-4040-9d6b-edd43696ed9a
DTSTART:20260507T080000
DTEND:20260507T090000
DESCRIPTION:
LOCATION:101 4th St SE\, Steele\, ND 58482\, USA
SUMMARY:Baseball: Junior High vs. Bismarck St. Mary's
END:VEVENT
BEGIN:VEVENT
DTSTAMP:20260420T223534Z
UID:789a3725-41a6-411b-be69-cfe4c854adfd
DTSTART:20260507T083000
DTEND:20260507T173000
DESCRIPTION:
LOCATION:Aberdeen\, SD 
SUMMARY:Kindy Field Trip to Storybook Land 
END:VEVENT
BEGIN:VEVENT
DTSTAMP:20260420T223534Z
UID:869e869c-97a8-46c2-9ea4-cb7d6ab722ee
DTSTART:20260507T150000
DTEND:20260507T200000
DESCRIPTION:
LOCATION:Ellendale\, ND 58436\, USA
SUMMARY:Track & Field: Junior High at Ellendale
END:VEVENT
BEGIN:VEVENT
DTSTAMP:20260420T223534Z
UID:0b7e76e0-4c97-423a-8a54-7a3165c62816
DTSTART:20260507T163000
DTEND:20260507T203000
DESCRIPTION:
LOCATION:Valley City\, ND 58072\, USA
SUMMARY:Baseball: Varsity at Valley City
END:VEVENT
BEGIN:VEVENT
DTSTAMP:20260420T223534Z
UID:d393438e-e2d9-4024-ade8-25942bd2750a
DTSTART:20260507T180000
DTEND:20260507T200000
DESCRIPTION:
LOCATION:Kidder County School
SUMMARY:Kidder County Ambulance Training 
END:VEVENT
BEGIN:VEVENT
DTSTAMP:20260420T223534Z
UID:a16eb5db-7b3d-4de2-bacd-64296fdf2798
DTSTART;VALUE=DATE:20260508
DTEND;VALUE=DATE:20260510
DESCRIPTION:
LOCATION:Fargo\, ND\, USA
SUMMARY:Softball: Varsity at Fargo Tournament
END:VEVENT
BEGIN:VEVENT
DTSTAMP:20260420T223534Z
UID:3d126bb4-4edd-4c42-b1b7-687fed42e655
DTSTART:20260508T130000
DTEND:20260508T170000
DESCRIPTION:
LOCATION:Jamestown\, ND\, USA
SUMMARY:Track & Field: Varsity at Jamestown
END:VEVENT
BEGIN:VEVENT
DTSTAMP:20260420T223534Z
UID:7dc30b05-f85a-4624-a3bd-5fb870690e07
DTSTART:20260508T144500
DTEND:20260508T151500
DESCRIPTION:
LOCATION:Steele\, ND
SUMMARY:KCS Annual Color Run
END:VEVENT
BEGIN:VEVENT
DTSTAMP:20260420T223534Z
UID:3615c8dd-ca37-46c3-a9e1-5a174f742017
DTSTART:20260508T173000
DTEND:20260508T183000
DESCRIPTION:
LOCATION:101 4th St SE\, Steele\, ND 58482\, USA
SUMMARY:PK Graduation Celebration
END:VEVENT
BEGIN:VEVENT
DTSTAMP:20260420T223534Z
UID:7154712b-5203-46b7-bd69-e99156c03bb3
DTSTART:20260509T100000
DTEND:20260509T140000
DESCRIPTION:
LOCATION:Fessenden\, ND 58438\, USA
SUMMARY:Track & Field: Varsity at Fessenden
END:VEVENT
BEGIN:VEVENT
DTSTAMP:20260420T223534Z
UID:d2a49006-4965-40d3-a4fb-311d567643d8
DTSTART:20260509T163000
DTEND:20260509T203000
DESCRIPTION:
LOCATION:101 4th St SE\, Steele\, ND 58482\, USA
SUMMARY:Baseball: Varsity vs. Carrington
END:VEVENT
BEGIN:VEVENT
DTSTAMP:20260420T223534Z
UID:ffccda2a-d467-44d8-ba1b-5e82bb28655d
DTSTART:20260511T083000
DTEND:20260511T153000
DESCRIPTION:
LOCATION:Steele\, ND 58482\, USA
SUMMARY:Field Trip: KC 3rd Grade Annual In-Town Business Tours
END:VEVENT
BEGIN:VEVENT
DTSTAMP:20260420T223534Z
UID:aae438db-46c1-4efa-974b-d4100556d0c3
DTSTART:20260511T100000
DTEND:20260511T150000
DESCRIPTION:
LOCATION:1349 14th St SW\, Valley City\, ND 58072\, USA
SUMMARY:Golf: Varsity at Valley City
END:VEVENT
BEGIN:VEVENT
DTSTAMP:20260420T223534Z
UID:efff3f17-42cd-40b0-b0eb-774bddeecba1
DTSTART:20260511T150000
DTEND:20260511T200000
DESCRIPTION:
LOCATION:Valley City\, ND 58072\, USA
SUMMARY:Track & Field: Junior High at Valley City
END:VEVENT
BEGIN:VEVENT
DTSTAMP:20260420T223534Z
UID:24634c15-258d-4309-9dc1-533088bae0ef
DTSTART:20260511T150000
DTEND:20260511T200000
DESCRIPTION:
LOCATION:Oakes\, ND 58474\, USA
SUMMARY:Track & Field: Varsity at Oakes
END:VEVENT
BEGIN:VEVENT
DTSTAMP:20260420T223534Z
UID:dcc37482-9529-48e0-b505-efb4353df0a2
DTSTART:20260511T163000
DTEND:20260511T203000
DESCRIPTION:
LOCATION:101 4th St SE\, Steele\, ND 58482\, USA
SUMMARY:Baseball: Junior High vs. Mandan
END:VEVENT
BEGIN:VEVENT
DTSTAMP:20260420T223534Z
UID:f836d613-1a64-43aa-88b1-d2b45c015a59
DTSTART:20260511T163000
DTEND:20260511T203000
DESCRIPTION:
LOCATION:Lamoure\, ND 58458\, USA
SUMMARY:Baseball: Varsity at LaMoure
END:VEVENT
BEGIN:VEVENT
DTSTAMP:20260420T223534Z
UID:dd1bd278-60b6-4da2-b4fe-3e91f3d942ed
DTSTART:20260511T163000
DTEND:20260511T203000
DESCRIPTION:
LOCATION:Washburn\, ND 58577\, USA
SUMMARY:Softball: Varsity at Washburn
END:VEVENT
BEGIN:VEVENT
DTSTAMP:20260420T223534Z
UID:ce9ead1e-346b-4c19-9c90-3a859510f56d
DTSTART;VALUE=DATE:20260512
DTEND;VALUE=DATE:20260513
DESCRIPTION:
LOCATION:
SUMMARY:Elementary Inflatables in the Gym
END:VEVENT
BEGIN:VEVENT
DTSTAMP:20260420T223534Z
UID:e8ada6f1-ca3f-47a0-8e07-8514faa9f9ef
DTSTART:20260512T100000
DTEND:20260512T150000
DESCRIPTION:
LOCATION:8587 ND-1\, Oakes\, ND 58474\, USA
SUMMARY:Golf: JV at Oakes
END:VEVENT
BEGIN:VEVENT
DTSTAMP:20260420T223534Z
UID:4d4ba12c-cad0-4369-bba0-8304734e6afb
DTSTART:20260512T140000
DTEND:20260512T180000
DESCRIPTION:
LOCATION:Hazen\, ND 58545\, USA
SUMMARY:Track & Field: Varsity at Hazen
END:VEVENT
BEGIN:VEVENT
DTSTAMP:20260420T223534Z
UID:ab41849d-cf76-4fd8-8af9-3dbeedf7218d
DTSTART:20260512T163000
DTEND:20260512T200000
DESCRIPTION:
LOCATION:101 4th St SE\, Steele\, ND 58482\, USA
SUMMARY:Baseball: JH vs. Medina-PB
END:VEVENT
BEGIN:VEVENT
DTSTAMP:20260420T223534Z
UID:f56903f2-e7d7-4d88-9a6a-615113b21294
DTSTART:20260512T163000
DTEND:20260512T203000
DESCRIPTION:
LOCATION:Wilton\, ND 58579\, USA
SUMMARY:Softball: Varsity vs. Washburn
END:VEVENT
BEGIN:VEVENT
DTSTAMP:20260420T223534Z
UID:17f09730-67bd-4d5d-be0a-5b0023d7271f
DTSTART:20260513T083500
DTEND:20260513T090000
DESCRIPTION:
LOCATION:101 4th St SE\, Steele\, ND 58482\, USA
SUMMARY:Elementary Alpha Wolves Monthly Assembly
END:VEVENT
BEGIN:VEVENT
DTSTAMP:20260420T223534Z
UID:0f17bca5-9c29-4f31-ad7c-4286e647a731
DTSTART:20260513T093000
DTEND:20260513T143000
DESCRIPTION:
LOCATION:US-281\, Carrington\, ND 58421\, USA
SUMMARY:Golf: Varsity at Carrington
END:VEVENT
BEGIN:VEVENT
DTSTAMP:20260420T223534Z
UID:e881e668-c379-4729-8bc6-4e9139521353
DTSTART:20260513T100000
DTEND:20260513T143000
DESCRIPTION:<p>Bus Leave 9:00am</p>
LOCATION:612 E Boulevard Ave\, Bismarck\, ND 58505\, USA
SUMMARY:4th Grade Field Trip to North Dakota Heritage Center
END:VEVENT
BEGIN:VEVENT
DTSTAMP:20260420T223534Z
UID:3ae58f8d-59da-4a5a-a21b-879aaed46086
DTSTART:20260513T173000
DTEND:20260513T183000
DESCRIPTION:<p>Main Gym 5:30pm</p><p>Multi Gym 6:00pm</p>
LOCATION:101 4th St SE\, Steele\, ND 58482\, USA
SUMMARY:Kindergarten Graduation
END:VEVENT
BEGIN:VEVENT
DTSTAMP:20260420T223534Z
UID:22907e39-be60-49fe-88dc-515476a62fcd
DTSTART;VALUE=DATE:20260514
DTEND;VALUE=DATE:20260516
DESCRIPTION:
LOCATION:
SUMMARY:Track & Field: Varsity at Hazen Regional
END:VEVENT
BEGIN:VEVENT
DTSTAMP:20260420T223534Z
UID:b390c8c3-78b0-4234-be5f-f067daa26c33
DTSTART:20260514T090000
DTEND:20260514T150000
DESCRIPTION:
LOCATION:101 4th St SE\, Steele\, ND 58482\, USA
SUMMARY:Elementary Play Day
END:VEVENT
BEGIN:VEVENT
DTSTAMP:20260420T223534Z
UID:fcef75c7-1ca5-4ce9-be48-a8b50c29c1d9
DTSTART:20260515T090000
DTEND:20260515T100000
DESCRIPTION:
LOCATION:101 4th St SE\, Steele\, ND 58482\, USA
SUMMARY:Kidder County Annual Elementary Awards Day
END:VEVENT
BEGIN:VEVENT
DTSTAMP:20260420T223534Z
UID:0b94796a-fa5c-49a7-9816-0460ae4bb985
DTSTART:20260517T140000
DTEND:20260517T150000
DESCRIPTION:
LOCATION:101 4th St SE\, Steele\, ND 58482\, USA
SUMMARY:2025-2025 Kidder County Senior Graduation
END:VEVENT
BEGIN:VEVENT
DTSTAMP:20260420T223534Z
UID:eebda820-1f57-4a18-a74d-75eb579284da
DTSTART;VALUE=DATE:20260518
DTEND;VALUE=DATE:20260521
DESCRIPTION:
LOCATION:Lamoure\, ND 58458\, USA
SUMMARY:Baseball: Region Tournament at LaMoure
END:VEVENT
BEGIN:VEVENT
DTSTAMP:20260420T223534Z
UID:61f61fc4-0cc5-4b3b-9a19-c084cb728887
DTSTART;VALUE=DATE:20260518
DTEND;VALUE=DATE:20260523
DESCRIPTION:
LOCATION:Wilton\, ND 58579\, USA
SUMMARY:Softball: Region Tournament at Wilton
END:VEVENT
BEGIN:VEVENT
DTSTAMP:20260420T223534Z
UID:e1a11675-8cfb-49de-9d20-8e947ecfbce8
DTSTART:20260518T100000
DTEND:20260518T150000
DESCRIPTION:
LOCATION:9755 66th St SE\, Lamoure\, ND 58458\, USA
SUMMARY:Golf: Varsity at Grand Rapids
END:VEVENT
BEGIN:VEVENT
DTSTAMP:20260420T223534Z
UID:7b8e63df-7359-49ae-a6e4-9fdd79c79299
DTSTART;VALUE=DATE:20260520
DTEND;VALUE=DATE:20260521
DESCRIPTION:
LOCATION:
SUMMARY:Active Shooter Drill
END:VEVENT
BEGIN:VEVENT
DTSTAMP:20260420T223534Z
UID:71431248-3101-4837-9f64-d6488866ac71
DTSTART;VALUE=DATE:20260521
DTEND;VALUE=DATE:20260524
DESCRIPTION:
LOCATION:1701 Canary Ave\, Bismarck\, ND 58501\, USA
SUMMARY:Track & Field: Varsity State Track Meet
END:VEVENT
BEGIN:VEVENT
DTSTAMP:20260420T223534Z
UID:b4af2465-622e-4a0b-8334-ada95df76cfa
DTSTART;VALUE=DATE:20260526
DTEND;VALUE=DATE:20260527
DESCRIPTION:
LOCATION:3730 86th Ave SE\, Jamestown\, ND 58401\, USA
SUMMARY:Golf: Region Tournament at Jamestown
END:VEVENT
BEGIN:VEVENT
DTSTAMP:20260420T223534Z
UID:411cc445-1fe5-49f3-bb43-916d0572ea31
DTSTART;VALUE=DATE:20260528
DTEND;VALUE=DATE:20260531
DESCRIPTION:
LOCATION:
SUMMARY:Baseball: State at Jamestwon
END:VEVENT
BEGIN:VEVENT
DTSTAMP:20260420T223534Z
UID:40f52dfe-3289-4218-b3ad-d0061c3172c8
DTSTART;VALUE=DATE:20260528
DTEND;VALUE=DATE:20260531
DESCRIPTION:
LOCATION:Jamestown\, ND\, USA
SUMMARY:Softball: State at Jamestown
END:VEVENT
BEGIN:VEVENT
DTSTAMP:20260420T223534Z
UID:6df2244f-b14f-4c82-9060-fe5e27968900
DTSTART:20260529T130000
DTEND:20260529T190000
DESCRIPTION:
LOCATION:2241 Highway 10 Steele\, Steele\, ND 58482\, USA
SUMMARY:KC Coaches Club Annual Par 3 Golf Tournament Fundraiseer
END:VEVENT
BEGIN:VEVENT
DTSTAMP:20260420T223534Z
UID:e5481198-3a65-4e6d-a2f3-c444a070ec93
DTSTART;VALUE=DATE:20260602
DTEND;VALUE=DATE:20260604
DESCRIPTION:
LOCATION:US-281\, Carrington\, ND 58421\, USA
SUMMARY:Golf: Varsity State Tournament at Carrington
END:VEVENT
BEGIN:VEVENT
DTSTAMP:20260420T223534Z
UID:2640120c-3aa9-4402-ac4b-829c23b95730
DTSTART;VALUE=DATE:20260605
DTEND;VALUE=DATE:20260608
DESCRIPTION:
LOCATION:101 College St SE\, Valley City\, ND 58072\, USA
SUMMARY:Football: Varsity Team Camp at Valley City
END:VEVENT
BEGIN:VEVENT
DTSTAMP:20260420T223534Z
UID:3a6081c1-5420-4df3-8464-486c015833da
DTSTART;VALUE=DATE:20260606
DTEND;VALUE=DATE:20260610
DESCRIPTION:
LOCATION:Orlando\, FL\, USA
SUMMARY:Music: KC Florida Band Trip
END:VEVENT
BEGIN:VEVENT
DTSTAMP:20260420T223534Z
UID:bc3ca9a6-d577-4be1-9397-6394d82f30c5
DTSTART:20260609T070000
DTEND:20260609T190000
DESCRIPTION:
LOCATION:101 4th St SE\, Steele\, ND 58482\, USA
SUMMARY:KC School Board Annual Election
END:VEVENT
BEGIN:VEVENT
DTSTAMP:20260420T223534Z
UID:dc2696e2-f299-46f8-947c-00d2a040c72a
DTSTART;VALUE=DATE:20260619
DTEND;VALUE=DATE:20260621
DESCRIPTION:
LOCATION:
SUMMARY:Steele All School Reunion 
END:VEVENT
BEGIN:VEVENT
DTSTAMP:20260420T223534Z
UID:e776175d-8272-40cf-aa3d-57a0770e5c7d
DTSTART;VALUE=DATE:20260620
DTEND;VALUE=DATE:20260621
DESCRIPTION:
LOCATION:
SUMMARY:ND Shrine Bowl
END:VEVENT
BEGIN:VEVENT
DTSTAMP:20260420T223534Z
UID:2d24bc90-ce86-48ae-8518-c70836610d54
DTSTART;VALUE=DATE:20260620
DTEND;VALUE=DATE:20260621
DESCRIPTION:<p>Kidder County Players: Bryce Larson\, Preston Fischer\, Maso
 n Whitman</p>
LOCATION:330 3rd St NE\, Mayville\, ND 58257\, USA
SUMMARY:Football: Annual Shrine Game
END:VEVENT
BEGIN:VEVENT
DTSTAMP:20260420T223534Z
UID:4c079a96-de95-453c-9f8b-343b9fc3207d
DTSTART:20260622T190000
DTEND:20260622T210000
DESCRIPTION:
LOCATION:Kidder County
SUMMARY:KC June Regular School Board & Canvass Meeting
END:VEVENT
BEGIN:VEVENT
DTSTAMP:20260420T223534Z
UID:6cb926c1-ed7d-4fc5-b610-5e9f4bd6c266
DTSTART;VALUE=DATE:20260708
DTEND;VALUE=DATE:20260712
DESCRIPTION:<p>Kidder County Fair events</p>
LOCATION:
SUMMARY:4H & FFA rental of Multipurpose Room and High School Hallway 
END:VEVENT
BEGIN:VEVENT
DTSTAMP:20260420T223534Z
UID:d8c31df7-1101-40a8-94fc-7aa0f971e807
DTSTART:20260831T080000
DTEND:20260831T090000
DESCRIPTION:
LOCATION:101 4th St SE\, Steele\, ND 58482\, USA
SUMMARY:KC Elementary School Store Launch
END:VEVENT
BEGIN:VEVENT
DTSTAMP:20260420T223534Z
UID:e825e900-16ae-496c-9239-e7deb9e3cde4
DTSTART:20260909T150000
DTEND:20260909T153000
DESCRIPTION:<p>Homecoming Pep Rally 2026</p>
LOCATION:101 4th St SE\, Steele\, ND 58482\, USA
SUMMARY:Homecoming Pep Rally
END:VEVENT
BEGIN:VEVENT
DTSTAMP:20260420T223534Z
UID:1f0dd25c-36ab-402f-ba7f-1625ef353cb4
DTSTART:20260909T190000
DTEND:20260909T213000
DESCRIPTION:<p>Homecoming Coronation &amp\; Lip Sync 2026</p>
LOCATION:101 4th St SE\, Steele\, ND 58482\, USA
SUMMARY:Homecoming Coronation & Lip Sync
END:VEVENT
BEGIN:VEVENT
DTSTAMP:20260420T223534Z
UID:9ba0b3c2-5a45-4a31-a4f8-df87670d675e
DTSTART:20260911T190000
DTEND:20260911T210000
DESCRIPTION:<p>Homecoming 2026</p>
LOCATION:101 4th St SE\, Steele\, ND 58482\, USA
SUMMARY:Football: Varsity vs. Hettinger/Scranton 
END:VEVENT
BEGIN:VEVENT
DTSTAMP:20260420T223534Z
UID:4c1f2237-63df-44b1-bfac-6a4dd2d6cf68
DTSTART:20260911T213000
DTEND:20260911T235900
DESCRIPTION:<p>Homecoming Dance 2026</p>
LOCATION:101 4th St SE\, Steele\, ND 58482\, USA
SUMMARY:Homecoming Dance
END:VEVENT
BEGIN:VEVENT
DTSTAMP:20260420T223534Z
UID:e0350e63-5d43-4f5f-834e-b45d4139201a
DTSTART;VALUE=DATE:20270310
DTEND;VALUE=DATE:20270312
DESCRIPTION:
LOCATION:510 7th Street NW\, Steele\, ND 58482\, USA
SUMMARY:2027 PK Round-Up Screenings
END:VEVENT
END:VCALENDAR
