BEGIN:VCALENDAR
VERSION:2.0
PRODID:icalendar-ruby
CALSCALE:GREGORIAN
BEGIN:VTIMEZONE
TZID:America/Chicago
BEGIN:DAYLIGHT
DTSTART:20260308T030000
TZOFFSETFROM:-0600
TZOFFSETTO:-0500
RRULE:FREQ=YEARLY;BYDAY=2SU;BYMONTH=3
TZNAME:CDT
END:DAYLIGHT
BEGIN:STANDARD
DTSTART:20261101T010000
TZOFFSETFROM:-0500
TZOFFSETTO:-0600
RRULE:FREQ=YEARLY;BYDAY=1SU;BYMONTH=11
TZNAME:CST
END:STANDARD
END:VTIMEZONE
BEGIN:VEVENT
DTSTAMP:20260421T171217Z
UID:d654f1f1-a9ac-4fe3-9fcd-da250222ac03
DTSTART:20260421T153000
DTEND:20260421T153000
DESCRIPTION:Type: Meet  Opponent: Prairie View Middle  Comments: Field Even
 ts @ 3:30 PM\, 3200 Meter Run @ 4:00 PM\, Running Events will start as soo
 n as 3200 Meter finishes.
LOCATION:Prairie View Middle School  
SUMMARY:Track: 7th/8th  vs. Prairie View Middle (Away)
END:VEVENT
BEGIN:VEVENT
DTSTAMP:20260421T171217Z
UID:88d68953-269b-444e-b6a1-5f10edfb6491
DTSTART:20260422T144500
DTEND:20260422T151500
DESCRIPTION:
LOCATION:
SUMMARY:Orchestra Tour
END:VEVENT
BEGIN:VEVENT
DTSTAMP:20260421T171217Z
UID:66de6d67-7ad7-42e3-ad06-0192f756ff87
DTSTART:20260423T140000
DTEND:20260423T140000
DESCRIPTION:Type: Meet  Opponent: Frontenac Junior  Bus: 12:40PM  Dismissal
 : 12:30PM  Est.return:   Comments: Field Events @ 2:00 PM and Running Even
 ts @ 4:00 PM.
LOCATION:Raider Sports Complex  
SUMMARY:Track: 7th/8th  vs. Frontenac Junior (Away)
END:VEVENT
BEGIN:VEVENT
DTSTAMP:20260421T171217Z
UID:d1c4b6e3-52ca-4705-9c13-623674ef1442
DTSTART;VALUE=DATE:20260424
DTEND;VALUE=DATE:20260425
DESCRIPTION:
LOCATION:
SUMMARY:PLC/PD Day - No School
END:VEVENT
BEGIN:VEVENT
DTSTAMP:20260421T171217Z
UID:6bb07cb3-5099-49c5-9e19-c7bea5c782e7
DTSTART:20260427T173000
DTEND:20260427T183000
DESCRIPTION:<p>Middle School Library</p>
LOCATION:
SUMMARY:Washington Workshop Parent Meeting 
END:VEVENT
BEGIN:VEVENT
DTSTAMP:20260421T171217Z
UID:dba397b9-f36e-42c9-9017-6400bd37fd66
DTSTART;VALUE=DATE:20260429
DTEND;VALUE=DATE:20260430
DESCRIPTION:<p>In Pittsburg</p>
LOCATION:
SUMMARY:Special Olympics
END:VEVENT
BEGIN:VEVENT
DTSTAMP:20260421T171217Z
UID:f559b0b3-f6b8-493b-bc30-3b80c9ed8c69
DTSTART:20260429T193000
DTEND:20260429T203000
DESCRIPTION:<p>FSHS Gym. Students report by 7pm</p>
LOCATION:1005 S Main St\, Fort Scott\, KS 66701\, USA
SUMMARY:Spring MS/HS Band Concert
END:VEVENT
BEGIN:VEVENT
DTSTAMP:20260421T171217Z
UID:1460c6cd-7b17-489d-a44a-437b75de622d
DTSTART:20260430T153000
DTEND:20260430T153000
DESCRIPTION:Type: Meet  Opponent: Parsons Middle  Bus: 1:30PM  Dismissal: 1
 :20PM  Est.return:   Comments: Field Events and the 3200 M will start at 3
 :30 PM and all other running events start at 4:00 PM.
LOCATION:Parsons High School  
SUMMARY:Track: 7th/8th  vs. Parsons Middle (Away)
END:VEVENT
BEGIN:VEVENT
DTSTAMP:20260421T171217Z
UID:494b3ba1-ddd9-42b2-8052-90a476a69314
DTSTART:20260504T153000
DTEND:20260504T153000
DESCRIPTION:Type: Meet  Opponent: Royster Middle  Bus: 1:30PM  Dismissal: 1
 :20PM  Est.return:   
LOCATION:Chanute Sports Complex  
SUMMARY:Track: 7th/8th  vs. Royster Middle (Away)
END:VEVENT
BEGIN:VEVENT
DTSTAMP:20260421T171217Z
UID:a7b27997-508a-48a5-8ccf-7c30dc7ba86b
DTSTART;VALUE=DATE:20260505
DTEND;VALUE=DATE:20260506
DESCRIPTION:
LOCATION:
SUMMARY:Sparkwheel KC Zoo Trip
END:VEVENT
BEGIN:VEVENT
DTSTAMP:20260421T171217Z
UID:9cd084d3-c877-47dd-9961-4c0eb6bf4d27
DTSTART:20260505T170000
DTEND:20260505T190000
DESCRIPTION:<p>Middle School Windroom</p>
LOCATION:1105 E 12th St\, Fort Scott\, KS 66701\, USA
SUMMARY:FSMS Art Show 
END:VEVENT
BEGIN:VEVENT
DTSTAMP:20260421T171217Z
UID:4f23dec2-d012-4e39-98d8-b7d75aa771c8
DTSTART;VALUE=DATE:20260506
DTEND;VALUE=DATE:20260507
DESCRIPTION:
LOCATION:
SUMMARY:5th Grade Orientation 
END:VEVENT
BEGIN:VEVENT
DTSTAMP:20260421T171217Z
UID:31d17dc0-a379-43aa-a5ec-7a6671de3ade
DTSTART:20260506T090000
DTEND:20260506T093000
DESCRIPTION:
LOCATION:1105 E 12th St\, Fort Scott\, KS 66701\, USA
SUMMARY:Senior Walk-through 
END:VEVENT
BEGIN:VEVENT
DTSTAMP:20260421T171217Z
UID:15da5649-d643-473c-9c02-ea9c90d96d98
DTSTART:20260506T193000
DTEND:20260506T210000
DESCRIPTION:<p></p>
LOCATION:1105 E 12th St\, Fort Scott\, KS 66701\, USA
SUMMARY:Orchestra Concert 
END:VEVENT
BEGIN:VEVENT
DTSTAMP:20260421T171217Z
UID:f81b894e-cb0e-497c-b1be-50064012491f
DTSTART:20260507T180000
DTEND:20260507T190000
DESCRIPTION:
LOCATION:1105 E 12th St\, Fort Scott\, KS 66701\, USA
SUMMARY:7th Grade Choir - Leap Day Performance
END:VEVENT
BEGIN:VEVENT
DTSTAMP:20260421T171217Z
UID:d3c1636a-3723-45f5-97a1-b95e354cf657
DTSTART:20260508T144000
DTEND:20260508T152500
DESCRIPTION:
LOCATION:1105 E 12th St\, Fort Scott\, KS 66701\, USA
SUMMARY:6th Grade Awards Program
END:VEVENT
BEGIN:VEVENT
DTSTAMP:20260421T171217Z
UID:f1f4650e-9ebc-4a54-ac6b-d4061942319b
DTSTART:20260511T140000
DTEND:20260511T152500
DESCRIPTION:
LOCATION:1105 E 12th St\, Fort Scott\, KS 66701\, USA
SUMMARY:7th Grade Awards Program
END:VEVENT
BEGIN:VEVENT
DTSTAMP:20260421T171217Z
UID:d5b78291-56c6-4d7e-a856-4aaa61300342
DTSTART:20260511T190000
DTEND:20260511T200000
DESCRIPTION:Comments: Choir Concert
LOCATION:Commons Area
SUMMARY:Choir  (Home)
END:VEVENT
BEGIN:VEVENT
DTSTAMP:20260421T171217Z
UID:ac2ef7da-ed48-446b-87d7-dc2cd2bae73d
DTSTART:20260512T090000
DTEND:20260512T110000
DESCRIPTION:
LOCATION:1105 E 12th St\, Fort Scott\, KS 66701\, USA
SUMMARY:8th Grade Awards Program
END:VEVENT
BEGIN:VEVENT
DTSTAMP:20260421T171217Z
UID:5c353052-c7be-42df-9b5b-2b0c088412ed
DTSTART:20260512T123000
DTEND:20260512T153000
DESCRIPTION:
LOCATION:1105 E 12th St\, Fort Scott\, KS 66701\, USA
SUMMARY:Dodgeball Tourney
END:VEVENT
BEGIN:VEVENT
DTSTAMP:20260421T171217Z
UID:ee816015-ba1b-4b8b-b924-32d099237cb6
DTSTART;VALUE=DATE:20260513
DTEND;VALUE=DATE:20260515
DESCRIPTION:<p><span>&nbsp\;Incentive Days for Students meeting requirement
 s to stay home these days</span></p><p></p>
LOCATION:
SUMMARY:Incentive Days 
END:VEVENT
BEGIN:VEVENT
DTSTAMP:20260421T171217Z
UID:a27ab334-0297-4423-9837-c7009ea190ad
DTSTART;VALUE=DATE:20260514
DTEND;VALUE=DATE:20260515
DESCRIPTION:<p>Dismiss at </p>
LOCATION:1105 E 12th St\, Fort Scott\, KS 66701\, USA
SUMMARY:Half Day 
END:VEVENT
END:VCALENDAR
