BEGIN:VCALENDAR
VERSION:2.0
PRODID:icalendar-ruby
CALSCALE:GREGORIAN
BEGIN:VTIMEZONE
TZID:America/Chicago
BEGIN:DAYLIGHT
DTSTART:20260308T030000
TZOFFSETFROM:-0600
TZOFFSETTO:-0500
RRULE:FREQ=YEARLY;BYDAY=2SU;BYMONTH=3
TZNAME:CDT
END:DAYLIGHT
BEGIN:STANDARD
DTSTART:20261101T010000
TZOFFSETFROM:-0500
TZOFFSETTO:-0600
RRULE:FREQ=YEARLY;BYDAY=1SU;BYMONTH=11
TZNAME:CST
END:STANDARD
END:VTIMEZONE
BEGIN:VEVENT
DTSTAMP:20260422T170508Z
UID:32e35ad5-8a32-4131-8644-b1b26f44e582
DTSTART:20260422T080000
DTEND:20260422T090000
DESCRIPTION:
LOCATION:
SUMMARY: ATLAS Summative Writing
END:VEVENT
BEGIN:VEVENT
DTSTAMP:20260422T170508Z
UID:8c2ad0b3-42a2-4bb0-8fae-20fee3aeb272
DTSTART:20260422T150000
DTEND:20260422T160000
DESCRIPTION:
LOCATION:
SUMMARY:Junior High District Track
END:VEVENT
BEGIN:VEVENT
DTSTAMP:20260422T170508Z
UID:879528e7-1ed2-40af-97b8-9eab21ee32c5
DTSTART:20260422T150000
DTEND:20260422T160000
DESCRIPTION:
LOCATION:
SUMMARY:Junior High District Track
END:VEVENT
BEGIN:VEVENT
DTSTAMP:20260422T170508Z
UID:c02cce05-5d51-4b5f-a76b-ff1d5bb4ebf6
DTSTART:20260423T150000
DTEND:20260423T160000
DESCRIPTION:
LOCATION:
SUMMARY:Senior High Track @ Mountain Home
END:VEVENT
BEGIN:VEVENT
DTSTAMP:20260422T170508Z
UID:e57845e6-8176-4558-b216-36d147b6c468
DTSTART:20260423T163000
DTEND:20260423T173000
DESCRIPTION:
LOCATION:
SUMMARY:Softball vs. Pottsville @ Pottsville
END:VEVENT
BEGIN:VEVENT
DTSTAMP:20260422T170508Z
UID:40439271-9d8e-48c3-bd5a-a859b2f44f31
DTSTART:20260424T163000
DTEND:20260424T173000
DESCRIPTION:
LOCATION:
SUMMARY:Baseball vs. Episcopal @ Clinton
END:VEVENT
BEGIN:VEVENT
DTSTAMP:20260422T170508Z
UID:21b49ad9-bec8-4055-b414-00daf344fe6c
DTSTART:20260427T163000
DTEND:20260427T173000
DESCRIPTION:
LOCATION:
SUMMARY:Baseball vs Harrison @ Harrison
END:VEVENT
BEGIN:VEVENT
DTSTAMP:20260422T170508Z
UID:449a1323-3913-462e-825b-d806d9a32399
DTSTART:20260428T080000
DTEND:20260428T090000
DESCRIPTION:
LOCATION:
SUMMARY: ATLAS Summative Math
END:VEVENT
BEGIN:VEVENT
DTSTAMP:20260422T170508Z
UID:209d422e-ad97-45f3-b0ad-318bbfb59df8
DTSTART:20260428T170000
DTEND:20260428T180000
DESCRIPTION:
LOCATION:
SUMMARY:Softball vs. Heber Springs @ Heber Springs
END:VEVENT
BEGIN:VEVENT
DTSTAMP:20260422T170508Z
UID:6b8afe36-093c-4ee9-97bf-089f7a312e95
DTSTART:20260429T080000
DTEND:20260429T090000
DESCRIPTION:
LOCATION:
SUMMARY: ATLAS Summative Science
END:VEVENT
BEGIN:VEVENT
DTSTAMP:20260422T170508Z
UID:e3406a77-3821-4243-b2c9-288c3bcb9267
DTSTART:20260429T150000
DTEND:20260429T160000
DESCRIPTION:
LOCATION:
SUMMARY:Senior High Track District @ Heber Springs
END:VEVENT
BEGIN:VEVENT
DTSTAMP:20260422T170508Z
UID:d15d908c-2628-4c29-abe4-f1c5ade00b44
DTSTART:20260430T180000
DTEND:20260430T200000
DESCRIPTION:
LOCATION:
SUMMARY:Band Spring Concert
END:VEVENT
BEGIN:VEVENT
DTSTAMP:20260422T170508Z
UID:0f7b5fd4-56d0-4482-9c83-46596cf82c24
DTSTART:20260504T163000
DTEND:20260504T173000
DESCRIPTION:
LOCATION:
SUMMARY:Softball vs. Harding Academy @ Clinton
END:VEVENT
BEGIN:VEVENT
DTSTAMP:20260422T170508Z
UID:a1ec7ea3-d8c6-4594-a61f-ad71bbabbf25
DTSTART:20260505T150000
DTEND:20260505T160000
DESCRIPTION:
LOCATION:
SUMMARY:Track State @ Clarksville
END:VEVENT
BEGIN:VEVENT
DTSTAMP:20260422T170508Z
UID:1d3d8c6e-baeb-418e-98c3-f07bf03a264c
DTSTART:20260505T163000
DTEND:20260505T173000
DESCRIPTION:
LOCATION:
SUMMARY:Softball vs. Mayflower @ Clinton
END:VEVENT
BEGIN:VEVENT
DTSTAMP:20260422T170508Z
UID:fa28f077-ff41-4f4a-b90a-62599d874559
DTSTART;VALUE=DATE:20260507
DTEND;VALUE=DATE:20260510
DESCRIPTION:
LOCATION:
SUMMARY:Baseball Regional Tournament
END:VEVENT
BEGIN:VEVENT
DTSTAMP:20260422T170508Z
UID:06fa7125-ca87-4f8c-9d8a-3dd646956c0e
DTSTART;VALUE=DATE:20260507
DTEND;VALUE=DATE:20260510
DESCRIPTION:
LOCATION:
SUMMARY:Softball Regional Tournament
END:VEVENT
BEGIN:VEVENT
DTSTAMP:20260422T170508Z
UID:88a24eae-c5fe-46cb-bd92-d8b45a5eab47
DTSTART:20260509T080000
DTEND:20260509T110000
DESCRIPTION:
LOCATION:
SUMMARY:Fishing Derby
END:VEVENT
BEGIN:VEVENT
DTSTAMP:20260422T170508Z
UID:e2918115-ea3a-40d4-b472-b1afc3c09461
DTSTART;VALUE=DATE:20260511
DTEND;VALUE=DATE:20260512
DESCRIPTION:
LOCATION:
SUMMARY:FFA Rodeo
END:VEVENT
BEGIN:VEVENT
DTSTAMP:20260422T170508Z
UID:f39907f5-9e35-4e6e-942a-85412cb874a7
DTSTART:20260511T124500
DTEND:20260511T151500
DESCRIPTION:
LOCATION:
SUMMARY:FFA Rodeo 
END:VEVENT
BEGIN:VEVENT
DTSTAMP:20260422T170508Z
UID:94c42e13-7320-4856-955e-b925ccae0d39
DTSTART;VALUE=DATE:20260514
DTEND;VALUE=DATE:20260517
DESCRIPTION:
LOCATION:
SUMMARY:Baseball State Tournament
END:VEVENT
BEGIN:VEVENT
DTSTAMP:20260422T170508Z
UID:f19f955f-3c5b-47b4-9135-b2c7c52c26e1
DTSTART;VALUE=DATE:20260514
DTEND;VALUE=DATE:20260517
DESCRIPTION:
LOCATION:
SUMMARY:Softball State Tournament
END:VEVENT
BEGIN:VEVENT
DTSTAMP:20260422T170508Z
UID:9f684209-91cc-4c69-b896-70c747409834
DTSTART:20260514T150000
DTEND:20260514T160000
DESCRIPTION:
LOCATION:
SUMMARY:Track Meet of Champs @ Russellville
END:VEVENT
BEGIN:VEVENT
DTSTAMP:20260422T170508Z
UID:05ffcb6b-d8d1-4d5c-9d7f-5af307683465
DTSTART;VALUE=DATE:20260519
DTEND;VALUE=DATE:20260520
DESCRIPTION:
LOCATION:
SUMMARY:Last Day of School
END:VEVENT
BEGIN:VEVENT
DTSTAMP:20260422T170508Z
UID:367d7c68-cd6f-46f0-9ac3-1c506dd18307
DTSTART;VALUE=DATE:20260521
DTEND;VALUE=DATE:20260522
DESCRIPTION:
LOCATION:
SUMMARY:Track Decathlon/Heptathlon @ Springdale
END:VEVENT
BEGIN:VEVENT
DTSTAMP:20260422T170508Z
UID:6907eaee-fa41-4539-bed3-ea4c2ca55d28
DTSTART:20260521T083000
DTEND:20260522T110000
DESCRIPTION:
LOCATION:
SUMMARY:Basketball Kids Camp
END:VEVENT
BEGIN:VEVENT
DTSTAMP:20260422T170508Z
UID:0fa37ec3-4b1e-41eb-82af-3e6d62ee84a3
DTSTART:20260521T083000
DTEND:20260522T110000
DESCRIPTION:
LOCATION:
SUMMARY:Basketball Kids Camp
END:VEVENT
BEGIN:VEVENT
DTSTAMP:20260422T170508Z
UID:265a0b2d-ded4-441f-9cf0-c7e3f395eb8e
DTSTART;VALUE=DATE:20260528
DTEND;VALUE=DATE:20260531
DESCRIPTION:
LOCATION:
SUMMARY:CJH Cheer Camp
END:VEVENT
BEGIN:VEVENT
DTSTAMP:20260422T170508Z
UID:bfd64107-6a58-4f7c-a047-01c92181b5a8
DTSTART;VALUE=DATE:20260528
DTEND;VALUE=DATE:20260531
DESCRIPTION:
LOCATION:
SUMMARY:CJH Cheer Camp
END:VEVENT
BEGIN:VEVENT
DTSTAMP:20260422T170508Z
UID:89182ef3-d488-4f9c-9530-0d8cf7d2d893
DTSTART:20260603T130000
DTEND:20260603T180000
DESCRIPTION:
LOCATION:
SUMMARY:Junior High Cheer Choreography
END:VEVENT
BEGIN:VEVENT
DTSTAMP:20260422T170508Z
UID:850f1e58-7d54-495f-ae15-100869479483
DTSTART:20260603T130000
DTEND:20260603T180000
DESCRIPTION:
LOCATION:
SUMMARY:Junior High Cheer Choreography
END:VEVENT
END:VCALENDAR
