BEGIN:VCALENDAR
VERSION:2.0
PRODID:icalendar-ruby
CALSCALE:GREGORIAN
BEGIN:VTIMEZONE
TZID:America/New_York
BEGIN:DAYLIGHT
DTSTART:20260308T030000
TZOFFSETFROM:-0500
TZOFFSETTO:-0400
RRULE:FREQ=YEARLY;BYDAY=2SU;BYMONTH=3
TZNAME:EDT
END:DAYLIGHT
BEGIN:STANDARD
DTSTART:20261101T010000
TZOFFSETFROM:-0400
TZOFFSETTO:-0500
RRULE:FREQ=YEARLY;BYDAY=1SU;BYMONTH=11
TZNAME:EST
END:STANDARD
END:VTIMEZONE
BEGIN:VEVENT
DTSTAMP:20260423T204226Z
UID:e33719b7-f727-44fc-975b-0dce92b4479a
DTSTART;VALUE=DATE:20260428
DTEND;VALUE=DATE:20260429
DESCRIPTION:
LOCATION:
SUMMARY:Building Leadership Committee
END:VEVENT
BEGIN:VEVENT
DTSTAMP:20260423T204226Z
UID:203efacf-3924-4fc7-ab9f-e5f802a13440
DTSTART;VALUE=DATE:20260428
DTEND;VALUE=DATE:20260501
DESCRIPTION:<p>Students in grades 7 - 9 should report by 8am to their assig
 ned testing site. Rosters will be shared with students by their teachers\,
  and also posted throughout the building and Classroom. *We will follow up
  on April 29th with an update if we finish the ELA sections in two days.</
 p><p>Grades 10-12 will report at 10am\, at which time the school will resu
 me regular operations following the 2-hour delayed opening schedule. Lunch
  will be served.</p><p>We are also facilitating special review sessions f
 or AP exams during the delayed openings. Teachers will follow up with the 
 dates\, times\, and location for their classes.</p><p>All NJSLA tests are
  computer-based. Please remind your child to bring their charged Chromeboo
 k to school each day.</p>
LOCATION:
SUMMARY:NJSLA-Language Arts (April 28th\, 29th\, and 30th*)
END:VEVENT
BEGIN:VEVENT
DTSTAMP:20260423T204226Z
UID:afe7459c-7f31-434d-8bed-7a474c22c99d
DTSTART:20260428T180000
DTEND:20260428T190000
DESCRIPTION:
LOCATION:
SUMMARY:HSA Meeting (PM)
END:VEVENT
BEGIN:VEVENT
DTSTAMP:20260423T204226Z
UID:ce266dc0-4413-4dd8-beb3-ea1c188618c9
DTSTART:20260430T150000
DTEND:20260430T180000
DESCRIPTION:
LOCATION:
SUMMARY:GREA Scholarship Interviews
END:VEVENT
BEGIN:VEVENT
DTSTAMP:20260423T204226Z
UID:26116811-a51a-4a44-a92a-ff464e3be305
DTSTART:20260501T090000
DTEND:20260501T100000
DESCRIPTION:
LOCATION:
SUMMARY:Support Services Meeting
END:VEVENT
BEGIN:VEVENT
DTSTAMP:20260423T204226Z
UID:dafcd617-1867-4ae5-860b-0e9592f34d38
DTSTART;VALUE=DATE:20260504
DTEND;VALUE=DATE:20260505
DESCRIPTION:<p dir="ltr">GRHS will be running its regular daily schedule\, 
 with students excused from classes for testing. AP exams are administered 
 daily\, either during the morning block\, or after lunch which will extend
  beyond the regular school day. Please visit the link below for the full s
 chedule:</p><p dir="ltr"><a href="http://track.spe.schoolmessenger.com/f/a
 /JzE9lwoJ31Ydf4qxDK6UjA~~/AAAAARA~/-x_RSfvdyrrds6k2dHmy3ovhVqiDMEF9hYCoFao
 N9tPEToAnn5_k3--za_ydUpVmRiMO0dyOF6aJ9zUqzVuBIZArdD-mpr7leZNw_ImFiJI3lYgdc
 WeSoGLlP4YH9JOOFDIXxh3KO142xWs20n88-Cfwi-q1c7grXsKzucmlyHuPhAUEJawLQT4r_i4
 xWC7r-xW6eNDw0a-El2Ty4s24QN7UiAhExr04002hirpix-99YoLrUsDjhleApg_82otUSQUAr
 kjHRhm30sQsiD1mblGvoFYBT2onYsHtJZE4--3fFvA5OaXzKL07LjR97JtBuz0snBm_FL1G5Ek
 X9ENHDHKDJlg1HLDO_uF1ud1W9CIKgVBRVKUnIu3ZNYc-r1yHAYUliNSnleykV_XyPANZTQrFm
 i982NYkb6TMsE47rziE_NLGy4kw5MQEuGZwu0Xsa9feYMqYB68XljtlfX2wV8L-v2LX7zJgMlj
 LFT-vZIK1hh4Mp8veA2V-RzNcbozsRjqlvKyYxUyPGuKK2XgetixsC0oegwXF27fx2SAzjGR6H
 g_8OXXOWDeici56RyKwBp-n4y0qXusYyorczUZoRCSd7FKJwHxP-7IXc78_rHS4EqoD9PxMvFq
 Y9QHUw5uKHPaWGCeNtEdne_oOED0hYELXsmwEoCNB6eve_Ar8lzUVvLgLMUI_ugRRz0fvKpP6C
 ciUS2RTRrBNlzlNt1tYi1ooFdFpWk7MSk04y92g2S_lCRJp1YQsgjSF0uhcxYTJWDKxnaQwtdL
 d9AtCvmI8dQ~~" target="_blank">https://apcentral.collegeboard<wbr />.org/e
 xam-administration-<wbr />ordering-scores/exam-dates</a></p>
LOCATION:
SUMMARY:AP Exams (4th - 15th)
END:VEVENT
BEGIN:VEVENT
DTSTAMP:20260423T204226Z
UID:7f56c5c6-5f0a-48a2-b1de-356f00b72bcb
DTSTART;VALUE=DATE:20260504
DTEND;VALUE=DATE:20260505
DESCRIPTION:8am: AP Biology / AP Latin\n12pm: AP European History / AP Micr
 oeconomics
LOCATION:
SUMMARY:AP Testing
END:VEVENT
BEGIN:VEVENT
DTSTAMP:20260423T204226Z
UID:ab3858c9-8d0c-4c82-99ac-ff2a4f5b1ba9
DTSTART;VALUE=DATE:20260505
DTEND;VALUE=DATE:20260506
DESCRIPTION:8am: AP Chemistry / AP Human Geography <br>12pm: US Government
  &amp\; Politics<br><p dir="ltr">Please visit the link below for the full 
 schedule: <a href="http://track.spe.schoolmessenger.com/f/a/JzE9lwoJ31Ydf
 4qxDK6UjA~~/AAAAARA~/-x_RSfvdyrrds6k2dHmy3ovhVqiDMEF9hYCoFaoN9tPEToAnn5_k3
 --za_ydUpVmRiMO0dyOF6aJ9zUqzVuBIZArdD-mpr7leZNw_ImFiJI3lYgdcWeSoGLlP4YH9JO
 OFDIXxh3KO142xWs20n88-Cfwi-q1c7grXsKzucmlyHuPhAUEJawLQT4r_i4xWC7r-xW6eNDw0
 a-El2Ty4s24QN7UiAhExr04002hirpix-99YoLrUsDjhleApg_82otUSQUArkjHRhm30sQsiD1
 mblGvoFYBT2onYsHtJZE4--3fFvA5OaXzKL07LjR97JtBuz0snBm_FL1G5EkX9ENHDHKDJlg1H
 LDO_uF1ud1W9CIKgVBRVKUnIu3ZNYc-r1yHAYUliNSnleykV_XyPANZTQrFmi982NYkb6TMsE4
 7rziE_NLGy4kw5MQEuGZwu0Xsa9feYMqYB68XljtlfX2wV8L-v2LX7zJgMljLFT-vZIK1hh4Mp
 8veA2V-RzNcbozsRjqlvKyYxUyPGuKK2XgetixsC0oegwXF27fx2SAzjGR6Hg_8OXXOWDeici5
 6RyKwBp-n4y0qXusYyorczUZoRCSd7FKJwHxP-7IXc78_rHS4EqoD9PxMvFqY9QHUw5uKHPaWG
 CeNtEdne_oOED0hYELXsmwEoCNB6eve_Ar8lzUVvLgLMUI_ugRRz0fvKpP6CciUS2RTRrBNlzl
 Nt1tYi1ooFdFpWk7MSk04y92g2S_lCRJp1YQsgjSF0uhcxYTJWDKxnaQwtdLd9AtCvmI8dQ~~"
  target="_blank">https://apcentral.collegeboard<wbr />.org/exam-administra
 tion-<wbr />ordering-scores/exam-dates</a></p>
LOCATION:
SUMMARY:AP Testing
END:VEVENT
BEGIN:VEVENT
DTSTAMP:20260423T204226Z
UID:8b8f6205-6ec8-4a1d-bcaa-2fb1f52a67c6
DTSTART;VALUE=DATE:20260506
DTEND;VALUE=DATE:20260507
DESCRIPTION:8am: AP English Literature &amp\; Composition<br>12pm: AP Compa
 rative Gov't &amp\; Politics / AP Physics 1<br><p dir="ltr">Please visit t
 he link below for the full schedule:</p><p dir="ltr"><a href="http://track
 .spe.schoolmessenger.com/f/a/JzE9lwoJ31Ydf4qxDK6UjA~~/AAAAARA~/-x_RSfvdyrr
 ds6k2dHmy3ovhVqiDMEF9hYCoFaoN9tPEToAnn5_k3--za_ydUpVmRiMO0dyOF6aJ9zUqzVuBI
 ZArdD-mpr7leZNw_ImFiJI3lYgdcWeSoGLlP4YH9JOOFDIXxh3KO142xWs20n88-Cfwi-q1c7g
 rXsKzucmlyHuPhAUEJawLQT4r_i4xWC7r-xW6eNDw0a-El2Ty4s24QN7UiAhExr04002hirpix
 -99YoLrUsDjhleApg_82otUSQUArkjHRhm30sQsiD1mblGvoFYBT2onYsHtJZE4--3fFvA5OaX
 zKL07LjR97JtBuz0snBm_FL1G5EkX9ENHDHKDJlg1HLDO_uF1ud1W9CIKgVBRVKUnIu3ZNYc-r
 1yHAYUliNSnleykV_XyPANZTQrFmi982NYkb6TMsE47rziE_NLGy4kw5MQEuGZwu0Xsa9feYMq
 YB68XljtlfX2wV8L-v2LX7zJgMljLFT-vZIK1hh4Mp8veA2V-RzNcbozsRjqlvKyYxUyPGuKK2
 XgetixsC0oegwXF27fx2SAzjGR6Hg_8OXXOWDeici56RyKwBp-n4y0qXusYyorczUZoRCSd7FK
 JwHxP-7IXc78_rHS4EqoD9PxMvFqY9QHUw5uKHPaWGCeNtEdne_oOED0hYELXsmwEoCNB6eve_
 Ar8lzUVvLgLMUI_ugRRz0fvKpP6CciUS2RTRrBNlzlNt1tYi1ooFdFpWk7MSk04y92g2S_lCRJ
 p1YQsgjSF0uhcxYTJWDKxnaQwtdLd9AtCvmI8dQ~~" target="_blank"><u>https://apce
 ntral.collegeboard<u></u>.org/exam-administration-<u></u>ordering-scores/e
 xam-dates</u></a></p>
LOCATION:
SUMMARY:AP Testing
END:VEVENT
BEGIN:VEVENT
DTSTAMP:20260423T204226Z
UID:37354f2e-98c1-46a8-be76-956b7d1a7146
DTSTART;VALUE=DATE:20260507
DTEND;VALUE=DATE:20260508
DESCRIPTION:8am: AP Physics 2 / AP World History\n12pm: AP African American
  Studies / AP Statistics
LOCATION:
SUMMARY:AP Testing
END:VEVENT
BEGIN:VEVENT
DTSTAMP:20260423T204226Z
UID:81864d8f-232c-4209-80e7-af1016c7ca8b
DTSTART;VALUE=DATE:20260508
DTEND;VALUE=DATE:20260509
DESCRIPTION:8am: AP Italian Language / AP United States History<br>12pm: AP
  Chinese Language &amp\; Culture / AP Macroeconomics<br><p dir="ltr">Pleas
 e visit the link below for the full schedule:</p><p dir="ltr"><a href="htt
 p://track.spe.schoolmessenger.com/f/a/JzE9lwoJ31Ydf4qxDK6UjA~~/AAAAARA~/-x
 _RSfvdyrrds6k2dHmy3ovhVqiDMEF9hYCoFaoN9tPEToAnn5_k3--za_ydUpVmRiMO0dyOF6aJ
 9zUqzVuBIZArdD-mpr7leZNw_ImFiJI3lYgdcWeSoGLlP4YH9JOOFDIXxh3KO142xWs20n88-C
 fwi-q1c7grXsKzucmlyHuPhAUEJawLQT4r_i4xWC7r-xW6eNDw0a-El2Ty4s24QN7UiAhExr04
 002hirpix-99YoLrUsDjhleApg_82otUSQUArkjHRhm30sQsiD1mblGvoFYBT2onYsHtJZE4--
 3fFvA5OaXzKL07LjR97JtBuz0snBm_FL1G5EkX9ENHDHKDJlg1HLDO_uF1ud1W9CIKgVBRVKUn
 Iu3ZNYc-r1yHAYUliNSnleykV_XyPANZTQrFmi982NYkb6TMsE47rziE_NLGy4kw5MQEuGZwu0
 Xsa9feYMqYB68XljtlfX2wV8L-v2LX7zJgMljLFT-vZIK1hh4Mp8veA2V-RzNcbozsRjqlvKyY
 xUyPGuKK2XgetixsC0oegwXF27fx2SAzjGR6Hg_8OXXOWDeici56RyKwBp-n4y0qXusYyorczU
 ZoRCSd7FKJwHxP-7IXc78_rHS4EqoD9PxMvFqY9QHUw5uKHPaWGCeNtEdne_oOED0hYELXsmwE
 oCNB6eve_Ar8lzUVvLgLMUI_ugRRz0fvKpP6CciUS2RTRrBNlzlNt1tYi1ooFdFpWk7MSk04y9
 2g2S_lCRJp1YQsgjSF0uhcxYTJWDKxnaQwtdLd9AtCvmI8dQ~~" target="_blank"><u>htt
 ps://apcentral.collegeboard<u></u>.org/exam-administration-<u></u>ordering
 -scores/exam-dates</u></a></p>
LOCATION:
SUMMARY:AP Testing
END:VEVENT
BEGIN:VEVENT
DTSTAMP:20260423T204226Z
UID:37cbc95c-7e91-439e-be85-077dbf50104f
DTSTART;VALUE=DATE:20260511
DTEND;VALUE=DATE:20260512
DESCRIPTION:8am: AP Calculus AB / AP Calculus BC<br>12pm: AP Music Theory /
  AP Seminar<br><br><p dir="ltr">Please visit the link below for the full s
 chedule:</p><p dir="ltr"><a href="http://track.spe.schoolmessenger.com/f/a
 /JzE9lwoJ31Ydf4qxDK6UjA~~/AAAAARA~/-x_RSfvdyrrds6k2dHmy3ovhVqiDMEF9hYCoFao
 N9tPEToAnn5_k3--za_ydUpVmRiMO0dyOF6aJ9zUqzVuBIZArdD-mpr7leZNw_ImFiJI3lYgdc
 WeSoGLlP4YH9JOOFDIXxh3KO142xWs20n88-Cfwi-q1c7grXsKzucmlyHuPhAUEJawLQT4r_i4
 xWC7r-xW6eNDw0a-El2Ty4s24QN7UiAhExr04002hirpix-99YoLrUsDjhleApg_82otUSQUAr
 kjHRhm30sQsiD1mblGvoFYBT2onYsHtJZE4--3fFvA5OaXzKL07LjR97JtBuz0snBm_FL1G5Ek
 X9ENHDHKDJlg1HLDO_uF1ud1W9CIKgVBRVKUnIu3ZNYc-r1yHAYUliNSnleykV_XyPANZTQrFm
 i982NYkb6TMsE47rziE_NLGy4kw5MQEuGZwu0Xsa9feYMqYB68XljtlfX2wV8L-v2LX7zJgMlj
 LFT-vZIK1hh4Mp8veA2V-RzNcbozsRjqlvKyYxUyPGuKK2XgetixsC0oegwXF27fx2SAzjGR6H
 g_8OXXOWDeici56RyKwBp-n4y0qXusYyorczUZoRCSd7FKJwHxP-7IXc78_rHS4EqoD9PxMvFq
 Y9QHUw5uKHPaWGCeNtEdne_oOED0hYELXsmwEoCNB6eve_Ar8lzUVvLgLMUI_ugRRz0fvKpP6C
 ciUS2RTRrBNlzlNt1tYi1ooFdFpWk7MSk04y92g2S_lCRJp1YQsgjSF0uhcxYTJWDKxnaQwtdL
 d9AtCvmI8dQ~~" target="_blank"><u>https://apcentral.collegeboard<u></u>.or
 g/exam-administration-<u></u>ordering-scores/exam-dates</u></a></p>
LOCATION:
SUMMARY:AP Testing
END:VEVENT
BEGIN:VEVENT
DTSTAMP:20260423T204226Z
UID:9ad23f74-5c1c-4365-ae95-57d0ff668fca
DTSTART;VALUE=DATE:20260512
DTEND;VALUE=DATE:20260513
DESCRIPTION:8am: AP French Language &amp\; Culture / AP Precalculus<br>12pm
 : Japanese Language &amp\; Culture / AP Psychology<br><br><p dir="ltr">Ple
 ase visit the link below for the full schedule:</p><p dir="ltr"><a href="h
 ttp://track.spe.schoolmessenger.com/f/a/JzE9lwoJ31Ydf4qxDK6UjA~~/AAAAARA~/
 -x_RSfvdyrrds6k2dHmy3ovhVqiDMEF9hYCoFaoN9tPEToAnn5_k3--za_ydUpVmRiMO0dyOF6
 aJ9zUqzVuBIZArdD-mpr7leZNw_ImFiJI3lYgdcWeSoGLlP4YH9JOOFDIXxh3KO142xWs20n88
 -Cfwi-q1c7grXsKzucmlyHuPhAUEJawLQT4r_i4xWC7r-xW6eNDw0a-El2Ty4s24QN7UiAhExr
 04002hirpix-99YoLrUsDjhleApg_82otUSQUArkjHRhm30sQsiD1mblGvoFYBT2onYsHtJZE4
 --3fFvA5OaXzKL07LjR97JtBuz0snBm_FL1G5EkX9ENHDHKDJlg1HLDO_uF1ud1W9CIKgVBRVK
 UnIu3ZNYc-r1yHAYUliNSnleykV_XyPANZTQrFmi982NYkb6TMsE47rziE_NLGy4kw5MQEuGZw
 u0Xsa9feYMqYB68XljtlfX2wV8L-v2LX7zJgMljLFT-vZIK1hh4Mp8veA2V-RzNcbozsRjqlvK
 yYxUyPGuKK2XgetixsC0oegwXF27fx2SAzjGR6Hg_8OXXOWDeici56RyKwBp-n4y0qXusYyorc
 zUZoRCSd7FKJwHxP-7IXc78_rHS4EqoD9PxMvFqY9QHUw5uKHPaWGCeNtEdne_oOED0hYELXsm
 wEoCNB6eve_Ar8lzUVvLgLMUI_ugRRz0fvKpP6CciUS2RTRrBNlzlNt1tYi1ooFdFpWk7MSk04
 y92g2S_lCRJp1YQsgjSF0uhcxYTJWDKxnaQwtdLd9AtCvmI8dQ~~" target="_blank"><u>h
 ttps://apcentral.collegeboard<u></u>.org/exam-administration-<u></u>orderi
 ng-scores/exam-dates</u></a></p>
LOCATION:
SUMMARY:AP Testing
END:VEVENT
BEGIN:VEVENT
DTSTAMP:20260423T204226Z
UID:76a27b40-42b2-4087-a996-52b54899942c
DTSTART:20260512T151500
DTEND:20260512T160000
DESCRIPTION:
LOCATION:
SUMMARY:Faculty Meeting
END:VEVENT
BEGIN:VEVENT
DTSTAMP:20260423T204226Z
UID:3e2e0aa6-116c-47b2-80a8-60a330217d73
DTSTART;VALUE=DATE:20260513
DTEND;VALUE=DATE:20260514
DESCRIPTION:8am: English Language &amp\; Composition / AP German Language &
 amp\; Culture<br>12pm: Physics C: Mechanics / AP Spanish Literature &amp\;
  Culture<br><br><p dir="ltr">Please visit the link below for the full sche
 dule:</p><p dir="ltr"><a href="http://track.spe.schoolmessenger.com/f/a/Jz
 E9lwoJ31Ydf4qxDK6UjA~~/AAAAARA~/-x_RSfvdyrrds6k2dHmy3ovhVqiDMEF9hYCoFaoN9t
 PEToAnn5_k3--za_ydUpVmRiMO0dyOF6aJ9zUqzVuBIZArdD-mpr7leZNw_ImFiJI3lYgdcWeS
 oGLlP4YH9JOOFDIXxh3KO142xWs20n88-Cfwi-q1c7grXsKzucmlyHuPhAUEJawLQT4r_i4xWC
 7r-xW6eNDw0a-El2Ty4s24QN7UiAhExr04002hirpix-99YoLrUsDjhleApg_82otUSQUArkjH
 Rhm30sQsiD1mblGvoFYBT2onYsHtJZE4--3fFvA5OaXzKL07LjR97JtBuz0snBm_FL1G5EkX9E
 NHDHKDJlg1HLDO_uF1ud1W9CIKgVBRVKUnIu3ZNYc-r1yHAYUliNSnleykV_XyPANZTQrFmi98
 2NYkb6TMsE47rziE_NLGy4kw5MQEuGZwu0Xsa9feYMqYB68XljtlfX2wV8L-v2LX7zJgMljLFT
 -vZIK1hh4Mp8veA2V-RzNcbozsRjqlvKyYxUyPGuKK2XgetixsC0oegwXF27fx2SAzjGR6Hg_8
 OXXOWDeici56RyKwBp-n4y0qXusYyorczUZoRCSd7FKJwHxP-7IXc78_rHS4EqoD9PxMvFqY9Q
 HUw5uKHPaWGCeNtEdne_oOED0hYELXsmwEoCNB6eve_Ar8lzUVvLgLMUI_ugRRz0fvKpP6CciU
 S2RTRrBNlzlNt1tYi1ooFdFpWk7MSk04y92g2S_lCRJp1YQsgjSF0uhcxYTJWDKxnaQwtdLd9A
 tCvmI8dQ~~" target="_blank"><u>https://apcentral.collegeboard<u></u>.org/e
 xam-administration-<u></u>ordering-scores/exam-dates</u></a></p>
LOCATION:
SUMMARY:AP Testing
END:VEVENT
BEGIN:VEVENT
DTSTAMP:20260423T204226Z
UID:e2215db0-7dbb-401f-b8cf-1744e1c0d613
DTSTART:20260513T150000
DTEND:20260513T153000
DESCRIPTION:
LOCATION:
SUMMARY:New Teacher Meeting
END:VEVENT
BEGIN:VEVENT
DTSTAMP:20260423T204226Z
UID:89b09695-99ba-4727-8745-bfb58c3cd7d4
DTSTART;VALUE=DATE:20260514
DTEND;VALUE=DATE:20260515
DESCRIPTION:AP Art History / AP Spanish Language &amp\; Culture<br>AP Compu
 ter Science Principles / AP Physics C: Electricity &amp\; Magnetism<br><p 
 dir="ltr">Please visit the link below for the full schedule:</p><p dir="lt
 r"><a href="http://track.spe.schoolmessenger.com/f/a/JzE9lwoJ31Ydf4qxDK6Uj
 A~~/AAAAARA~/-x_RSfvdyrrds6k2dHmy3ovhVqiDMEF9hYCoFaoN9tPEToAnn5_k3--za_ydU
 pVmRiMO0dyOF6aJ9zUqzVuBIZArdD-mpr7leZNw_ImFiJI3lYgdcWeSoGLlP4YH9JOOFDIXxh3
 KO142xWs20n88-Cfwi-q1c7grXsKzucmlyHuPhAUEJawLQT4r_i4xWC7r-xW6eNDw0a-El2Ty4
 s24QN7UiAhExr04002hirpix-99YoLrUsDjhleApg_82otUSQUArkjHRhm30sQsiD1mblGvoFY
 BT2onYsHtJZE4--3fFvA5OaXzKL07LjR97JtBuz0snBm_FL1G5EkX9ENHDHKDJlg1HLDO_uF1u
 d1W9CIKgVBRVKUnIu3ZNYc-r1yHAYUliNSnleykV_XyPANZTQrFmi982NYkb6TMsE47rziE_NL
 Gy4kw5MQEuGZwu0Xsa9feYMqYB68XljtlfX2wV8L-v2LX7zJgMljLFT-vZIK1hh4Mp8veA2V-R
 zNcbozsRjqlvKyYxUyPGuKK2XgetixsC0oegwXF27fx2SAzjGR6Hg_8OXXOWDeici56RyKwBp-
 n4y0qXusYyorczUZoRCSd7FKJwHxP-7IXc78_rHS4EqoD9PxMvFqY9QHUw5uKHPaWGCeNtEdne
 _oOED0hYELXsmwEoCNB6eve_Ar8lzUVvLgLMUI_ugRRz0fvKpP6CciUS2RTRrBNlzlNt1tYi1o
 oFdFpWk7MSk04y92g2S_lCRJp1YQsgjSF0uhcxYTJWDKxnaQwtdLd9AtCvmI8dQ~~" target=
 "_blank"><u>https://apcentral.collegeboard<u></u>.org/exam-administration-
 <u></u>ordering-scores/exam-dates</u></a></p>
LOCATION:
SUMMARY:AP Testing
END:VEVENT
BEGIN:VEVENT
DTSTAMP:20260423T204226Z
UID:d1534e49-5c39-43f6-9d81-cc098bc0464e
DTSTART;VALUE=DATE:20260515
DTEND;VALUE=DATE:20260516
DESCRIPTION:AP Environmental Science / AP Computer Science A
LOCATION:
SUMMARY:AP Testing
END:VEVENT
BEGIN:VEVENT
DTSTAMP:20260423T204226Z
UID:fc25be56-4e80-42d9-851e-01c993e89c71
DTSTART;VALUE=DATE:20260516
DTEND;VALUE=DATE:20260517
DESCRIPTION:
LOCATION:Outside Glen Ridge High School
SUMMARY:Arts & Eco Fair
END:VEVENT
BEGIN:VEVENT
DTSTAMP:20260423T204226Z
UID:2b77f15e-4002-4471-b9fd-85a3cad2bdbe
DTSTART;VALUE=DATE:20260518
DTEND;VALUE=DATE:20260520
DESCRIPTION:<p>Students in grades 7\, 8\, 9\, and 11 should report by 8am t
 o their assigned testing site. Rosters will be shared with students by the
 ir teachers\, and also posted throughout the building and Classroom.</p><p
 >Students in grades 10 and 12 will report at 10am\, at which time the scho
 ol will resume regular operations following the 2-hour delayed opening sch
 edule. Lunch will be served.</p><p>All NJSLA tests are computer-based. Ple
 ase remind your child to bring their charged Chromebook to school each day
 .</p>
LOCATION:
SUMMARY:NJSLA-Math/Science 11 (May 18th & 19th)
END:VEVENT
BEGIN:VEVENT
DTSTAMP:20260423T204226Z
UID:aceefe48-d610-4eb0-9325-68687b98c6e4
DTSTART;VALUE=DATE:20260520
DTEND;VALUE=DATE:20260522
DESCRIPTION:<p dir="ltr">NJSLA-Science testing will continue for 8th grader
 s on May 20 &amp\; 21. GRHS will run on its regular schedule with 8th grad
 ers excused to take their NJSLA-Science exams during periods 1 and 2. </p
 ><p dir="ltr">All NJSLA tests are computer-based. Please remind your child
  to bring their charged Chromebook to school each day.</p>
LOCATION:
SUMMARY:NJSLA-Science 8 (May 20th & 21st)
END:VEVENT
BEGIN:VEVENT
DTSTAMP:20260423T204226Z
UID:d21af368-3ab2-4a78-8738-fae044738b06
DTSTART:20260520T190000
DTEND:20260520T193000
DESCRIPTION:
LOCATION:
SUMMARY:Sharing the Arts Show
END:VEVENT
BEGIN:VEVENT
DTSTAMP:20260423T204226Z
UID:2afdfea8-135f-4239-b330-32a29450535b
DTSTART;VALUE=DATE:20260521
DTEND;VALUE=DATE:20260522
DESCRIPTION:
LOCATION:
SUMMARY:International Food Night
END:VEVENT
BEGIN:VEVENT
DTSTAMP:20260423T204226Z
UID:e0573c23-fda4-4ceb-ae26-bfd20c8cbfbd
DTSTART;VALUE=DATE:20260522
DTEND;VALUE=DATE:20260523
DESCRIPTION:
LOCATION:
SUMMARY:Early Dismissal
END:VEVENT
BEGIN:VEVENT
DTSTAMP:20260423T204226Z
UID:4b8160e6-1d26-41c5-bd0a-f6644a9f5b62
DTSTART;VALUE=DATE:20260525
DTEND;VALUE=DATE:20260526
DESCRIPTION:
LOCATION:
SUMMARY:Memorial Day - Schools Closed
END:VEVENT
BEGIN:VEVENT
DTSTAMP:20260423T204226Z
UID:48f5c846-e2ca-4560-8a43-da9489feeed7
DTSTART;VALUE=DATE:20260526
DTEND;VALUE=DATE:20260527
DESCRIPTION:
LOCATION:
SUMMARY:Building Leadership Committee
END:VEVENT
BEGIN:VEVENT
DTSTAMP:20260423T204226Z
UID:ff480221-a694-4cba-b8cd-3c37a43848ee
DTSTART;VALUE=DATE:20260526
DTEND;VALUE=DATE:20260527
DESCRIPTION:
LOCATION:
SUMMARY:Schools Closed - Snow Day GIve Back
END:VEVENT
BEGIN:VEVENT
DTSTAMP:20260423T204226Z
UID:9e06d8e4-5628-46de-98f9-d267540682ee
DTSTART:20260529T081500
DTEND:20260529T121500
DESCRIPTION:
LOCATION:
SUMMARY:Senior Awards Assembly @ RAS
END:VEVENT
BEGIN:VEVENT
DTSTAMP:20260423T204226Z
UID:f98331f7-3c6c-43aa-a844-896a8bceb351
DTSTART:20260529T183000
DTEND:20260529T230000
DESCRIPTION:
LOCATION:
SUMMARY:GRHS Senior / Junior Prom
END:VEVENT
BEGIN:VEVENT
DTSTAMP:20260423T204226Z
UID:b26fa90f-a7ac-40e8-84f1-084c528019af
DTSTART;VALUE=DATE:20260602
DTEND;VALUE=DATE:20260603
DESCRIPTION:
LOCATION:
SUMMARY:8th Grade Dorney Park Trip
END:VEVENT
BEGIN:VEVENT
DTSTAMP:20260423T204226Z
UID:de868cfa-22a9-4b83-9abe-66baeacb22bc
DTSTART;VALUE=DATE:20260604
DTEND;VALUE=DATE:20260605
DESCRIPTION:
LOCATION:
SUMMARY:Spring Day
END:VEVENT
BEGIN:VEVENT
DTSTAMP:20260423T204226Z
UID:2d143001-cbf2-4864-b2ac-5bcb1341ef9e
DTSTART:20260605T090000
DTEND:20260605T100000
DESCRIPTION:
LOCATION:
SUMMARY:Support Services Meeting
END:VEVENT
BEGIN:VEVENT
DTSTAMP:20260423T204226Z
UID:189b5903-0269-4a2a-bd71-9b147fa0bb97
DTSTART:20260605T180000
DTEND:20260605T200000
DESCRIPTION:
LOCATION:
SUMMARY:8th Grade Dance 
END:VEVENT
BEGIN:VEVENT
DTSTAMP:20260423T204226Z
UID:6e87021a-268f-41cf-bc18-eecab29ef235
DTSTART;VALUE=DATE:20260608
DTEND;VALUE=DATE:20260609
DESCRIPTION:
LOCATION:
SUMMARY:Senior Trip
END:VEVENT
BEGIN:VEVENT
DTSTAMP:20260423T204226Z
UID:34af215c-ce72-4dd7-8d6c-22480872d3b3
DTSTART:20260609T151500
DTEND:20260609T160000
DESCRIPTION:
LOCATION:
SUMMARY:Faculty Meeting
END:VEVENT
BEGIN:VEVENT
DTSTAMP:20260423T204226Z
UID:8e3b8c9a-893b-4910-b74e-e4454902888a
DTSTART:20260610T150000
DTEND:20260610T153000
DESCRIPTION:
LOCATION:
SUMMARY:New Teacher Meeting
END:VEVENT
BEGIN:VEVENT
DTSTAMP:20260423T204226Z
UID:0d4c8efb-647f-495a-abb2-18e7fd76fa06
DTSTART:20260612T084500
DTEND:20260612T094500
DESCRIPTION:
LOCATION:
SUMMARY:HSA Meeting
END:VEVENT
BEGIN:VEVENT
DTSTAMP:20260423T204226Z
UID:1c2bf036-a2ad-46b4-8c66-d7b43b8b7032
DTSTART;VALUE=DATE:20260616
DTEND;VALUE=DATE:20260617
DESCRIPTION:
LOCATION:
SUMMARY:End of Marking Period 4
END:VEVENT
BEGIN:VEVENT
DTSTAMP:20260423T204226Z
UID:405f9de2-dafe-4d91-9009-f239f437b752
DTSTART;VALUE=DATE:20260617
DTEND;VALUE=DATE:20260618
DESCRIPTION:
LOCATION:
SUMMARY:Move Up Day (Early Dismissal Students)
END:VEVENT
BEGIN:VEVENT
DTSTAMP:20260423T204226Z
UID:8158529e-abd0-45d7-ad0b-3faa95b91376
DTSTART;VALUE=DATE:20260617
DTEND;VALUE=DATE:20260618
DESCRIPTION:
LOCATION:
SUMMARY:PD Day for Staff
END:VEVENT
BEGIN:VEVENT
DTSTAMP:20260423T204226Z
UID:93e13cdf-b265-4e89-a47e-8a55a646eed5
DTSTART;VALUE=DATE:20260618
DTEND;VALUE=DATE:20260619
DESCRIPTION:
LOCATION:
SUMMARY:High School Graduation
END:VEVENT
BEGIN:VEVENT
DTSTAMP:20260423T204226Z
UID:5a6f1f6e-4ef3-4c08-9ede-bf840c7454e1
DTSTART;VALUE=DATE:20260618
DTEND;VALUE=DATE:20260619
DESCRIPTION:
LOCATION:
SUMMARY:Last Day of School for Students! (Early Dismissal)
END:VEVENT
BEGIN:VEVENT
DTSTAMP:20260423T204226Z
UID:9d8c05e2-206f-43ce-a005-831dcba1f407
DTSTART;VALUE=DATE:20260623
DTEND;VALUE=DATE:20260624
DESCRIPTION:
LOCATION:
SUMMARY:Building Leadership Committee
END:VEVENT
BEGIN:VEVENT
DTSTAMP:20260423T204226Z
UID:ee05c98a-a926-476f-9cec-ddddce3e1ed2
DTSTART:20260703T090000
DTEND:20260703T100000
DESCRIPTION:
LOCATION:
SUMMARY:Support Services Meeting
END:VEVENT
BEGIN:VEVENT
DTSTAMP:20260423T204226Z
UID:7742c73a-14d2-4dd9-8a1b-46f41f6f28b9
DTSTART:20260708T150000
DTEND:20260708T153000
DESCRIPTION:
LOCATION:
SUMMARY:New Teacher Meeting
END:VEVENT
BEGIN:VEVENT
DTSTAMP:20260423T204226Z
UID:b0cd30e8-0363-46be-a916-4bfea6a28923
DTSTART;VALUE=DATE:20260901
DTEND;VALUE=DATE:20260902
DESCRIPTION:
LOCATION:
SUMMARY:First Day of School
END:VEVENT
BEGIN:VEVENT
DTSTAMP:20260423T204226Z
UID:94657013-9484-44d2-99e1-e721538029d1
DTSTART;VALUE=DATE:20260907
DTEND;VALUE=DATE:20260908
DESCRIPTION:
LOCATION:
SUMMARY:Labor Day - District Closed
END:VEVENT
BEGIN:VEVENT
DTSTAMP:20260423T204226Z
UID:0c664f14-67f6-4325-89bf-65969a087657
DTSTART;VALUE=DATE:20260921
DTEND;VALUE=DATE:20260922
DESCRIPTION:
LOCATION:
SUMMARY:Yom Kippur - District Closed
END:VEVENT
BEGIN:VEVENT
DTSTAMP:20260423T204226Z
UID:a3d0192e-5e5f-445d-9a0c-c65b59c57b63
DTSTART;VALUE=DATE:20261012
DTEND;VALUE=DATE:20261013
DESCRIPTION:
LOCATION:
SUMMARY:PD Day for Staff (No Students)
END:VEVENT
BEGIN:VEVENT
DTSTAMP:20260423T204226Z
UID:550058fb-8e81-4dac-bf5b-f34eef8a08eb
DTSTART;VALUE=DATE:20261105
DTEND;VALUE=DATE:20261106
DESCRIPTION:
LOCATION:
SUMMARY:Teacher's Convention - District Closed
END:VEVENT
BEGIN:VEVENT
DTSTAMP:20260423T204226Z
UID:ff3250df-774c-4d5a-969b-e406125f9e78
DTSTART;VALUE=DATE:20261106
DTEND;VALUE=DATE:20261107
DESCRIPTION:
LOCATION:
SUMMARY:Teacher's Convention - District Closed
END:VEVENT
BEGIN:VEVENT
DTSTAMP:20260423T204226Z
UID:1355fe5c-e78b-473b-9390-3e006e8260ed
DTSTART;VALUE=DATE:20261125
DTEND;VALUE=DATE:20261126
DESCRIPTION:
LOCATION:
SUMMARY:Early Dismissal
END:VEVENT
BEGIN:VEVENT
DTSTAMP:20260423T204226Z
UID:59667a78-77e8-41ad-81b5-7b70551a4534
DTSTART;VALUE=DATE:20261126
DTEND;VALUE=DATE:20261127
DESCRIPTION:
LOCATION:
SUMMARY:Thanksgiving Break - District Closed
END:VEVENT
BEGIN:VEVENT
DTSTAMP:20260423T204226Z
UID:3c4b8262-7d11-4b74-b7db-0eadbc39c4e8
DTSTART;VALUE=DATE:20261127
DTEND;VALUE=DATE:20261128
DESCRIPTION:
LOCATION:
SUMMARY:Thanksgiving Break - District Closed
END:VEVENT
BEGIN:VEVENT
DTSTAMP:20260423T204226Z
UID:6c27947c-c2b2-46e5-bb61-388fa0fc4b34
DTSTART;VALUE=DATE:20261223
DTEND;VALUE=DATE:20261224
DESCRIPTION:
LOCATION:
SUMMARY:Early Dismissal
END:VEVENT
BEGIN:VEVENT
DTSTAMP:20260423T204226Z
UID:6975bced-aaf5-40f3-864c-a0e68be5709b
DTSTART;VALUE=DATE:20261224
DTEND;VALUE=DATE:20270101
DESCRIPTION:
LOCATION:
SUMMARY:December Break - District Closed
END:VEVENT
BEGIN:VEVENT
DTSTAMP:20260423T204226Z
UID:c8ed5498-3f8e-4868-92e1-e06275961563
DTSTART;VALUE=DATE:20270101
DTEND;VALUE=DATE:20270102
DESCRIPTION:
LOCATION:
SUMMARY:New Years Day - District Closed
END:VEVENT
BEGIN:VEVENT
DTSTAMP:20260423T204226Z
UID:ecbb5bdd-1c6e-4ec3-984c-7b43ee9c03f0
DTSTART;VALUE=DATE:20270104
DTEND;VALUE=DATE:20270105
DESCRIPTION:
LOCATION:
SUMMARY:Schools Reopen
END:VEVENT
BEGIN:VEVENT
DTSTAMP:20260423T204226Z
UID:239c9298-91ad-4332-90a4-5d9fbb645bb2
DTSTART;VALUE=DATE:20270118
DTEND;VALUE=DATE:20270119
DESCRIPTION:
LOCATION:
SUMMARY:Martin Luther King Day - Schools Closed
END:VEVENT
BEGIN:VEVENT
DTSTAMP:20260423T204226Z
UID:748e0aac-d8f0-4a4c-867b-326806fa7351
DTSTART;VALUE=DATE:20270212
DTEND;VALUE=DATE:20270213
DESCRIPTION:
LOCATION:
SUMMARY:PD Day for Staff - Early Dismissal for Students
END:VEVENT
BEGIN:VEVENT
DTSTAMP:20260423T204226Z
UID:0ffe207d-57a0-465e-9709-b2b8bca80b88
DTSTART;VALUE=DATE:20270215
DTEND;VALUE=DATE:20270217
DESCRIPTION:
LOCATION:
SUMMARY:Winter Break - Schools Closed
END:VEVENT
BEGIN:VEVENT
DTSTAMP:20260423T204226Z
UID:850e2db9-6df7-4378-a167-0998a3af2112
DTSTART;VALUE=DATE:20270315
DTEND;VALUE=DATE:20270316
DESCRIPTION:
LOCATION:
SUMMARY:PD Day for Staff - Early Dismissal for Students
END:VEVENT
BEGIN:VEVENT
DTSTAMP:20260423T204226Z
UID:dc6bedbe-6eb1-4d1c-bf65-2de2d42b28c5
DTSTART;VALUE=DATE:20270326
DTEND;VALUE=DATE:20270327
DESCRIPTION:
LOCATION:
SUMMARY:Good Friday - District Closed
END:VEVENT
BEGIN:VEVENT
DTSTAMP:20260423T204226Z
UID:2ca7aba3-bda1-41a2-9d9f-93bd71469fb5
DTSTART;VALUE=DATE:20270412
DTEND;VALUE=DATE:20270417
DESCRIPTION:
LOCATION:
SUMMARY:Spring Break - Schools Closed
END:VEVENT
BEGIN:VEVENT
DTSTAMP:20260423T204226Z
UID:5534fac8-1e69-4eee-a885-e226aac86438
DTSTART;VALUE=DATE:20270531
DTEND;VALUE=DATE:20270601
DESCRIPTION:
LOCATION:
SUMMARY:Memorial Day - Schools Closed
END:VEVENT
BEGIN:VEVENT
DTSTAMP:20260423T204226Z
UID:a1ace558-7f74-42a3-86db-5af1845b527f
DTSTART;VALUE=DATE:20270615
DTEND;VALUE=DATE:20270616
DESCRIPTION:
LOCATION:
SUMMARY:PD Day for Staff - Early Dismissal for Students
END:VEVENT
BEGIN:VEVENT
DTSTAMP:20260423T204226Z
UID:e5f95812-73a9-42be-b550-294cf30e877d
DTSTART;VALUE=DATE:20270616
DTEND;VALUE=DATE:20270617
DESCRIPTION:
LOCATION:
SUMMARY:High School Graduation
END:VEVENT
BEGIN:VEVENT
DTSTAMP:20260423T204226Z
UID:b799e325-211e-4d61-9389-8d06ec5c455d
DTSTART;VALUE=DATE:20270616
DTEND;VALUE=DATE:20270617
DESCRIPTION:
LOCATION:
SUMMARY:Last Day of School - Early Dismissal for Students
END:VEVENT
END:VCALENDAR
