BEGIN:VCALENDAR
VERSION:2.0
PRODID:icalendar-ruby
CALSCALE:GREGORIAN
BEGIN:VTIMEZONE
TZID:America/Los_Angeles
BEGIN:DAYLIGHT
DTSTART:20260308T030000
TZOFFSETFROM:-0800
TZOFFSETTO:-0700
RRULE:FREQ=YEARLY;BYDAY=2SU;BYMONTH=3
TZNAME:PDT
END:DAYLIGHT
BEGIN:STANDARD
DTSTART:20261101T010000
TZOFFSETFROM:-0700
TZOFFSETTO:-0800
RRULE:FREQ=YEARLY;BYDAY=1SU;BYMONTH=11
TZNAME:PST
END:STANDARD
END:VTIMEZONE
BEGIN:VEVENT
DTSTAMP:20260421T165308Z
UID:cf7f9b2c-4d18-478d-881a-6c08060ba1f4
DTSTART;VALUE=DATE:20260427
DTEND;VALUE=DATE:20260428
DESCRIPTION:
LOCATION:
SUMMARY:No School PD Day
END:VEVENT
BEGIN:VEVENT
DTSTAMP:20260421T165308Z
UID:976f2d52-ce81-4b84-8de4-aaca7a82e64a
DTSTART:20260501T081500
DTEND:20260501T144500
DESCRIPTION:
LOCATION:
SUMMARY:3rd Grade Field Trip-HMSC
END:VEVENT
BEGIN:VEVENT
DTSTAMP:20260421T165308Z
UID:f9ff31d2-1cad-414c-9861-15d27ae259ea
DTSTART:20260501T140000
DTEND:20260501T150000
DESCRIPTION:
LOCATION:
SUMMARY:PBIS Assembly
END:VEVENT
BEGIN:VEVENT
DTSTAMP:20260421T165308Z
UID:674426d6-711a-4334-9f74-d54726a138d2
DTSTART:20260505T090000
DTEND:20260505T143000
DESCRIPTION:
LOCATION:
SUMMARY:5th Grade (Forshee) Field Trip-Yakona Nature Preserve
END:VEVENT
BEGIN:VEVENT
DTSTAMP:20260421T165308Z
UID:ccf0d925-36af-4ee6-8236-1f966d220619
DTSTART:20260507T090000
DTEND:20260507T143000
DESCRIPTION:
LOCATION:
SUMMARY:5th Grade (Bobo) Field Trip-Yakona Nature Preserve
END:VEVENT
BEGIN:VEVENT
DTSTAMP:20260421T165308Z
UID:01fce9b1-b3f0-4686-a06d-2ed66da4920f
DTSTART:20260512T083000
DTEND:20260512T141500
DESCRIPTION:
LOCATION:
SUMMARY:3rd Grade Field Trip-Yakona Nature Preserve
END:VEVENT
BEGIN:VEVENT
DTSTAMP:20260421T165308Z
UID:d37b94ec-a586-4d9b-b7b4-9bee62225ce9
DTSTART;VALUE=DATE:20260525
DTEND;VALUE=DATE:20260526
DESCRIPTION:
LOCATION:
SUMMARY:No School
END:VEVENT
BEGIN:VEVENT
DTSTAMP:20260421T165308Z
UID:40106011-8533-434d-b739-6fd60e9cfd66
DTSTART:20260602T173000
DTEND:20260602T183000
DESCRIPTION:
LOCATION:
SUMMARY:Spring Concert: PreK-3rd
END:VEVENT
BEGIN:VEVENT
DTSTAMP:20260421T165308Z
UID:7bbda66f-c087-4f6c-9ff0-d832d39168c7
DTSTART:20260604T173000
DTEND:20260604T183000
DESCRIPTION:
LOCATION:
SUMMARY:Spring Concert: 4th-6th
END:VEVENT
BEGIN:VEVENT
DTSTAMP:20260421T165308Z
UID:633a8459-fe36-4642-9d31-4920e84247ba
DTSTART:20260605T140000
DTEND:20260605T150000
DESCRIPTION:
LOCATION:
SUMMARY:PBIS Assembly
END:VEVENT
END:VCALENDAR
