BEGIN:VCALENDAR
VERSION:2.0
PRODID:icalendar-ruby
CALSCALE:GREGORIAN
BEGIN:VTIMEZONE
TZID:America/Los_Angeles
BEGIN:DAYLIGHT
DTSTART:20260308T030000
TZOFFSETFROM:-0800
TZOFFSETTO:-0700
RRULE:FREQ=YEARLY;BYDAY=2SU;BYMONTH=3
TZNAME:PDT
END:DAYLIGHT
BEGIN:STANDARD
DTSTART:20261101T010000
TZOFFSETFROM:-0700
TZOFFSETTO:-0800
RRULE:FREQ=YEARLY;BYDAY=1SU;BYMONTH=11
TZNAME:PST
END:STANDARD
END:VTIMEZONE
BEGIN:VEVENT
DTSTAMP:20260424T135014Z
UID:b1668782-5af4-4525-9567-479b6ad0d05e
DTSTART:20260424T163000
DTEND:20260424T193000
DESCRIPTION:
LOCATION:Toledo Elementary School\, 600 SE Sturdevant Rd\, Toledo\, OR 9739
 1\, USA
SUMMARY:FIELDS - Baseball/Softball vs. Eddyville
END:VEVENT
BEGIN:VEVENT
DTSTAMP:20260424T135014Z
UID:83a5ff24-0c1f-4a97-acc1-8b0f9110ce2e
DTSTART:20260425T100000
DTEND:20260425T150000
DESCRIPTION:
LOCATION:Sweet Home High School\, 1641 Long St\, Sweet Home\, OR 97386\, US
 A
SUMMARY:Track @ Meet of Champs - Sweet Home
END:VEVENT
BEGIN:VEVENT
DTSTAMP:20260424T135014Z
UID:4c887cb1-adf8-4222-8781-b23a28253035
DTSTART:20260425T150000
DTEND:20260427T160000
DESCRIPTION:
LOCATION:Seaside Civic & Convention Center\, 415 1st Ave\, Seaside\, OR 971
 38\, USA
SUMMARY:OASC Student Council Field Trip
END:VEVENT
BEGIN:VEVENT
DTSTAMP:20260424T135014Z
UID:6dd36a55-edbb-4ddb-92d7-bfd4b4a16e43
DTSTART;VALUE=DATE:20260427
DTEND;VALUE=DATE:20260428
DESCRIPTION:
LOCATION:
SUMMARY:No School LCSD PD
END:VEVENT
BEGIN:VEVENT
DTSTAMP:20260424T135014Z
UID:5d0af03a-af10-494f-b462-e8b4a202f241
DTSTART;VALUE=DATE:20260427
DTEND;VALUE=DATE:20260428
DESCRIPTION:
LOCATION:
SUMMARY:No School PD Day
END:VEVENT
BEGIN:VEVENT
DTSTAMP:20260424T135014Z
UID:bcf7b120-3f6b-4784-8047-3af44f79e0ad
DTSTART:20260427T163000
DTEND:20260427T183000
DESCRIPTION:
LOCATION:
SUMMARY:Baseball @ Bandon
END:VEVENT
BEGIN:VEVENT
DTSTAMP:20260424T135014Z
UID:4c52c5aa-1561-41cb-b3b6-49ee38586cf2
DTSTART:20260427T163000
DTEND:20260427T180000
DESCRIPTION:
LOCATION:Bandon High School\, 550 9th St SW\, Bandon\, OR 97411\, USA
SUMMARY:Softball @ Bandon
END:VEVENT
BEGIN:VEVENT
DTSTAMP:20260424T135014Z
UID:f0792ed6-148c-45c9-b401-343ff7af97d7
DTSTART:20260428T153000
DTEND:20260428T170000
DESCRIPTION:In the library
LOCATION:Toledo Junior/Senior High School\, 1800 NE Sturdevant Rd\, Toledo\
 , OR 97391\, USA
SUMMARY:GU Tutoring with Webby
END:VEVENT
BEGIN:VEVENT
DTSTAMP:20260424T135014Z
UID:0c2588c7-5bf5-4b7f-a47a-fb577c80fbf2
DTSTART:20260428T153000
DTEND:20260428T193000
DESCRIPTION:
LOCATION:Waldport High School\, 3000 S Crestline Dr\, Waldport\, OR 97394\,
  USA
SUMMARY:Track @ Waldport
END:VEVENT
BEGIN:VEVENT
DTSTAMP:20260424T135014Z
UID:fc6b22e5-d199-4ca2-a35b-b5d405d15c98
DTSTART:20260428T180000
DTEND:20260428T193000
DESCRIPTION:
LOCATION:Toledo Junior/Senior High School\, 1800 NE Sturdevant Rd\, Toledo\
 , OR 97391\, USA
SUMMARY:GYM - Boys Volleyball vs. Cascade
END:VEVENT
BEGIN:VEVENT
DTSTAMP:20260424T135014Z
UID:9f358b6a-42b3-489f-b2c0-6c50be5713ac
DTSTART:20260429T180000
DTEND:20260429T193000
DESCRIPTION:
LOCATION:Toledo Junior/Senior High School\, 1800 NE Sturdevant Rd\, Toledo\
 , OR 97391\, USA
SUMMARY:GYM - Boys Volleyball vs. Newport
END:VEVENT
BEGIN:VEVENT
DTSTAMP:20260424T135014Z
UID:11619770-1fa0-488c-8eb9-28cdb9f3bdbf
DTSTART:20260430T160000
DTEND:20260430T200000
DESCRIPTION:
LOCATION:East Linn Christian Academy\, 36883 Victory Dr\, Lebanon\, OR 9735
 5\, USA
SUMMARY:Track @ East Linn
END:VEVENT
BEGIN:VEVENT
DTSTAMP:20260424T135014Z
UID:9bbdae3c-c7ce-4615-bd94-97021574d706
DTSTART:20260501T083000
DTEND:20260501T180000
DESCRIPTION:
LOCATION:98 SW Naito Pkwy\, Portland\, OR 97204\, USA
SUMMARY:Cinco de Mayo field trip 
END:VEVENT
BEGIN:VEVENT
DTSTAMP:20260424T135014Z
UID:5777e8e4-8899-492b-a786-dd3f3f8efc2a
DTSTART:20260501T143000
DTEND:20260501T151500
DESCRIPTION:
LOCATION:
SUMMARY:Club Friday 
END:VEVENT
BEGIN:VEVENT
DTSTAMP:20260424T135014Z
UID:5c087d7a-8b96-4a84-b057-6298b8b6a980
DTSTART:20260501T163000
DTEND:20260501T180000
DESCRIPTION:
LOCATION:Powers High School\, 1 High School Hill Rd\, Powers\, OR 97466\, U
 SA
SUMMARY:Softball @ Powers
END:VEVENT
BEGIN:VEVENT
DTSTAMP:20260424T135014Z
UID:84859911-bd90-4f32-a811-4fb5d5474015
DTSTART:20260504T104000
DTEND:20260504T111100
DESCRIPTION:
LOCATION:
SUMMARY:Modified bell schedule: Student Council elections assembly
END:VEVENT
BEGIN:VEVENT
DTSTAMP:20260424T135014Z
UID:17f8abd2-432f-4c9c-a846-d31466a4eef6
DTSTART:20260504T111500
DTEND:20260504T120100
DESCRIPTION:
LOCATION:
SUMMARY:Fentanyl info table @ lunch
END:VEVENT
BEGIN:VEVENT
DTSTAMP:20260424T135014Z
UID:1f8ea6e8-664b-43c1-b213-9fb99107a61c
DTSTART:20260504T153000
DTEND:20260504T170000
DESCRIPTION:In the library
LOCATION:Toledo Junior/Senior High School\, 1800 NE Sturdevant Rd\, Toledo\
 , OR 97391\, USA
SUMMARY:GU Tutoring with Webby
END:VEVENT
BEGIN:VEVENT
DTSTAMP:20260424T135014Z
UID:48d1f66f-6a7a-44a1-bb37-111e04f40f7a
DTSTART:20260504T163000
DTEND:20260504T180000
DESCRIPTION:
LOCATION:Jefferson High School\, 2200 Talbot Rd SE\, Jefferson\, OR 97352\,
  USA
SUMMARY:JV Softball @ Jefferson
END:VEVENT
BEGIN:VEVENT
DTSTAMP:20260424T135014Z
UID:aca750bc-36e1-49f6-8478-fee4fc5d8bc0
DTSTART:20260504T180000
DTEND:20260504T193000
DESCRIPTION:
LOCATION:Crosshill Christian School\, 2707 Maranatha Ct SE\, Turner\, OR 97
 392\, USA
SUMMARY:Boys Volleyball @ Crosshill Christian
END:VEVENT
BEGIN:VEVENT
DTSTAMP:20260424T135014Z
UID:cb87fbd9-2a8c-452a-9da6-d53dbb192c0c
DTSTART:20260505T083000
DTEND:20260505T103000
DESCRIPTION:
LOCATION:
SUMMARY:Senior Cap & Gown Portraits
END:VEVENT
BEGIN:VEVENT
DTSTAMP:20260424T135014Z
UID:9ed73d07-1c30-4f3a-879f-9f9b204de820
DTSTART:20260505T160000
DTEND:20260505T200000
DESCRIPTION:
LOCATION:Newport High School\, 322 NE Eads St\, Newport\, OR 97365\, USA
SUMMARY:Track @ LCSD meet - Newport High 
END:VEVENT
BEGIN:VEVENT
DTSTAMP:20260424T135014Z
UID:97d9a4ba-3e77-45bd-925b-f95493d236e0
DTSTART:20260505T180000
DTEND:20260505T193000
DESCRIPTION:
LOCATION:Toledo Junior/Senior High School\, 1800 NE Sturdevant Rd\, Toledo\
 , OR 97391\, USA
SUMMARY:GYM - Boys Volleyball vs. Western Christian
END:VEVENT
BEGIN:VEVENT
DTSTAMP:20260424T135014Z
UID:aebf7520-83ce-47f0-b1f8-3857507b1f0a
DTSTART:20260506T163000
DTEND:20260506T183000
DESCRIPTION:
LOCATION:North Douglas High School\, 305 S Main St\, Drain\, OR 97435\, USA
SUMMARY:Softball @ North Douglas
END:VEVENT
BEGIN:VEVENT
DTSTAMP:20260424T135014Z
UID:bdfde2e5-6b48-49df-99fb-54adfbfb94ac
DTSTART;VALUE=DATE:20260507
DTEND;VALUE=DATE:20260508
DESCRIPTION:
LOCATION:Salishan Golf Links\, Golf Pro Shop\, 7755 US-101\, Gleneden Beach
 \, OR 97388\, USA
SUMMARY:Golf @ Salishan
END:VEVENT
BEGIN:VEVENT
DTSTAMP:20260424T135014Z
UID:f81dbf88-935d-4b36-9173-33dbfdd36c1d
DTSTART:20260507T081000
DTEND:20260507T115500
DESCRIPTION:
LOCATION:
SUMMARY:SITKA for middle school
END:VEVENT
BEGIN:VEVENT
DTSTAMP:20260424T135014Z
UID:acc05e3b-ce41-4fc5-8046-d7f49c5326b5
DTSTART:20260507T104600
DTEND:20260507T110300
DESCRIPTION:
LOCATION:
SUMMARY:Grad prep meeting for seniors
END:VEVENT
BEGIN:VEVENT
DTSTAMP:20260424T135014Z
UID:3a2094ae-33e4-4e80-ac15-79f6a85e1da2
DTSTART:20260507T180000
DTEND:20260507T193000
DESCRIPTION:
LOCATION:Toledo Junior/Senior High School\, 1800 NE Sturdevant Rd\, Toledo\
 , OR 97391\, USA
SUMMARY:GYM - Boys Volleyball vs. Philomath
END:VEVENT
BEGIN:VEVENT
DTSTAMP:20260424T135014Z
UID:ddb6b687-4f87-4064-a4eb-4857934bd392
DTSTART:20260508T163000
DTEND:20260508T193000
DESCRIPTION:
LOCATION:Waldport High School\, 3000 S Crestline Dr\, Waldport\, OR 97394\,
  USA
SUMMARY:Baseball/Softball @ Waldport
END:VEVENT
BEGIN:VEVENT
DTSTAMP:20260424T135014Z
UID:80742b88-8d41-422f-83d2-7b39a4677636
DTSTART:20260509T100000
DTEND:20260509T150000
DESCRIPTION:
LOCATION:Junction City High School\, 1135 W 6th Ave\, Junction City\, OR 97
 448\, USA
SUMMARY:Track @ Junction City
END:VEVENT
BEGIN:VEVENT
DTSTAMP:20260424T135014Z
UID:b5587f55-b4f0-49c7-b93b-40d69e897777
DTSTART;VALUE=DATE:20260511
DTEND;VALUE=DATE:20260512
DESCRIPTION:
LOCATION:Salishan Golf Links\, Golf Pro Shop\, 7755 US-101\, Gleneden Beach
 \, OR 97388\, USA
SUMMARY:Golf @ Salishan
END:VEVENT
BEGIN:VEVENT
DTSTAMP:20260424T135014Z
UID:01ac8166-c7f9-454e-909d-96a2323b3129
DTSTART:20260511T153000
DTEND:20260511T170000
DESCRIPTION:In the library
LOCATION:Toledo Junior/Senior High School\, 1800 NE Sturdevant Rd\, Toledo\
 , OR 97391\, USA
SUMMARY:GU Tutoring with Webby
END:VEVENT
BEGIN:VEVENT
DTSTAMP:20260424T135014Z
UID:727c3f0f-a99d-40e6-8175-95f817db6bb0
DTSTART:20260511T163000
DTEND:20260511T190000
DESCRIPTION:
LOCATION:Toledo Elementary School\, 600 SE Sturdevant Rd\, Toledo\, OR 9739
 1\, USA
SUMMARY:Field - Softball vs. Kennedy
END:VEVENT
BEGIN:VEVENT
DTSTAMP:20260424T135014Z
UID:358dc912-b3e6-40d3-8728-2bbaa9a4f443
DTSTART:20260512T163000
DTEND:20260512T193000
DESCRIPTION:
LOCATION:Toledo Elementary School\, 600 SE Sturdevant Rd\, Toledo\, OR 9739
 1\, USA
SUMMARY:FIELDS - Baseball vs. Reedsport
END:VEVENT
BEGIN:VEVENT
DTSTAMP:20260424T135014Z
UID:37c8a2fa-89d7-4efb-909c-b11b8f371b3a
DTSTART:20260513T170000
DTEND:20260513T180000
DESCRIPTION:
LOCATION:Siletz Valley K-12 Charter School\, 245 NW James Franks Ave\, Sile
 tz\, OR 97380\, USA
SUMMARY:Indian Education Moving Up Ceremony
END:VEVENT
BEGIN:VEVENT
DTSTAMP:20260424T135014Z
UID:7dfa1f39-b755-4066-a52f-a95bd8826d9e
DTSTART:20260514T104600
DTEND:20260514T110300
DESCRIPTION:
LOCATION:
SUMMARY:Grad prep meeting for seniors
END:VEVENT
BEGIN:VEVENT
DTSTAMP:20260424T135014Z
UID:d1b79775-f39c-4741-8bd2-032caaefdc75
DTSTART;VALUE=DATE:20260515
DTEND;VALUE=DATE:20260516
DESCRIPTION:
LOCATION:Toledo Junior/Senior High School\, 1800 NE Sturdevant Rd\, Toledo\
 , OR 97391\, USA
SUMMARY:Theater Performance
END:VEVENT
BEGIN:VEVENT
DTSTAMP:20260424T135014Z
UID:558d6680-7a2f-4a78-9c42-4bd0af32d423
DTSTART:20260515T153000
DTEND:20260515T200000
DESCRIPTION:
LOCATION:Toledo Junior/Senior High School\, 1800 NE Sturdevant Rd\, Toledo\
 , OR 97391\, USA
SUMMARY:Track - Toledo Twilight Meet
END:VEVENT
BEGIN:VEVENT
DTSTAMP:20260424T135014Z
UID:a73dec5e-59bf-445e-9cee-12583dc07db2
DTSTART:20260515T163000
DTEND:20260515T193000
DESCRIPTION:
LOCATION:Toledo Elementary School\, 600 SE Sturdevant Rd\, Toledo\, OR 9739
 1\, USA
SUMMARY:FIELDS - Baseball/Softball vs. Myrtle Point
END:VEVENT
BEGIN:VEVENT
DTSTAMP:20260424T135014Z
UID:b209a914-729a-4504-b8e3-9cd0ed24f5e0
DTSTART;VALUE=DATE:20260516
DTEND;VALUE=DATE:20260517
DESCRIPTION:
LOCATION:Toledo Junior/Senior High School\, 1800 NE Sturdevant Rd\, Toledo\
 , OR 97391\, USA
SUMMARY:Theater Performance
END:VEVENT
BEGIN:VEVENT
DTSTAMP:20260424T135014Z
UID:4a1c6e3c-b0d0-49c3-b6e7-37297e8982c3
DTSTART:20260518T140000
DTEND:20260518T151500
DESCRIPTION:
LOCATION:
SUMMARY:Talent Show
END:VEVENT
BEGIN:VEVENT
DTSTAMP:20260424T135014Z
UID:0fe7f45c-bdb2-4500-9c5d-1c96646ed93f
DTSTART:20260518T153000
DTEND:20260518T170000
DESCRIPTION:In the library
LOCATION:Toledo Junior/Senior High School\, 1800 NE Sturdevant Rd\, Toledo\
 , OR 97391\, USA
SUMMARY:GU Tutoring with Webby
END:VEVENT
BEGIN:VEVENT
DTSTAMP:20260424T135014Z
UID:77522428-f29b-4177-a2d9-d424b0b13bb5
DTSTART:20260519T104600
DTEND:20260519T110300
DESCRIPTION:
LOCATION:
SUMMARY:Decision Day Assembly
END:VEVENT
BEGIN:VEVENT
DTSTAMP:20260424T135014Z
UID:4d2de1f6-9519-4ae5-bd6c-8040dffb9c62
DTSTART:20260519T163000
DTEND:20260519T190000
DESCRIPTION:
LOCATION:Pleasant Hill High School\, 84455 N Enterprise Rd\, Pleasant Hill\
 , OR 97455\, USA
SUMMARY:Baseball/Softball @ Pleasant Hill TBD
END:VEVENT
BEGIN:VEVENT
DTSTAMP:20260424T135014Z
UID:85595695-38d8-4c0b-85dd-739d7f5d1cd1
DTSTART:20260519T163000
DTEND:20260519T180000
DESCRIPTION:
LOCATION:Pleasant Hill High School\, 84455 N Enterprise Rd\, Pleasant Hill\
 , OR 97455\, USA
SUMMARY:JV Softball @ Pleasant Hill
END:VEVENT
BEGIN:VEVENT
DTSTAMP:20260424T135014Z
UID:8e4e6a9d-7c8c-4298-9b2f-6e5c065a56f7
DTSTART;VALUE=DATE:20260521
DTEND;VALUE=DATE:20260523
DESCRIPTION:
LOCATION:Regis High School\, 550 W Regis St\, Stayton\, OR 97383\, USA
SUMMARY:Track @ Districts - Regis HS
END:VEVENT
BEGIN:VEVENT
DTSTAMP:20260424T135014Z
UID:c8612e78-095f-4ee2-af31-cceb2c8ce058
DTSTART:20260521T100000
DTEND:20260521T103000
DESCRIPTION:
LOCATION:5213 Logsden Rd\, Logsden\, OR 97357\, USA
SUMMARY:CTE Culinary Field trip
END:VEVENT
BEGIN:VEVENT
DTSTAMP:20260424T135014Z
UID:a8e08881-3646-4f9d-98e2-dfe5072baee5
DTSTART:20260521T104600
DTEND:20260521T110300
DESCRIPTION:
LOCATION:
SUMMARY:Grad prep meeting for seniors
END:VEVENT
BEGIN:VEVENT
DTSTAMP:20260424T135014Z
UID:a56eae55-2cf4-49e0-a985-a9f74bca1341
DTSTART:20260522T143000
DTEND:20260522T151500
DESCRIPTION:
LOCATION:
SUMMARY:Club Friday
END:VEVENT
BEGIN:VEVENT
DTSTAMP:20260424T135014Z
UID:1ac4a127-11ac-4a0d-98d5-810095ee2659
DTSTART:20260523T200000
DTEND:20260523T230000
DESCRIPTION:
LOCATION:SunnyRidge Venue\, 500 Sunnyridge Rd\, Toledo\, OR 97391\, USA
SUMMARY:Prom
END:VEVENT
BEGIN:VEVENT
DTSTAMP:20260424T135014Z
UID:7b0d7c23-0fb3-4e89-b995-9795a54e6c34
DTSTART;VALUE=DATE:20260525
DTEND;VALUE=DATE:20260526
DESCRIPTION:
LOCATION:
SUMMARY:Memorial Day NO SCHOOL
END:VEVENT
BEGIN:VEVENT
DTSTAMP:20260424T135014Z
UID:49af69fd-220b-4100-8bcb-b5e4cb2069d0
DTSTART;VALUE=DATE:20260525
DTEND;VALUE=DATE:20260526
DESCRIPTION:
LOCATION:
SUMMARY:No School
END:VEVENT
BEGIN:VEVENT
DTSTAMP:20260424T135014Z
UID:6cc28052-8388-413f-be0d-7529ccf9b932
DTSTART:20260526T153000
DTEND:20260526T170000
DESCRIPTION:In the library
LOCATION:Toledo Junior/Senior High School\, 1800 NE Sturdevant Rd\, Toledo\
 , OR 97391\, USA
SUMMARY:GU Tutoring with Webby
END:VEVENT
BEGIN:VEVENT
DTSTAMP:20260424T135014Z
UID:efe6c83c-caea-4f37-bd97-d2ba264b5afb
DTSTART:20260528T104600
DTEND:20260528T110300
DESCRIPTION:
LOCATION:
SUMMARY:Grad prep meeting for Seniors
END:VEVENT
BEGIN:VEVENT
DTSTAMP:20260424T135014Z
UID:cdbe5419-3194-4455-b98a-8856c0e3dcb8
DTSTART:20260528T173000
DTEND:20260528T193000
DESCRIPTION:
LOCATION:
SUMMARY:Library - Senior Awards
END:VEVENT
BEGIN:VEVENT
DTSTAMP:20260424T135014Z
UID:8786253b-883c-42f0-9c1c-a39ec93caf0c
DTSTART:20260528T190000
DTEND:20260528T203000
DESCRIPTION:
LOCATION:
SUMMARY:Cafeteria - Band/Choir Concert
END:VEVENT
BEGIN:VEVENT
DTSTAMP:20260424T135014Z
UID:caf1220d-f227-49f5-9f0d-1ea0b9c33550
DTSTART:20260529T104600
DTEND:20260529T110300
DESCRIPTION:
LOCATION:
SUMMARY:Senior Awards 
END:VEVENT
BEGIN:VEVENT
DTSTAMP:20260424T135014Z
UID:c094aaac-d28e-49be-bb43-4ffdef4114b0
DTSTART:20260601T153000
DTEND:20260601T170000
DESCRIPTION:In the library
LOCATION:Toledo Junior/Senior High School\, 1800 NE Sturdevant Rd\, Toledo\
 , OR 97391\, USA
SUMMARY:GU Tutoring with Webby
END:VEVENT
BEGIN:VEVENT
DTSTAMP:20260424T135014Z
UID:3636b3ed-bbf5-4245-9551-1af7f614e4e2
DTSTART;VALUE=DATE:20260602
DTEND;VALUE=DATE:20260603
DESCRIPTION:
LOCATION:
SUMMARY:Senior Field Trip
END:VEVENT
BEGIN:VEVENT
DTSTAMP:20260424T135014Z
UID:edea4e3f-4158-4bb8-82c9-df86a408d707
DTSTART;VALUE=DATE:20260603
DTEND;VALUE=DATE:20260604
DESCRIPTION:
LOCATION:
SUMMARY:Senior Check out
END:VEVENT
BEGIN:VEVENT
DTSTAMP:20260424T135014Z
UID:b46b0950-c01b-47c8-a007-5ea52de3365a
DTSTART;VALUE=DATE:20260604
DTEND;VALUE=DATE:20260605
DESCRIPTION:
LOCATION:
SUMMARY:Senior's Last Day
END:VEVENT
BEGIN:VEVENT
DTSTAMP:20260424T135014Z
UID:52e192ce-171b-4ef0-b5b7-bf32c00a379d
DTSTART:20260604T090000
DTEND:20260604T110000
DESCRIPTION:
LOCATION:
SUMMARY:Graduation Practice
END:VEVENT
BEGIN:VEVENT
DTSTAMP:20260424T135014Z
UID:f80dab33-61db-4d9b-acd4-cf3ca0d86ae4
DTSTART:20260604T110000
DTEND:20260604T111500
DESCRIPTION:
LOCATION:Toledo Elementary School\, 600 SE Sturdevant Rd\, Toledo\, OR 9739
 1\, USA
SUMMARY:Graduation walk
END:VEVENT
BEGIN:VEVENT
DTSTAMP:20260424T135014Z
UID:a43a636a-c6a6-4f5c-b988-9511458c1eca
DTSTART:20260605T160000
DTEND:20260605T173000
DESCRIPTION:
LOCATION:
SUMMARY:Track - Graduation 
END:VEVENT
BEGIN:VEVENT
DTSTAMP:20260424T135014Z
UID:5d3fd12e-fe18-4354-9658-e159996797ce
DTSTART:20260608T153000
DTEND:20260608T170000
DESCRIPTION:In the library
LOCATION:Toledo Junior/Senior High School\, 1800 NE Sturdevant Rd\, Toledo\
 , OR 97391\, USA
SUMMARY:GU Tutoring with Webby
END:VEVENT
BEGIN:VEVENT
DTSTAMP:20260424T135014Z
UID:69b37ce1-4f4e-41fe-94cd-62c13f01f281
DTSTART;VALUE=DATE:20260610
DTEND;VALUE=DATE:20260611
DESCRIPTION:
LOCATION:
SUMMARY:Students last day of school
END:VEVENT
BEGIN:VEVENT
DTSTAMP:20260424T135014Z
UID:4c1d6889-3b28-4a04-97c4-2ec4bd7817ff
DTSTART;VALUE=DATE:20260623
DTEND;VALUE=DATE:20260701
DESCRIPTION:
LOCATION:
SUMMARY:GYM Refinishing floor
END:VEVENT
END:VCALENDAR
