BEGIN:VCALENDAR
VERSION:2.0
PRODID:icalendar-ruby
CALSCALE:GREGORIAN
BEGIN:VTIMEZONE
TZID:America/Los_Angeles
BEGIN:DAYLIGHT
DTSTART:20260308T030000
TZOFFSETFROM:-0800
TZOFFSETTO:-0700
RRULE:FREQ=YEARLY;BYDAY=2SU;BYMONTH=3
TZNAME:PDT
END:DAYLIGHT
BEGIN:STANDARD
DTSTART:20261101T010000
TZOFFSETFROM:-0700
TZOFFSETTO:-0800
RRULE:FREQ=YEARLY;BYDAY=1SU;BYMONTH=11
TZNAME:PST
END:STANDARD
END:VTIMEZONE
BEGIN:VEVENT
DTSTAMP:20260425T213626Z
UID:aaced70a-ec7d-4a20-adf3-7e205a00b6b5
DTSTART;VALUE=DATE:20260427
DTEND;VALUE=DATE:20260428
DESCRIPTION:
LOCATION:
SUMMARY:No School PD Day
END:VEVENT
BEGIN:VEVENT
DTSTAMP:20260425T213626Z
UID:e40692ff-5f57-4385-80be-b81a5325b276
DTSTART:20260501T170000
DTEND:20260501T190000
DESCRIPTION:
LOCATION:
SUMMARY:Spring Carnival
END:VEVENT
BEGIN:VEVENT
DTSTAMP:20260425T213626Z
UID:91ad99f6-90a6-43e6-a7e6-dc1a6fac978f
DTSTART;VALUE=DATE:20260504
DTEND;VALUE=DATE:20260509
DESCRIPTION:
LOCATION:
SUMMARY:Teacher Appreciation Week
END:VEVENT
BEGIN:VEVENT
DTSTAMP:20260425T213626Z
UID:a693651d-8072-4c28-a1ab-3fd1e016d4f1
DTSTART:20260511T170000
DTEND:20260511T180000
DESCRIPTION:
LOCATION:
SUMMARY:Moving Up Parent Night
END:VEVENT
BEGIN:VEVENT
DTSTAMP:20260425T213626Z
UID:4aa51b3e-bc58-4872-8a30-844428c35512
DTSTART:20260520T163000
DTEND:20260520T173000
DESCRIPTION:
LOCATION:
SUMMARY:SCES Cubs Monthly Community Book Club
END:VEVENT
BEGIN:VEVENT
DTSTAMP:20260425T213626Z
UID:c15272a2-5219-41aa-8960-99c47903c36e
DTSTART:20260521T173000
DTEND:20260521T183000
DESCRIPTION:
LOCATION:
SUMMARY:3rd Grade Concert
END:VEVENT
BEGIN:VEVENT
DTSTAMP:20260425T213626Z
UID:878a0a1a-5fc3-4056-b2e8-f9060059d40a
DTSTART:20260521T190000
DTEND:20260521T200000
DESCRIPTION:
LOCATION:
SUMMARY:4th/5th Concert
END:VEVENT
BEGIN:VEVENT
DTSTAMP:20260425T213626Z
UID:1ce26717-11e9-4742-a050-d16b9cf4b978
DTSTART;VALUE=DATE:20260525
DTEND;VALUE=DATE:20260526
DESCRIPTION:
LOCATION:
SUMMARY:No School
END:VEVENT
BEGIN:VEVENT
DTSTAMP:20260425T213626Z
UID:2c5b8aac-2dff-480a-8c76-09152fc1bda3
DTSTART:20260604T163000
DTEND:20260604T173000
DESCRIPTION:
LOCATION:
SUMMARY:SCES Site Council Meeting
END:VEVENT
BEGIN:VEVENT
DTSTAMP:20260425T213626Z
UID:53708985-88cd-4e28-a874-235a6ab27a7b
DTSTART;VALUE=DATE:20260610
DTEND;VALUE=DATE:20260611
DESCRIPTION:
LOCATION:
SUMMARY:Field Day
END:VEVENT
BEGIN:VEVENT
DTSTAMP:20260425T213626Z
UID:4156c836-1daa-4546-90fe-9a485eaf2e64
DTSTART;VALUE=DATE:20260610
DTEND;VALUE=DATE:20260611
DESCRIPTION:
LOCATION:
SUMMARY:Last Day of School!
END:VEVENT
BEGIN:VEVENT
DTSTAMP:20260425T213626Z
UID:a48095cc-d3cc-4d2c-acf7-83a0a79c2085
DTSTART:20260610T080000
DTEND:20260610T084500
DESCRIPTION:
LOCATION:
SUMMARY:5th Grade Moving Up Event
END:VEVENT
BEGIN:VEVENT
DTSTAMP:20260425T213626Z
UID:6a01fcc8-af0d-4144-9ce0-583fdf6ecf9b
DTSTART;VALUE=DATE:20260928
DTEND;VALUE=DATE:20260929
DESCRIPTION:
LOCATION:
SUMMARY:Picture Day
END:VEVENT
END:VCALENDAR
