BEGIN:VCALENDAR
VERSION:2.0
PRODID:icalendar-ruby
CALSCALE:GREGORIAN
BEGIN:VTIMEZONE
TZID:America/Los_Angeles
BEGIN:DAYLIGHT
DTSTART:20260308T030000
TZOFFSETFROM:-0800
TZOFFSETTO:-0700
RRULE:FREQ=YEARLY;BYDAY=2SU;BYMONTH=3
TZNAME:PDT
END:DAYLIGHT
BEGIN:STANDARD
DTSTART:20261101T010000
TZOFFSETFROM:-0700
TZOFFSETTO:-0800
RRULE:FREQ=YEARLY;BYDAY=1SU;BYMONTH=11
TZNAME:PST
END:STANDARD
END:VTIMEZONE
BEGIN:VEVENT
DTSTAMP:20260425T172146Z
UID:54e14cad-dafe-46fa-ad91-4c0fed1a09f3
DTSTART:20260425T090000
DTEND:20260425T130000
DESCRIPTION:
LOCATION:
SUMMARY:Spring booster auction
END:VEVENT
BEGIN:VEVENT
DTSTAMP:20260425T172146Z
UID:67f47aed-6a5a-4c26-9a77-4a332492947f
DTSTART:20260425T100000
DTEND:20260425T170000
DESCRIPTION:
LOCATION:
SUMMARY:Track at MOC: Sweet Home
END:VEVENT
BEGIN:VEVENT
DTSTAMP:20260425T172146Z
UID:39e3404c-0e1b-44bc-8a77-3389c9eecb2c
DTSTART;VALUE=DATE:20260427
DTEND;VALUE=DATE:20260428
DESCRIPTION:
LOCATION:
SUMMARY:No School
END:VEVENT
BEGIN:VEVENT
DTSTAMP:20260425T172146Z
UID:077c5d6d-14f1-4f25-9127-cb3eea627ad3
DTSTART;VALUE=DATE:20260427
DTEND;VALUE=DATE:20260428
DESCRIPTION:
LOCATION:
SUMMARY:No School PD Day
END:VEVENT
BEGIN:VEVENT
DTSTAMP:20260425T172146Z
UID:97b244ad-454d-4aad-a34d-effaf556d271
DTSTART:20260427T110000
DTEND:20260427T160000
DESCRIPTION:
LOCATION:
SUMMARY:Boys Golf @ Cross Creek
END:VEVENT
BEGIN:VEVENT
DTSTAMP:20260425T172146Z
UID:2efbaa21-0f28-4095-ae4f-28702a457d3b
DTSTART:20260427T170000
DTEND:20260427T190000
DESCRIPTION:
LOCATION:
SUMMARY:JV/V Baseball @ North Marion
END:VEVENT
BEGIN:VEVENT
DTSTAMP:20260425T172146Z
UID:22bb0abb-a093-4638-8a65-eb1193992093
DTSTART:20260427T170000
DTEND:20260427T190000
DESCRIPTION:
LOCATION:
SUMMARY:JV/V Softball v. Philomath: GUC
END:VEVENT
BEGIN:VEVENT
DTSTAMP:20260425T172146Z
UID:538412cb-c874-4cd1-a7ab-4435a82f814e
DTSTART:20260427T180000
DTEND:20260427T190000
DESCRIPTION:
LOCATION:Sam Case Elementary School\, 459 NE 12th St\, Newport\, OR 97365\,
  USA
SUMMARY:Boys VB vs. Willamette Valley Christian
END:VEVENT
BEGIN:VEVENT
DTSTAMP:20260425T172146Z
UID:8d0ebb43-df2b-4238-b3c0-cba36bd38be5
DTSTART;VALUE=DATE:20260428
DTEND;VALUE=DATE:20260429
DESCRIPTION:
LOCATION:
SUMMARY:IB SEHS Test PM
END:VEVENT
BEGIN:VEVENT
DTSTAMP:20260425T172146Z
UID:15452d1b-2b00-4c7d-9afb-612c3109cd72
DTSTART:20260428T100000
DTEND:20260428T153000
DESCRIPTION:
LOCATION:
SUMMARY:Girls Golf at Salishan
END:VEVENT
BEGIN:VEVENT
DTSTAMP:20260425T172146Z
UID:c20a7e29-2734-45f4-bbfb-9bf6e91cc4c0
DTSTART:20260428T100400
DTEND:20260428T103400
DESCRIPTION:Room W7
LOCATION:
SUMMARY:Flag Football Interest Meeting
END:VEVENT
BEGIN:VEVENT
DTSTAMP:20260425T172146Z
UID:58fdd9dc-a731-4943-a0b0-408233ffb436
DTSTART:20260428T180000
DTEND:20260428T193000
DESCRIPTION:
LOCATION:
SUMMARY:Culture Night with Indian Education LCSD 
END:VEVENT
BEGIN:VEVENT
DTSTAMP:20260425T172146Z
UID:c0b3b71b-2a8a-47fe-a331-f9a185134710
DTSTART;VALUE=DATE:20260429
DTEND;VALUE=DATE:20260430
DESCRIPTION:
LOCATION:
SUMMARY:IB SEHS Test AM
END:VEVENT
BEGIN:VEVENT
DTSTAMP:20260425T172146Z
UID:614b9b09-3b7a-46cf-aba2-c54c252cf617
DTSTART:20260429T163000
DTEND:20260429T183000
DESCRIPTION:
LOCATION:
SUMMARY:V/JV Softball @ Cascade
END:VEVENT
BEGIN:VEVENT
DTSTAMP:20260425T172146Z
UID:1599c683-6b7e-4c75-aff5-e6e3d9ebccfd
DTSTART:20260429T170000
DTEND:20260429T190000
DESCRIPTION:
LOCATION:Newport Middle School\, 825 NE 7th St\, Newport\, OR 97365\, USA
SUMMARY:JV Baseball vs. North Marion
END:VEVENT
BEGIN:VEVENT
DTSTAMP:20260425T172146Z
UID:200e0493-b558-469d-848e-0c79f3dff06f
DTSTART:20260429T170000
DTEND:20260429T190000
DESCRIPTION:
LOCATION:Frank V. Wade Memorial Park\, 1445 NE Big Creek Rd\, Newport\, OR 
 97365\, USA
SUMMARY:V Baseball vs. North Marion
END:VEVENT
BEGIN:VEVENT
DTSTAMP:20260425T172146Z
UID:e718ac19-eca5-413a-84a2-c37329b54aea
DTSTART:20260429T180000
DTEND:20260429T190000
DESCRIPTION:
LOCATION:
SUMMARY:Boys VB @ Toledo
END:VEVENT
BEGIN:VEVENT
DTSTAMP:20260425T172146Z
UID:5ed52b30-ecea-418f-aaac-b6d0e879fe2f
DTSTART;VALUE=DATE:20260430
DTEND;VALUE=DATE:20260501
DESCRIPTION:
LOCATION:
SUMMARY:IB ESS PM
END:VEVENT
BEGIN:VEVENT
DTSTAMP:20260425T172146Z
UID:f69108a1-9cb9-4920-8831-5123a4a5513e
DTSTART:20260430T163000
DTEND:20260430T180000
DESCRIPTION:
LOCATION:Newport High School Football Field\, Newport\, OR 97365\, USA
SUMMARY:ELEMENTARY TRACK MEET PRE-K-5th GRADE
END:VEVENT
BEGIN:VEVENT
DTSTAMP:20260425T172146Z
UID:587b1b3c-ab10-4e99-b8ef-e57d8a087c06
DTSTART:20260430T170000
DTEND:20260430T190000
DESCRIPTION:
LOCATION:
SUMMARY:Baseball @ North Marion
END:VEVENT
BEGIN:VEVENT
DTSTAMP:20260425T172146Z
UID:8dc305ca-de54-45b3-bf3c-0651f3cad2b8
DTSTART:20260430T170000
DTEND:20260430T190000
DESCRIPTION:
LOCATION:
SUMMARY:V/JV Softball v. Stayton
END:VEVENT
BEGIN:VEVENT
DTSTAMP:20260425T172146Z
UID:bcce2f09-6e73-4f7c-9e60-60b30cbbdeee
DTSTART;VALUE=DATE:20260501
DTEND;VALUE=DATE:20260502
DESCRIPTION:
LOCATION:
SUMMARY:OSAA Chamber Festival @ Mt. Hood CC
END:VEVENT
BEGIN:VEVENT
DTSTAMP:20260425T172146Z
UID:f3069f70-b89e-471f-914e-6a809ea0aba3
DTSTART:20260501T180000
DTEND:20260501T190000
DESCRIPTION:
LOCATION:Sam Case Elementary School\, 459 NE 12th St\, Newport\, OR 97365\,
  USA
SUMMARY:Boys VB vs. Cascade
END:VEVENT
BEGIN:VEVENT
DTSTAMP:20260425T172146Z
UID:39f2427a-b524-4e96-9db2-a5c8433f9834
DTSTART;VALUE=DATE:20260502
DTEND;VALUE=DATE:20260503
DESCRIPTION:
LOCATION:
SUMMARY:Band @ Loyalty Days
END:VEVENT
BEGIN:VEVENT
DTSTAMP:20260425T172146Z
UID:d5d9de7c-e692-4eeb-b845-41eea6186ca4
DTSTART;VALUE=DATE:20260504
DTEND;VALUE=DATE:20260505
DESCRIPTION:
LOCATION:
SUMMARY:IB ESS Test AM
END:VEVENT
BEGIN:VEVENT
DTSTAMP:20260425T172146Z
UID:cc3aef63-33ed-4c47-8f27-d220699be20e
DTSTART:20260504T113000
DTEND:20260504T163000
DESCRIPTION:
LOCATION:
SUMMARY:Girls golf @ Mallard Creek Districts tbd time
END:VEVENT
BEGIN:VEVENT
DTSTAMP:20260425T172146Z
UID:7abd2d16-6696-49fe-b988-ce80f24836ad
DTSTART:20260504T170000
DTEND:20260504T190000
DESCRIPTION:Growing Up Cub Night
LOCATION:Newport Middle School\, 825 NE 7th St\, Newport\, OR 97365\, USA
SUMMARY:JV Baseball vs. Sweet Home
END:VEVENT
BEGIN:VEVENT
DTSTAMP:20260425T172146Z
UID:3cf8860a-f129-4be3-b5e5-7d43ffd108f2
DTSTART:20260504T170000
DTEND:20260504T190000
DESCRIPTION:
LOCATION:
SUMMARY:JV/V Softball @ North Marion
END:VEVENT
BEGIN:VEVENT
DTSTAMP:20260425T172146Z
UID:61935e7d-a423-4cb9-a4ba-3377c5b76248
DTSTART:20260504T170000
DTEND:20260504T190000
DESCRIPTION:Growing Up Cub Night
LOCATION:Frank V. Wade Memorial Park\, 1445 NE Big Creek Rd\, Newport\, OR 
 97365\, USA
SUMMARY:V Baseball vs. Sweet Home
END:VEVENT
BEGIN:VEVENT
DTSTAMP:20260425T172146Z
UID:c70728c3-fe9e-47d8-b062-193fa6f780b5
DTSTART:20260504T180000
DTEND:20260504T210000
DESCRIPTION:
LOCATION:
SUMMARY:TOK Exhibition
END:VEVENT
BEGIN:VEVENT
DTSTAMP:20260425T172146Z
UID:02cfee80-4683-4f79-b08c-878f430164d7
DTSTART:20260505T100000
DTEND:20260505T103000
DESCRIPTION:
LOCATION:
SUMMARY:Prom Assembly - Homeroom
END:VEVENT
BEGIN:VEVENT
DTSTAMP:20260425T172146Z
UID:dd3dae46-e23a-44f2-a05e-96bfca936945
DTSTART:20260505T113000
DTEND:20260505T163000
DESCRIPTION:
LOCATION:
SUMMARY:Girls golf @ Mallard Creek Districts tbd time
END:VEVENT
BEGIN:VEVENT
DTSTAMP:20260425T172146Z
UID:258e8d2e-4184-420b-b1ea-daf3b6517e9a
DTSTART:20260505T160000
DTEND:20260505T193000
DESCRIPTION:
LOCATION:
SUMMARY:Track Home Meet
END:VEVENT
BEGIN:VEVENT
DTSTAMP:20260425T172146Z
UID:c7b2b6ed-ae43-47db-8098-456c0e751b3b
DTSTART:20260505T180000
DTEND:20260505T190000
DESCRIPTION:
LOCATION:
SUMMARY:Boys VB vs. Crosshill Christian
END:VEVENT
BEGIN:VEVENT
DTSTAMP:20260425T172146Z
UID:1e3727be-73d9-41fe-97ad-892d7783f97d
DTSTART:20260506T170000
DTEND:20260506T190000
DESCRIPTION:
LOCATION:
SUMMARY:JV/V Baseball @ Sweet Home
END:VEVENT
BEGIN:VEVENT
DTSTAMP:20260425T172146Z
UID:5fa3ebf9-b7f3-4476-becb-6094e686ec47
DTSTART:20260506T170000
DTEND:20260506T190000
DESCRIPTION:
LOCATION:
SUMMARY:JV/V Softball v. Sweet Home
END:VEVENT
BEGIN:VEVENT
DTSTAMP:20260425T172146Z
UID:bb8d9d51-d6f4-45d3-a86f-a34bca3ffe53
DTSTART:20260506T183000
DTEND:20260506T193000
DESCRIPTION:
LOCATION:
SUMMARY:College Match Parent Night
END:VEVENT
BEGIN:VEVENT
DTSTAMP:20260425T172146Z
UID:e3c2cab2-9c49-49c3-8584-3400752607f4
DTSTART;VALUE=DATE:20260507
DTEND;VALUE=DATE:20260508
DESCRIPTION:
LOCATION:
SUMMARY:IB English Test PM
END:VEVENT
BEGIN:VEVENT
DTSTAMP:20260425T172146Z
UID:8044beb4-f847-41d8-ae35-55071b51eedb
DTSTART:20260507T081500
DTEND:20260507T150000
DESCRIPTION:
LOCATION:
SUMMARY:STEP Transition Program @ OSU 
END:VEVENT
BEGIN:VEVENT
DTSTAMP:20260425T172146Z
UID:d0a13cb6-a445-47ec-b40b-3cc7d3013f9c
DTSTART:20260507T170000
DTEND:20260507T190000
DESCRIPTION:
LOCATION:Newport Middle School\, 825 NE 7th St\, Newport\, OR 97365\, USA
SUMMARY:JV Baseball vs. Sweet Home
END:VEVENT
BEGIN:VEVENT
DTSTAMP:20260425T172146Z
UID:a1fc3e87-b2b8-44c6-b08c-e9526563eef2
DTSTART:20260507T170000
DTEND:20260507T190000
DESCRIPTION:
LOCATION:
SUMMARY:JV/V Softball @ Philomath
END:VEVENT
BEGIN:VEVENT
DTSTAMP:20260425T172146Z
UID:f3ef4140-cf08-4146-a380-61dd179cc807
DTSTART:20260507T170000
DTEND:20260507T190000
DESCRIPTION:
LOCATION:Frank V. Wade Memorial Park\, 1445 NE Big Creek Rd\, Newport\, OR 
 97365\, USA
SUMMARY:V Baseball vs. Sweet Home
END:VEVENT
BEGIN:VEVENT
DTSTAMP:20260425T172146Z
UID:7b70f0c2-0683-4513-82ff-412e6673e450
DTSTART:20260507T180000
DTEND:20260507T190000
DESCRIPTION:
LOCATION:
SUMMARY:Boys VB @ Westside Christian
END:VEVENT
BEGIN:VEVENT
DTSTAMP:20260425T172146Z
UID:a3e622fb-43b7-4b05-b57e-f41dbfdbddc1
DTSTART;VALUE=DATE:20260508
DTEND;VALUE=DATE:20260509
DESCRIPTION:
LOCATION:
SUMMARY:IB English Test AM
END:VEVENT
BEGIN:VEVENT
DTSTAMP:20260425T172146Z
UID:6026e5cf-9194-4ada-ab1f-278ed43dd850
DTSTART:20260508T060000
DTEND:20260508T180000
DESCRIPTION:
LOCATION:
SUMMARY:ELD @ WOU
END:VEVENT
BEGIN:VEVENT
DTSTAMP:20260425T172146Z
UID:77918cdf-f39f-43f4-8329-a2ab77c2e53a
DTSTART:20260508T180000
DTEND:20260508T210000
DESCRIPTION:
LOCATION:
SUMMARY:TOK Exhibition
END:VEVENT
BEGIN:VEVENT
DTSTAMP:20260425T172146Z
UID:c514b008-c3de-4a61-9fc7-65d7af0f99d2
DTSTART:20260509T100000
DTEND:20260509T170000
DESCRIPTION:
LOCATION:
SUMMARY:Track @ Stayton Invite
END:VEVENT
BEGIN:VEVENT
DTSTAMP:20260425T172146Z
UID:f7818d7a-7f54-4457-a8c1-02fc04013d92
DTSTART;VALUE=DATE:20260511
DTEND;VALUE=DATE:20260516
DESCRIPTION:
LOCATION:
SUMMARY:Athletic Clearance week
END:VEVENT
BEGIN:VEVENT
DTSTAMP:20260425T172146Z
UID:42815e09-720f-4b4e-8b87-373816f14b02
DTSTART;VALUE=DATE:20260511
DTEND;VALUE=DATE:20260512
DESCRIPTION:
LOCATION:
SUMMARY:IB Biology Test PM
END:VEVENT
BEGIN:VEVENT
DTSTAMP:20260425T172146Z
UID:71d2ba95-dabd-4629-9762-21d95f38b4ea
DTSTART:20260511T095400
DTEND:20260511T105500
DESCRIPTION:
LOCATION:
SUMMARY:Decision Day Assembly
END:VEVENT
BEGIN:VEVENT
DTSTAMP:20260425T172146Z
UID:b15d9d0b-ac10-4ad6-a5d1-7acfa3d288bf
DTSTART:20260511T100000
DTEND:20260511T163000
DESCRIPTION:
LOCATION:
SUMMARY:Boys Golf at Districts: Tokatee: Time TBD
END:VEVENT
BEGIN:VEVENT
DTSTAMP:20260425T172146Z
UID:b824ca7e-7881-47a0-b4b1-0e0f3a468e53
DTSTART:20260511T130000
DTEND:20260511T143000
DESCRIPTION:
LOCATION:
SUMMARY:Moving Up - 8th Graders
END:VEVENT
BEGIN:VEVENT
DTSTAMP:20260425T172146Z
UID:b7f46da8-02bf-480f-be6d-28e9223cef80
DTSTART:20260511T170000
DTEND:20260511T190000
DESCRIPTION:
LOCATION:
SUMMARY:JV/V Baseball @ Philomath
END:VEVENT
BEGIN:VEVENT
DTSTAMP:20260425T172146Z
UID:c3fc8167-fde9-429c-bfd4-95e50f852ce5
DTSTART:20260511T170000
DTEND:20260511T190000
DESCRIPTION:
LOCATION:
SUMMARY:JV/V Softball v.  Cascade
END:VEVENT
BEGIN:VEVENT
DTSTAMP:20260425T172146Z
UID:a8b13a76-d057-4d49-b586-4c2018382b5f
DTSTART;VALUE=DATE:20260512
DTEND;VALUE=DATE:20260513
DESCRIPTION:
LOCATION:
SUMMARY:IB Biology Test AM
END:VEVENT
BEGIN:VEVENT
DTSTAMP:20260425T172146Z
UID:0a07fd93-3b8f-47fb-b5a7-e0c510e4a3a3
DTSTART:20260512T082000
DTEND:20260512T121500
DESCRIPTION:
LOCATION:
SUMMARY:Mrs. K Homeroom @ Siletz Farm
END:VEVENT
BEGIN:VEVENT
DTSTAMP:20260425T172146Z
UID:d7c967de-95d6-4625-9fab-f2428e60d735
DTSTART:20260512T100000
DTEND:20260512T163000
DESCRIPTION:
LOCATION:
SUMMARY:Boys Golf at Districts: Tokatee: Time TBD
END:VEVENT
BEGIN:VEVENT
DTSTAMP:20260425T172146Z
UID:d6ced3cb-adc5-4b95-a41e-d37712f2c679
DTSTART;VALUE=DATE:20260513
DTEND;VALUE=DATE:20260514
DESCRIPTION:
LOCATION:
SUMMARY:IB Spanish Test PM
END:VEVENT
BEGIN:VEVENT
DTSTAMP:20260425T172146Z
UID:5d178e21-8473-4a25-882f-c4651aa4eabf
DTSTART:20260513T170000
DTEND:20260513T190000
DESCRIPTION:
LOCATION:Newport Middle School\, 825 NE 7th St\, Newport\, OR 97365\, USA
SUMMARY:JV Baseball vs. Philomath
END:VEVENT
BEGIN:VEVENT
DTSTAMP:20260425T172146Z
UID:3a98c079-6051-480a-bf8e-3602d6dce28e
DTSTART:20260513T170000
DTEND:20260513T190000
DESCRIPTION:
LOCATION:
SUMMARY:JV/V Softball  @ Stayton
END:VEVENT
BEGIN:VEVENT
DTSTAMP:20260425T172146Z
UID:21ef42b7-cc6a-4891-a256-45324af3c6ea
DTSTART:20260513T170000
DTEND:20260513T190000
DESCRIPTION:
LOCATION:
SUMMARY:Title VI Moving Up Event
END:VEVENT
BEGIN:VEVENT
DTSTAMP:20260425T172146Z
UID:4ba3afc5-1670-422b-93f2-b111b71dae4f
DTSTART:20260513T170000
DTEND:20260513T190000
DESCRIPTION:
LOCATION:Frank V. Wade Memorial Park\, 1445 NE Big Creek Rd\, Newport\, OR 
 97365\, USA
SUMMARY:V Baseball vs. Philomath
END:VEVENT
BEGIN:VEVENT
DTSTAMP:20260425T172146Z
UID:e71162bf-9c35-4705-8640-b7300e81aade
DTSTART;VALUE=DATE:20260514
DTEND;VALUE=DATE:20260515
DESCRIPTION:
LOCATION:
SUMMARY:IB Math Test PM
END:VEVENT
BEGIN:VEVENT
DTSTAMP:20260425T172146Z
UID:75f079cb-7e00-4e75-b407-03d5acbe87da
DTSTART;VALUE=DATE:20260514
DTEND;VALUE=DATE:20260515
DESCRIPTION:
LOCATION:
SUMMARY:IB Spanish Test AM
END:VEVENT
BEGIN:VEVENT
DTSTAMP:20260425T172146Z
UID:1c535b97-0f19-42ef-93f2-7c01fa8a277b
DTSTART:20260514T150000
DTEND:20260514T193000
DESCRIPTION:
LOCATION:
SUMMARY:JV Track Districts @ Philomath
END:VEVENT
BEGIN:VEVENT
DTSTAMP:20260425T172146Z
UID:cfc02b4b-3dc1-4d6b-926e-cfac15e1c4f8
DTSTART:20260514T170000
DTEND:20260514T190000
DESCRIPTION:
LOCATION:
SUMMARY:JV/V Baseball @ Philomath
END:VEVENT
BEGIN:VEVENT
DTSTAMP:20260425T172146Z
UID:76acccbc-3684-42fc-9767-3c4e2217b4ef
DTSTART:20260514T170000
DTEND:20260514T190000
DESCRIPTION:
LOCATION:Yaquina View Elementary School\, 351 SE Harney St\, Newport\, OR 9
 7365\, USA
SUMMARY:JV/V Softball v. North Marion
END:VEVENT
BEGIN:VEVENT
DTSTAMP:20260425T172146Z
UID:ac040836-d503-44d7-8425-ab44a2911262
DTSTART;VALUE=DATE:20260515
DTEND;VALUE=DATE:20260516
DESCRIPTION:
LOCATION:
SUMMARY:IB Math Test AM
END:VEVENT
BEGIN:VEVENT
DTSTAMP:20260425T172146Z
UID:89e6f22b-6e62-4664-898a-266b6d921233
DTSTART:20260516T203000
DTEND:20260516T223000
DESCRIPTION:
LOCATION:
SUMMARY:Prom
END:VEVENT
BEGIN:VEVENT
DTSTAMP:20260425T172146Z
UID:2a28cf70-c90e-4b7c-92de-0f264af122e4
DTSTART;VALUE=DATE:20260518
DTEND;VALUE=DATE:20260519
DESCRIPTION:
LOCATION:
SUMMARY:IB Global Politics Test PM
END:VEVENT
BEGIN:VEVENT
DTSTAMP:20260425T172146Z
UID:3d468554-d19d-4630-9e20-6b08fc75962b
DTSTART:20260518T113000
DTEND:20260518T160000
DESCRIPTION:
LOCATION:
SUMMARY:Boys Golf State TBD time/location
END:VEVENT
BEGIN:VEVENT
DTSTAMP:20260425T172146Z
UID:a0d31609-2466-4608-9028-d0c73e7d2b2a
DTSTART:20260518T113000
DTEND:20260518T160000
DESCRIPTION:
LOCATION:
SUMMARY:Girls Golf State TBD time/location
END:VEVENT
BEGIN:VEVENT
DTSTAMP:20260425T172146Z
UID:36f342e4-9fe7-44a7-8e07-03d68b53d5d8
DTSTART:20260518T170000
DTEND:20260518T190000
DESCRIPTION:
LOCATION:Newport Middle School\, 825 NE 7th St\, Newport\, OR 97365\, USA
SUMMARY:JV Baseball vs. Cascade
END:VEVENT
BEGIN:VEVENT
DTSTAMP:20260425T172146Z
UID:f37a030e-2862-4418-ab27-95a15e3dc14d
DTSTART:20260518T170000
DTEND:20260518T190000
DESCRIPTION:
LOCATION:
SUMMARY:JV/V Softball @ Sweet Home
END:VEVENT
BEGIN:VEVENT
DTSTAMP:20260425T172146Z
UID:4f9afb91-5d2c-4f6c-8328-5d81fcdd6e69
DTSTART:20260518T170000
DTEND:20260518T190000
DESCRIPTION:
LOCATION:Frank V. Wade Memorial Park\, 1445 NE Big Creek Rd\, Newport\, OR 
 97365\, USA
SUMMARY:V Baseball vs. Cascade
END:VEVENT
BEGIN:VEVENT
DTSTAMP:20260425T172146Z
UID:e47ec611-4c32-4210-ab6e-d050ee5a89b9
DTSTART;VALUE=DATE:20260519
DTEND;VALUE=DATE:20260520
DESCRIPTION:
LOCATION:
SUMMARY:IB Global Politics Test AM
END:VEVENT
BEGIN:VEVENT
DTSTAMP:20260425T172146Z
UID:fc54368a-45f7-4f55-a6ba-f743a14c4eac
DTSTART:20260519T113000
DTEND:20260519T160000
DESCRIPTION:
LOCATION:
SUMMARY:Boys Golf State TBD time/location
END:VEVENT
BEGIN:VEVENT
DTSTAMP:20260425T172146Z
UID:a7406e54-c897-4db2-94a5-3b1b99b20a10
DTSTART:20260519T113000
DTEND:20260519T160000
DESCRIPTION:
LOCATION:
SUMMARY:Girls Golf State TBD time/location
END:VEVENT
BEGIN:VEVENT
DTSTAMP:20260425T172146Z
UID:91f73652-30f5-4409-88f0-a1d906afb03d
DTSTART:20260520T163000
DTEND:20260520T183000
DESCRIPTION:
LOCATION:Yaquina View Elementary School\, 351 SE Harney St\, Newport\, OR 9
 7365\, USA
SUMMARY:JV/V Softball v. Philomath
END:VEVENT
BEGIN:VEVENT
DTSTAMP:20260425T172146Z
UID:063c6a98-7dc1-442e-8365-68fe45043654
DTSTART:20260520T170000
DTEND:20260520T190000
DESCRIPTION:
LOCATION:
SUMMARY:JV/V Baseball @ Cascade
END:VEVENT
BEGIN:VEVENT
DTSTAMP:20260425T172146Z
UID:34a62b8a-7f02-4c7c-86b4-14a2c21c1c22
DTSTART:20260520T183000
DTEND:20260520T203000
DESCRIPTION:
LOCATION:
SUMMARY:Senior Scholarship Night
END:VEVENT
BEGIN:VEVENT
DTSTAMP:20260425T172146Z
UID:d4fb7fcc-ea32-4101-8ed7-42ece8fffd4d
DTSTART:20260521T170000
DTEND:20260521T190000
DESCRIPTION:SENIOR NIGHT
LOCATION:Newport Middle School\, 825 NE 7th St\, Newport\, OR 97365\, USA
SUMMARY:JV Baseball vs. Cascade
END:VEVENT
BEGIN:VEVENT
DTSTAMP:20260425T172146Z
UID:a91a00a9-6bd3-44be-b275-15b24d59b371
DTSTART:20260521T170000
DTEND:20260521T190000
DESCRIPTION:
LOCATION:
SUMMARY:JV/V Softball @ Cascade
END:VEVENT
BEGIN:VEVENT
DTSTAMP:20260425T172146Z
UID:46d0089a-6af5-420e-abd8-f0291a9177b1
DTSTART:20260521T170000
DTEND:20260521T190000
DESCRIPTION:SENIOR NIGHT
LOCATION:Frank V. Wade Memorial Park\, 1445 NE Big Creek Rd\, Newport\, OR 
 97365\, USA
SUMMARY:V Baseball vs. Cascade
END:VEVENT
BEGIN:VEVENT
DTSTAMP:20260425T172146Z
UID:368197ef-1d11-48be-866b-b097b8efea94
DTSTART:20260522T083000
DTEND:20260522T150000
DESCRIPTION:
LOCATION:
SUMMARY:ECEL @ FOGARTY BEACH STATE PARK
END:VEVENT
BEGIN:VEVENT
DTSTAMP:20260425T172146Z
UID:aa4d1714-e5b4-41fe-b786-bb7b96cd65de
DTSTART:20260522T150000
DTEND:20260522T193000
DESCRIPTION:
LOCATION:
SUMMARY:V Track Districts @ Stayton
END:VEVENT
BEGIN:VEVENT
DTSTAMP:20260425T172146Z
UID:8787a1fb-0394-4f22-a901-a43137d2a53d
DTSTART:20260523T103000
DTEND:20260523T150000
DESCRIPTION:
LOCATION:
SUMMARY:V Track Districts @ Stayton
END:VEVENT
BEGIN:VEVENT
DTSTAMP:20260425T172146Z
UID:65805961-46f2-46e2-a8fe-2026bb851d60
DTSTART;VALUE=DATE:20260525
DTEND;VALUE=DATE:20260528
DESCRIPTION:
LOCATION:
SUMMARY:IB English @ Ashland
END:VEVENT
BEGIN:VEVENT
DTSTAMP:20260425T172146Z
UID:81040c12-3581-4595-a024-52bd03cbb98c
DTSTART;VALUE=DATE:20260525
DTEND;VALUE=DATE:20260526
DESCRIPTION:
LOCATION:
SUMMARY:No School
END:VEVENT
BEGIN:VEVENT
DTSTAMP:20260425T172146Z
UID:3dd93e7f-a57f-4134-b14f-80f18d8d5867
DTSTART;VALUE=DATE:20260525
DTEND;VALUE=DATE:20260526
DESCRIPTION:
LOCATION:
SUMMARY:No School
END:VEVENT
BEGIN:VEVENT
DTSTAMP:20260425T172146Z
UID:bbd3f049-8559-4c77-aa17-0371483f143e
DTSTART:20260527T115000
DTEND:20260527T153000
DESCRIPTION:
LOCATION:
SUMMARY:Link Crew Training
END:VEVENT
BEGIN:VEVENT
DTSTAMP:20260425T172146Z
UID:fbd724d8-3b47-41d8-86c2-4d085ccba845
DTSTART:20260528T140500
DTEND:20260528T152000
DESCRIPTION:
LOCATION:
SUMMARY:Talent Show
END:VEVENT
BEGIN:VEVENT
DTSTAMP:20260425T172146Z
UID:e74f3899-de5c-4ea1-9da5-5de13fb84889
DTSTART:20260528T160000
DTEND:20260528T220000
DESCRIPTION:
LOCATION:
SUMMARY:Track Departs State Meet U of O
END:VEVENT
BEGIN:VEVENT
DTSTAMP:20260425T172146Z
UID:a2090658-6260-46c8-ab2e-881b19cb3aec
DTSTART:20260528T190000
DTEND:20260528T203000
DESCRIPTION:
LOCATION:
SUMMARY:Spring Music Concert
END:VEVENT
BEGIN:VEVENT
DTSTAMP:20260425T172146Z
UID:5965e649-ab41-4948-8be0-30e5d500118e
DTSTART:20260528T190000
DTEND:20260528T210000
DESCRIPTION:
LOCATION:
SUMMARY:Theater Performance
END:VEVENT
BEGIN:VEVENT
DTSTAMP:20260425T172146Z
UID:02a76ec8-0ed0-44dc-8287-95a8036d85b5
DTSTART:20260529T070000
DTEND:20260529T230000
DESCRIPTION:
LOCATION:
SUMMARY:Track  State Meet U of O
END:VEVENT
BEGIN:VEVENT
DTSTAMP:20260425T172146Z
UID:bb6877c5-1020-4679-b7e4-5bc7d12b43d6
DTSTART:20260529T190000
DTEND:20260529T210000
DESCRIPTION:
LOCATION:
SUMMARY:Theater Performance
END:VEVENT
BEGIN:VEVENT
DTSTAMP:20260425T172146Z
UID:4b704985-668d-4f9c-b3cd-8a4b26bd9cc8
DTSTART:20260530T070000
DTEND:20260530T230000
DESCRIPTION:
LOCATION:
SUMMARY:Track  State Meet U of O
END:VEVENT
BEGIN:VEVENT
DTSTAMP:20260425T172146Z
UID:fd127495-3205-46d9-87f7-cf45e27e8e56
DTSTART:20260530T190000
DTEND:20260530T210000
DESCRIPTION:
LOCATION:
SUMMARY:Theater Performance
END:VEVENT
BEGIN:VEVENT
DTSTAMP:20260425T172146Z
UID:478a0af1-1079-4d70-ba41-ec673e84729c
DTSTART;VALUE=DATE:20260531
DTEND;VALUE=DATE:20260601
DESCRIPTION:
LOCATION:
SUMMARY:Newport Marathon
END:VEVENT
BEGIN:VEVENT
DTSTAMP:20260425T172146Z
UID:c3a12ebc-9634-4268-a579-65b7ad9ea729
DTSTART:20260531T074500
DTEND:20260531T141500
DESCRIPTION:
LOCATION:
SUMMARY:Marathon
END:VEVENT
BEGIN:VEVENT
DTSTAMP:20260425T172146Z
UID:9204b2cc-9a9a-49cc-b91c-7adae85b51ee
DTSTART:20260601T183000
DTEND:20260601T200000
DESCRIPTION:
LOCATION:
SUMMARY:Senior Celebration
END:VEVENT
BEGIN:VEVENT
DTSTAMP:20260425T172146Z
UID:eb41c409-809e-4c96-80b4-b24f33a98c90
DTSTART;VALUE=DATE:20260602
DTEND;VALUE=DATE:20260603
DESCRIPTION:
LOCATION:
SUMMARY:Last Day Seniors
END:VEVENT
BEGIN:VEVENT
DTSTAMP:20260425T172146Z
UID:e9463e8f-dd90-47ae-9697-7daa3531dbc8
DTSTART:20260602T121400
DTEND:20260602T124900
DESCRIPTION:
LOCATION:
SUMMARY:Senior Signing
END:VEVENT
BEGIN:VEVENT
DTSTAMP:20260425T172146Z
UID:9f6f0f10-5f19-4d73-967f-9494563d4487
DTSTART:20260602T183000
DTEND:20260602T200000
DESCRIPTION:
LOCATION:
SUMMARY:Spring sports awards
END:VEVENT
BEGIN:VEVENT
DTSTAMP:20260425T172146Z
UID:78258d4b-8718-437e-b71d-7901dfbe35c5
DTSTART:20260602T183000
DTEND:20260602T200000
DESCRIPTION:
LOCATION:
SUMMARY:Spring Sports Awards
END:VEVENT
BEGIN:VEVENT
DTSTAMP:20260425T172146Z
UID:18aa7532-1ba6-4112-a151-652563d07f09
DTSTART:20260603T140500
DTEND:20260603T160000
DESCRIPTION:
LOCATION:
SUMMARY:Yearbook Release Party
END:VEVENT
BEGIN:VEVENT
DTSTAMP:20260425T172146Z
UID:13c63992-df7a-4016-b28e-423615220f22
DTSTART:20260603T202600
DTEND:20260603T212600
DESCRIPTION:
LOCATION:
SUMMARY:Senior Parade
END:VEVENT
BEGIN:VEVENT
DTSTAMP:20260425T172146Z
UID:be6f833a-ae77-4f0d-ab3b-5ab0930721eb
DTSTART;VALUE=DATE:20260604
DTEND;VALUE=DATE:20260605
DESCRIPTION:
LOCATION:
SUMMARY:Senior Activity Day
END:VEVENT
BEGIN:VEVENT
DTSTAMP:20260425T172146Z
UID:5c15f837-6f75-417d-a102-e02d2d410e75
DTSTART:20260606T170000
DTEND:20260606T183000
DESCRIPTION:
LOCATION:
SUMMARY:Graduation
END:VEVENT
BEGIN:VEVENT
DTSTAMP:20260425T172146Z
UID:e9699153-6671-4eb9-9d01-111aa2cea231
DTSTART;VALUE=DATE:20260610
DTEND;VALUE=DATE:20260611
DESCRIPTION:
LOCATION:
SUMMARY:Last Day of School
END:VEVENT
BEGIN:VEVENT
DTSTAMP:20260425T172146Z
UID:2a3c66bf-a1cb-454f-bd79-5a5ba84032ce
DTSTART;VALUE=DATE:20260726
DTEND;VALUE=DATE:20260802
DESCRIPTION:
LOCATION:
SUMMARY:Athletic Moratorium
END:VEVENT
BEGIN:VEVENT
DTSTAMP:20260425T172146Z
UID:d101a745-bee0-4925-ace4-1ca9663dc8b8
DTSTART:20260812T160000
DTEND:20260812T190000
DESCRIPTION:
LOCATION:
SUMMARY:Registration
END:VEVENT
BEGIN:VEVENT
DTSTAMP:20260425T172146Z
UID:a28d3c2a-57e1-472a-be2a-94c9afdb177e
DTSTART:20260813T160000
DTEND:20260813T190000
DESCRIPTION:
LOCATION:
SUMMARY:Registration
END:VEVENT
BEGIN:VEVENT
DTSTAMP:20260425T172146Z
UID:1fa69a81-5a12-4b56-b607-0bc95d5b167c
DTSTART:20260825T090000
DTEND:20260825T150000
DESCRIPTION:
LOCATION:
SUMMARY:Link Crew Training
END:VEVENT
BEGIN:VEVENT
DTSTAMP:20260425T172146Z
UID:40243638-7dbf-47bf-98e7-b0fdf73c43c5
DTSTART:20260828T130000
DTEND:20260828T180000
DESCRIPTION:
LOCATION:
SUMMARY:Football Jamboree @ Junction City
END:VEVENT
BEGIN:VEVENT
DTSTAMP:20260425T172146Z
UID:0c6efda8-d827-49a3-922e-9b9167974f19
DTSTART:20260902T180000
DTEND:20260902T193000
DESCRIPTION:
LOCATION:
SUMMARY:Open House
END:VEVENT
BEGIN:VEVENT
DTSTAMP:20260425T172146Z
UID:e6db7a09-d6af-46b1-a32d-4d6abbf08f8d
DTSTART:20260904T190000
DTEND:20260904T200000
DESCRIPTION:
LOCATION:
SUMMARY:Football @ Taft
END:VEVENT
BEGIN:VEVENT
DTSTAMP:20260425T172146Z
UID:90e74428-8a12-4ae4-b878-3a1a65dad2bf
DTSTART:20260911T190000
DTEND:20260911T200000
DESCRIPTION:SENIOR NIGHT TBA
LOCATION:
SUMMARY:Football vs. Siuslaw
END:VEVENT
BEGIN:VEVENT
DTSTAMP:20260425T172146Z
UID:dcc78c1d-677c-474a-bb21-9aec41644914
DTSTART:20260918T190000
DTEND:20260918T200000
DESCRIPTION:Growing up Cub TBA
LOCATION:
SUMMARY:Football vs. Kennedy
END:VEVENT
BEGIN:VEVENT
DTSTAMP:20260425T172146Z
UID:168d8d32-7e7d-4d1d-af0b-e8e48f5a382d
DTSTART:20260925T190000
DTEND:20260925T200000
DESCRIPTION:
LOCATION:
SUMMARY:Football vs. Gervais
END:VEVENT
BEGIN:VEVENT
DTSTAMP:20260425T172146Z
UID:7754fa31-4f3f-4e50-95c2-8485283ee8b8
DTSTART:20261002T190000
DTEND:20261002T200000
DESCRIPTION:
LOCATION:
SUMMARY:Football @ Blanchet
END:VEVENT
BEGIN:VEVENT
DTSTAMP:20260425T172146Z
UID:eae11120-0e58-4684-a654-3581ccf1e37e
DTSTART:20261009T190000
DTEND:20261009T200000
DESCRIPTION:
LOCATION:
SUMMARY:Football @ Salem Academy
END:VEVENT
BEGIN:VEVENT
DTSTAMP:20260425T172146Z
UID:d637609a-47b9-4821-82a0-9bb47899946d
DTSTART:20261016T190000
DTEND:20261016T200000
DESCRIPTION:
LOCATION:
SUMMARY:Football vs. Scio
END:VEVENT
BEGIN:VEVENT
DTSTAMP:20260425T172146Z
UID:6a67387f-2ce6-4c49-b114-ecc72b4ce7f0
DTSTART:20261023T190000
DTEND:20261023T200000
DESCRIPTION:
LOCATION:
SUMMARY:Football @ Harrisburg
END:VEVENT
BEGIN:VEVENT
DTSTAMP:20260425T172146Z
UID:a0946144-af59-4eca-a3b0-dbbc2fac6387
DTSTART:20261120T170000
DTEND:20261120T200000
DESCRIPTION:
LOCATION:
SUMMARY:Booster Fall Banquet
END:VEVENT
END:VCALENDAR
