BEGIN:VCALENDAR
VERSION:2.0
PRODID:icalendar-ruby
CALSCALE:GREGORIAN
BEGIN:VTIMEZONE
TZID:America/Los_Angeles
BEGIN:DAYLIGHT
DTSTART:20260308T030000
TZOFFSETFROM:-0800
TZOFFSETTO:-0700
RRULE:FREQ=YEARLY;BYDAY=2SU;BYMONTH=3
TZNAME:PDT
END:DAYLIGHT
BEGIN:STANDARD
DTSTART:20261101T010000
TZOFFSETFROM:-0700
TZOFFSETTO:-0800
RRULE:FREQ=YEARLY;BYDAY=1SU;BYMONTH=11
TZNAME:PST
END:STANDARD
END:VTIMEZONE
BEGIN:VEVENT
DTSTAMP:20260425T121506Z
UID:445c04ca-1a7d-400d-a272-d9a0200e800e
DTSTART:20260425T110000
DTEND:20260425T160000
DESCRIPTION:
LOCATION:
SUMMARY:NYSOC Rehearsals
END:VEVENT
BEGIN:VEVENT
DTSTAMP:20260425T121506Z
UID:9fd50665-8fdf-4204-9448-f695f39fd625
DTSTART;VALUE=DATE:20260427
DTEND;VALUE=DATE:20260428
DESCRIPTION:
LOCATION:
SUMMARY:LCSD Professional Development (No School)
END:VEVENT
BEGIN:VEVENT
DTSTAMP:20260425T121506Z
UID:bca4518a-4a46-4156-a57a-2dbce7335f68
DTSTART;VALUE=DATE:20260427
DTEND;VALUE=DATE:20260428
DESCRIPTION:
LOCATION:
SUMMARY:LCSD Professional Development (No School)
END:VEVENT
BEGIN:VEVENT
DTSTAMP:20260425T121506Z
UID:460fb757-989c-436a-afa8-a2cba9d0173e
DTSTART;VALUE=DATE:20260427
DTEND;VALUE=DATE:20260428
DESCRIPTION:
LOCATION:
SUMMARY:No School PD Day
END:VEVENT
BEGIN:VEVENT
DTSTAMP:20260425T121506Z
UID:dbec3328-e24f-4587-8eab-bad9480bea1d
DTSTART;VALUE=DATE:20260428
DTEND;VALUE=DATE:20260429
DESCRIPTION:
LOCATION:
SUMMARY:Band Festival - PAC
END:VEVENT
BEGIN:VEVENT
DTSTAMP:20260425T121506Z
UID:75e7ac45-4017-4d42-aa51-eb5e95b5711a
DTSTART:20260429T083000
DTEND:20260429T210000
DESCRIPTION:
LOCATION:
SUMMARY:AVID-OSU Field Trip
END:VEVENT
BEGIN:VEVENT
DTSTAMP:20260425T121506Z
UID:7eb192ee-e338-45a8-9093-add1b050ccaf
DTSTART:20260429T090000
DTEND:20260429T110000
DESCRIPTION:Newport Aquatic Center
LOCATION:
SUMMARY:Future Bound - Swim Lesson
END:VEVENT
BEGIN:VEVENT
DTSTAMP:20260425T121506Z
UID:a33e86c2-5de8-43c4-9dca-7119617861d4
DTSTART:20260430T120000
DTEND:20260430T150000
DESCRIPTION:
LOCATION:
SUMMARY:Band Walking Field Trip
END:VEVENT
BEGIN:VEVENT
DTSTAMP:20260425T121506Z
UID:af7e59ec-fab9-4c99-9add-a975a15a3930
DTSTART;VALUE=DATE:20260501
DTEND;VALUE=DATE:20260502
DESCRIPTION:
LOCATION:
SUMMARY:Principal Appreciation Day
END:VEVENT
BEGIN:VEVENT
DTSTAMP:20260425T121506Z
UID:2ad36519-b813-40c1-b305-66c4ea8b32f2
DTSTART;VALUE=DATE:20260501
DTEND;VALUE=DATE:20260502
DESCRIPTION:
LOCATION:
SUMMARY:Type 20 Reserved- Mendoza
END:VEVENT
BEGIN:VEVENT
DTSTAMP:20260425T121506Z
UID:333e327c-8090-44b6-b512-3d6e561134b0
DTSTART:20260506T090000
DTEND:20260506T110000
DESCRIPTION:Newport Aquatic Center
LOCATION:
SUMMARY:Future Bound - Swim Lesson
END:VEVENT
BEGIN:VEVENT
DTSTAMP:20260425T121506Z
UID:a8811137-5a81-4bfe-a374-5ada126d3fd2
DTSTART;VALUE=DATE:20260508
DTEND;VALUE=DATE:20260509
DESCRIPTION:
LOCATION:
SUMMARY:Assembly Schedule - Club Catch Up
END:VEVENT
BEGIN:VEVENT
DTSTAMP:20260425T121506Z
UID:a63d5fb3-faf7-4978-86b6-62e96b053bd3
DTSTART;VALUE=DATE:20260508
DTEND;VALUE=DATE:20260509
DESCRIPTION:
LOCATION:
SUMMARY:Assembly Schedule - Club Catch Up
END:VEVENT
BEGIN:VEVENT
DTSTAMP:20260425T121506Z
UID:cb77203d-f34c-4dcf-89ed-460b5bc9962b
DTSTART;VALUE=DATE:20260508
DTEND;VALUE=DATE:20260509
DESCRIPTION:
LOCATION:
SUMMARY:Assembly Schedule - Club Catch Up
END:VEVENT
BEGIN:VEVENT
DTSTAMP:20260425T121506Z
UID:a916bb51-cf6c-4a47-b826-f52dd009d96b
DTSTART:20260511T180000
DTEND:20260511T200000
DESCRIPTION:
LOCATION:
SUMMARY:ELD Family Night
END:VEVENT
BEGIN:VEVENT
DTSTAMP:20260425T121506Z
UID:bf79c966-7ff8-4e7c-8f86-29cd76b9c7b8
DTSTART:20260513T090000
DTEND:20260513T110000
DESCRIPTION:Newport Aquatic Center
LOCATION:
SUMMARY:Future Bound - Swim Lesson
END:VEVENT
BEGIN:VEVENT
DTSTAMP:20260425T121506Z
UID:b50e7f12-ba6e-4d7b-8c55-b9b5b7749b17
DTSTART:20260514T083000
DTEND:20260514T143000
DESCRIPTION:
LOCATION:
SUMMARY:Green Team Field Trip- Siletz Tribal Farm
END:VEVENT
BEGIN:VEVENT
DTSTAMP:20260425T121506Z
UID:ee5334ba-475f-41a9-9874-a5b3fa07ca7d
DTSTART:20260514T170000
DTEND:20260514T190000
DESCRIPTION:
LOCATION:
SUMMARY:Parent Night: Incoming 5th Grade Families
END:VEVENT
BEGIN:VEVENT
DTSTAMP:20260425T121506Z
UID:2d689c33-df66-4b25-946a-4bea60fa5139
DTSTART:20260519T083000
DTEND:20260519T113000
DESCRIPTION:
LOCATION:
SUMMARY:Future Bound Walking Field Trip to YV
END:VEVENT
BEGIN:VEVENT
DTSTAMP:20260425T121506Z
UID:1c9814bc-a5a8-44d8-a177-42c55a63308f
DTSTART:20260520T090000
DTEND:20260520T110000
DESCRIPTION:Newport Aquatic Center
LOCATION:
SUMMARY:Future Bound - Swim Lesson
END:VEVENT
BEGIN:VEVENT
DTSTAMP:20260425T121506Z
UID:20bfcfb0-11b9-4321-912c-60d40e7a76bb
DTSTART:20260521T080000
DTEND:20260521T160000
DESCRIPTION:
LOCATION:
SUMMARY:SITKA VISIT
END:VEVENT
BEGIN:VEVENT
DTSTAMP:20260425T121506Z
UID:d3c606b5-e508-4804-9575-ab802b585852
DTSTART;VALUE=DATE:20260525
DTEND;VALUE=DATE:20260526
DESCRIPTION:
LOCATION:
SUMMARY:Memorial Day Holiday (No School)
END:VEVENT
BEGIN:VEVENT
DTSTAMP:20260425T121506Z
UID:8ef67790-c784-4f35-80a2-869012364ed2
DTSTART;VALUE=DATE:20260525
DTEND;VALUE=DATE:20260526
DESCRIPTION:
LOCATION:
SUMMARY:Memorial Day Holiday (No School)
END:VEVENT
BEGIN:VEVENT
DTSTAMP:20260425T121506Z
UID:4a87dd69-f4f5-480e-b6bb-53081b260b06
DTSTART;VALUE=DATE:20260525
DTEND;VALUE=DATE:20260526
DESCRIPTION:
LOCATION:
SUMMARY:No School
END:VEVENT
BEGIN:VEVENT
DTSTAMP:20260425T121506Z
UID:6667913c-ac2f-49bf-bf94-7a78a1430c64
DTSTART:20260526T080000
DTEND:20260526T160000
DESCRIPTION:
LOCATION:
SUMMARY:SITKA VISIT
END:VEVENT
BEGIN:VEVENT
DTSTAMP:20260425T121506Z
UID:133795f7-7869-4dcb-9c33-8acb4856f7e1
DTSTART;VALUE=DATE:20260529
DTEND;VALUE=DATE:20260530
DESCRIPTION:
LOCATION:
SUMMARY:Assembly Schedule - Club Catch Up
END:VEVENT
BEGIN:VEVENT
DTSTAMP:20260425T121506Z
UID:4de5e9de-bc57-41fb-bf67-b424d97e650d
DTSTART;VALUE=DATE:20260529
DTEND;VALUE=DATE:20260530
DESCRIPTION:
LOCATION:
SUMMARY:Assembly Schedule - Club Catch Up
END:VEVENT
BEGIN:VEVENT
DTSTAMP:20260425T121506Z
UID:643086e1-0144-4f36-a851-b3762eb566c3
DTSTART;VALUE=DATE:20260529
DTEND;VALUE=DATE:20260530
DESCRIPTION:
LOCATION:
SUMMARY:Assembly Schedule - Club Catch Up
END:VEVENT
BEGIN:VEVENT
DTSTAMP:20260425T121506Z
UID:20db5203-93cd-45de-9184-86daf8ae2fde
DTSTART:20260529T103000
DTEND:20260529T123000
DESCRIPTION:
LOCATION:
SUMMARY:Indian Ed - Run to the Rogue
END:VEVENT
BEGIN:VEVENT
DTSTAMP:20260425T121506Z
UID:e132ef2c-9601-423d-9982-810f949e58c7
DTSTART:20260529T173000
DTEND:20260529T203000
DESCRIPTION:
LOCATION:
SUMMARY:Picnic & Pops Concert
END:VEVENT
BEGIN:VEVENT
DTSTAMP:20260425T121506Z
UID:b817888b-f0a1-468e-95d4-d613fb7cbeb1
DTSTART:20260529T173000
DTEND:20260529T203000
DESCRIPTION:
LOCATION:
SUMMARY:Picnic & Pops Concert
END:VEVENT
BEGIN:VEVENT
DTSTAMP:20260425T121506Z
UID:aeeca7ca-7878-4730-bee5-98d4a4d48394
DTSTART;VALUE=DATE:20260602
DTEND;VALUE=DATE:20260603
DESCRIPTION:
LOCATION:
SUMMARY:Outdoor School! 
END:VEVENT
BEGIN:VEVENT
DTSTAMP:20260425T121506Z
UID:04fde003-7f46-4ac3-a030-4d966b76eb4b
DTSTART:20260602T080000
DTEND:20260602T150000
DESCRIPTION:
LOCATION:
SUMMARY:Indian Ed to OSU
END:VEVENT
BEGIN:VEVENT
DTSTAMP:20260425T121506Z
UID:83e1b070-2439-4a57-b044-938a03685e41
DTSTART:20260602T083000
DTEND:20260602T143000
DESCRIPTION:
LOCATION:
SUMMARY:Future Band Field Trip - Challenge Course!
END:VEVENT
BEGIN:VEVENT
DTSTAMP:20260425T121506Z
UID:7aedfe57-e3ff-4a96-b8c1-16c01cd3240f
DTSTART;VALUE=DATE:20260603
DTEND;VALUE=DATE:20260604
DESCRIPTION:
LOCATION:
SUMMARY:Outdoor School! 
END:VEVENT
BEGIN:VEVENT
DTSTAMP:20260425T121506Z
UID:54088d5f-72e6-45a2-bdab-41aa84191318
DTSTART:20260603T094500
DTEND:20260603T100000
DESCRIPTION:
LOCATION:
SUMMARY:NHS Grad Walk! 
END:VEVENT
BEGIN:VEVENT
DTSTAMP:20260425T121506Z
UID:a7a7ec49-7016-4a15-9f33-73ed9a44a2e8
DTSTART;VALUE=DATE:20260604
DTEND;VALUE=DATE:20260605
DESCRIPTION:
LOCATION:
SUMMARY:Outdoor School! 
END:VEVENT
BEGIN:VEVENT
DTSTAMP:20260425T121506Z
UID:303b6bb3-cdf9-424e-a1d3-3092e2b20e19
DTSTART;VALUE=DATE:20260605
DTEND;VALUE=DATE:20260606
DESCRIPTION:
LOCATION:
SUMMARY:Outdoor School! 
END:VEVENT
BEGIN:VEVENT
DTSTAMP:20260425T121506Z
UID:d9416d78-a9e6-4353-9620-ebd86058e091
DTSTART:20260605T083000
DTEND:20260605T143000
DESCRIPTION:
LOCATION:
SUMMARY:Yakona Field Trip - Turnbull
END:VEVENT
BEGIN:VEVENT
DTSTAMP:20260425T121506Z
UID:918f777a-6d2f-4cad-90e5-e8c00f54b7af
DTSTART:20260608T160000
DTEND:20260608T190000
DESCRIPTION:
LOCATION:Yaquina View Elementary School\, 351 SE Harney St\, Newport\, OR 9
 7365\, USA
SUMMARY:Registration (in person) 
END:VEVENT
BEGIN:VEVENT
DTSTAMP:20260425T121506Z
UID:70f18409-f476-4bf7-aa8f-b09417743da3
DTSTART;VALUE=DATE:20260610
DTEND;VALUE=DATE:20260611
DESCRIPTION:
LOCATION:
SUMMARY:All student's last day - End of 2nd Semester
END:VEVENT
BEGIN:VEVENT
DTSTAMP:20260425T121506Z
UID:b4272faf-27ff-4974-84eb-63479a47e67e
DTSTART;VALUE=DATE:20260610
DTEND;VALUE=DATE:20260611
DESCRIPTION:
LOCATION:
SUMMARY:All student's last day - End of 2nd Semester
END:VEVENT
BEGIN:VEVENT
DTSTAMP:20260425T121506Z
UID:184cd3eb-8c0f-4e05-b8c8-0794988566ca
DTSTART;VALUE=DATE:20260611
DTEND;VALUE=DATE:20260612
DESCRIPTION:
LOCATION:
SUMMARY:Teacher's Last Day/Records Day
END:VEVENT
BEGIN:VEVENT
DTSTAMP:20260425T121506Z
UID:081d9f83-bfef-4322-b6f2-e85baaf719b4
DTSTART;VALUE=DATE:20260611
DTEND;VALUE=DATE:20260612
DESCRIPTION:
LOCATION:
SUMMARY:Teacher's Last Day/Records Day
END:VEVENT
BEGIN:VEVENT
DTSTAMP:20260425T121506Z
UID:02c47775-7bdf-43b7-97e8-2c896eaded65
DTSTART;VALUE=DATE:20260612
DTEND;VALUE=DATE:20260620
DESCRIPTION:
LOCATION:
SUMMARY:GYM CLOSED for Refinishing
END:VEVENT
BEGIN:VEVENT
DTSTAMP:20260425T121506Z
UID:5a0fc35a-d824-42d4-a8d3-eadcc3e1db48
DTSTART;VALUE=DATE:20260612
DTEND;VALUE=DATE:20260620
DESCRIPTION:
LOCATION:
SUMMARY:GYM CLOSED for Refinishing
END:VEVENT
BEGIN:VEVENT
DTSTAMP:20260425T121506Z
UID:2806f6ca-87bf-4e0a-87cf-23e47be69f13
DTSTART:20260812T160000
DTEND:20260812T190000
DESCRIPTION:
LOCATION:
SUMMARY:Registration (in person)
END:VEVENT
BEGIN:VEVENT
DTSTAMP:20260425T121506Z
UID:d514024b-d934-425d-9630-3cd5d8e83a12
DTSTART:20260813T160000
DTEND:20260813T190000
DESCRIPTION:
LOCATION:
SUMMARY:Registration (in person)
END:VEVENT
BEGIN:VEVENT
DTSTAMP:20260425T121506Z
UID:4938796f-e8f7-4724-9e8e-28b3a6921fa0
DTSTART:20260902T170000
DTEND:20260902T183000
DESCRIPTION:
LOCATION:
SUMMARY:Back to School Night! 
END:VEVENT
BEGIN:VEVENT
DTSTAMP:20260425T121506Z
UID:29754a61-c351-4b3b-b87c-061f44a4144f
DTSTART;VALUE=DATE:20261016
DTEND;VALUE=DATE:20261017
DESCRIPTION:
LOCATION:
SUMMARY:Boss' Day
END:VEVENT
END:VCALENDAR
