BEGIN:VCALENDAR
VERSION:2.0
PRODID:icalendar-ruby
CALSCALE:GREGORIAN
BEGIN:VTIMEZONE
TZID:America/New_York
BEGIN:DAYLIGHT
DTSTART:20260308T030000
TZOFFSETFROM:-0500
TZOFFSETTO:-0400
RRULE:FREQ=YEARLY;BYDAY=2SU;BYMONTH=3
TZNAME:EDT
END:DAYLIGHT
BEGIN:STANDARD
DTSTART:20261101T010000
TZOFFSETFROM:-0400
TZOFFSETTO:-0500
RRULE:FREQ=YEARLY;BYDAY=1SU;BYMONTH=11
TZNAME:EST
END:STANDARD
END:VTIMEZONE
BEGIN:VEVENT
DTSTAMP:20260423T070252Z
UID:1aca4779-ad64-4aa2-9bb5-07f286afb0a6
DTSTART:20260424T190000
DTEND:20260424T210000
DESCRIPTION:
LOCATION:
SUMMARY:Trashion Fashion Show
END:VEVENT
BEGIN:VEVENT
DTSTAMP:20260423T070252Z
UID:46f6d1bf-618b-46f9-9789-3a4db7fa8615
DTSTART:20260430T193000
DTEND:20260430T210000
DESCRIPTION:
LOCATION:WSH auditorium
SUMMARY:WSH Spring Choir Concert
END:VEVENT
BEGIN:VEVENT
DTSTAMP:20260423T070252Z
UID:59dbddac-b966-463b-8033-9872df5a7111
DTSTART;VALUE=DATE:20260504
DTEND;VALUE=DATE:20260505
DESCRIPTION:
LOCATION:
SUMMARY:AM- AP Biology
END:VEVENT
BEGIN:VEVENT
DTSTAMP:20260423T070252Z
UID:4a4d9653-16af-4c3d-befa-d65afd0087e1
DTSTART;VALUE=DATE:20260504
DTEND;VALUE=DATE:20260505
DESCRIPTION:
LOCATION:
SUMMARY:PM- AP European History\, Microeconomics
END:VEVENT
BEGIN:VEVENT
DTSTAMP:20260423T070252Z
UID:325a30ec-8451-473d-bb37-d7fe6cbdfeb7
DTSTART:20260504T180000
DTEND:20260504T190000
DESCRIPTION:
LOCATION:
SUMMARY: NHS Induction Ceremony (tentative)
END:VEVENT
BEGIN:VEVENT
DTSTAMP:20260423T070252Z
UID:bee34af3-4fc8-4410-9ec4-4698ce35dcfd
DTSTART;VALUE=DATE:20260505
DTEND;VALUE=DATE:20260506
DESCRIPTION:
LOCATION:
SUMMARY:AM- AP Chemistry\, Human Geography
END:VEVENT
BEGIN:VEVENT
DTSTAMP:20260423T070252Z
UID:f18f7e9d-13bb-41f4-914b-4dcefed8a7d6
DTSTART;VALUE=DATE:20260505
DTEND;VALUE=DATE:20260506
DESCRIPTION:
LOCATION:
SUMMARY:PM- AP US Gov
END:VEVENT
BEGIN:VEVENT
DTSTAMP:20260423T070252Z
UID:6762ce41-23c4-46ab-938f-8f4a355ca6dd
DTSTART;VALUE=DATE:20260506
DTEND;VALUE=DATE:20260507
DESCRIPTION:
LOCATION:
SUMMARY:AM AP- English Lit and Composition
END:VEVENT
BEGIN:VEVENT
DTSTAMP:20260423T070252Z
UID:6db3c12c-85d4-4fb7-8414-632f31f57c3e
DTSTART;VALUE=DATE:20260506
DTEND;VALUE=DATE:20260507
DESCRIPTION:
LOCATION:
SUMMARY:PM- AP Physics 1
END:VEVENT
BEGIN:VEVENT
DTSTAMP:20260423T070252Z
UID:74054060-e339-43ce-be01-bab2a1af2c78
DTSTART;VALUE=DATE:20260507
DTEND;VALUE=DATE:20260508
DESCRIPTION:
LOCATION:
SUMMARY:AM- AP Physics 2\, World History
END:VEVENT
BEGIN:VEVENT
DTSTAMP:20260423T070252Z
UID:85b4af96-acc1-4c66-b5dd-40ca51fc63e4
DTSTART;VALUE=DATE:20260507
DTEND;VALUE=DATE:20260508
DESCRIPTION:
LOCATION:
SUMMARY:PM- AP Statistics
END:VEVENT
BEGIN:VEVENT
DTSTAMP:20260423T070252Z
UID:b32d6d21-2a00-4d03-8c07-d54fef12860d
DTSTART;VALUE=DATE:20260508
DTEND;VALUE=DATE:20260509
DESCRIPTION:
LOCATION:
SUMMARY:AM- AP United States History
END:VEVENT
BEGIN:VEVENT
DTSTAMP:20260423T070252Z
UID:9e1e65eb-3ec0-4374-829c-f2d70078ba48
DTSTART;VALUE=DATE:20260508
DTEND;VALUE=DATE:20260509
DESCRIPTION:
LOCATION:
SUMMARY:PM- AP Chinese Lang\,  Macroeconomics
END:VEVENT
BEGIN:VEVENT
DTSTAMP:20260423T070252Z
UID:a90b6e60-8efe-476c-b8b7-8dd043da1c2c
DTSTART:20260508T190000
DTEND:20260508T210000
DESCRIPTION:
LOCATION:
SUMMARY:Student led Theatre 2 Production
END:VEVENT
BEGIN:VEVENT
DTSTAMP:20260423T070252Z
UID:b9bae9f0-084e-46af-870c-af1538b08c58
DTSTART:20260509T190000
DTEND:20260509T210000
DESCRIPTION:
LOCATION:
SUMMARY:Student led Theatre 2 Production
END:VEVENT
BEGIN:VEVENT
DTSTAMP:20260423T070252Z
UID:676295c9-c016-498a-b749-c20299487ee6
DTSTART:20260509T193000
DTEND:20260509T223000
DESCRIPTION:
LOCATION:
SUMMARY:Class of 2026 PROM (Grand Traverse Resort)
END:VEVENT
BEGIN:VEVENT
DTSTAMP:20260423T070252Z
UID:fe70e372-1d87-4f3d-b0cc-baf87eb2c3ce
DTSTART;VALUE=DATE:20260511
DTEND;VALUE=DATE:20260512
DESCRIPTION:
LOCATION:
SUMMARY:AM- AP Calc AB  Calc BC
END:VEVENT
BEGIN:VEVENT
DTSTAMP:20260423T070252Z
UID:a987e833-de7f-4bf3-bc8a-4e6378a6bbf5
DTSTART;VALUE=DATE:20260511
DTEND;VALUE=DATE:20260512
DESCRIPTION:
LOCATION:
SUMMARY:PM- AP Music Theory\, Seminar
END:VEVENT
BEGIN:VEVENT
DTSTAMP:20260423T070252Z
UID:64251539-be1c-4fc0-8deb-6fae6bfc9849
DTSTART:20260511T180000
DTEND:20260511T210000
DESCRIPTION:
LOCATION:Off site location to be determined
SUMMARY:WSH Band: Spring Swing
END:VEVENT
BEGIN:VEVENT
DTSTAMP:20260423T070252Z
UID:1033e211-37ea-4e6c-949b-d58aee28c510
DTSTART;VALUE=DATE:20260512
DTEND;VALUE=DATE:20260513
DESCRIPTION:
LOCATION:
SUMMARY:AM- AP French\, Precalc
END:VEVENT
BEGIN:VEVENT
DTSTAMP:20260423T070252Z
UID:6b98d7e8-e148-4845-b62d-6ef46b949052
DTSTART;VALUE=DATE:20260512
DTEND;VALUE=DATE:20260513
DESCRIPTION:
LOCATION:
SUMMARY:No Homework Hub
END:VEVENT
BEGIN:VEVENT
DTSTAMP:20260423T070252Z
UID:47510a18-da15-4706-b3d5-7a33ab35e2de
DTSTART;VALUE=DATE:20260512
DTEND;VALUE=DATE:20260513
DESCRIPTION:
LOCATION:
SUMMARY:PM- AP Japanese Lang\, Psychology
END:VEVENT
BEGIN:VEVENT
DTSTAMP:20260423T070252Z
UID:a1b8234c-691d-40c2-a85a-dedad794ebea
DTSTART:20260512T151500
DTEND:20260512T161500
DESCRIPTION:
LOCATION:
SUMMARY:No Homework Hub
END:VEVENT
BEGIN:VEVENT
DTSTAMP:20260423T070252Z
UID:f558231b-f3a1-44e3-8a3d-d6d12a482953
DTSTART;VALUE=DATE:20260513
DTEND;VALUE=DATE:20260514
DESCRIPTION:
LOCATION:
SUMMARY:AM- AP English Lang/Comp.  German Lang
END:VEVENT
BEGIN:VEVENT
DTSTAMP:20260423T070252Z
UID:947670c7-b3ca-4701-91cf-c97c80748de8
DTSTART;VALUE=DATE:20260513
DTEND;VALUE=DATE:20260514
DESCRIPTION:
LOCATION:
SUMMARY:PM- AP Physics C\, Spanish Lit 
END:VEVENT
BEGIN:VEVENT
DTSTAMP:20260423T070252Z
UID:23504c8b-b90b-4785-af1c-e62099154339
DTSTART:20260513T190000
DTEND:20260513T210000
DESCRIPTION:
LOCATION:Traverse City West Senior High School\, 5376 N Long Lake Rd
SUMMARY:WSH Band: Spring Concert (WE / SB / CB)
END:VEVENT
BEGIN:VEVENT
DTSTAMP:20260423T070252Z
UID:52b2f11f-71cb-4a90-b992-2e78e51101bd
DTSTART;VALUE=DATE:20260514
DTEND;VALUE=DATE:20260515
DESCRIPTION:
LOCATION:
SUMMARY:AM- AP Art History\, Spanish Lang
END:VEVENT
BEGIN:VEVENT
DTSTAMP:20260423T070252Z
UID:83a08ff3-df0d-49e0-a004-261fe9ac4b3f
DTSTART;VALUE=DATE:20260514
DTEND;VALUE=DATE:20260515
DESCRIPTION:
LOCATION:
SUMMARY:PM- AP Comp Sci\, Physics C
END:VEVENT
BEGIN:VEVENT
DTSTAMP:20260423T070252Z
UID:8dacff3b-7ce2-4324-b149-2306cfbcc7a0
DTSTART:20260514T190000
DTEND:20260514T200000
DESCRIPTION:Spring Concert for WSH Philharmonic\, Symphony\, and Concert Or
 chestras\nAuditorium\, Orchestra Room\, Band Room\, Choir Room\n\nStudent 
 call-time is 5:30 PM.
LOCATION:Traverse City West Senior High School\, 5376 N Long Lake Rd AUDITO
 RIUM
SUMMARY:WSH Orchestra Spring Concert and Awards Night
END:VEVENT
BEGIN:VEVENT
DTSTAMP:20260423T070252Z
UID:b7a992af-2dbd-467a-9300-59c66eab5055
DTSTART;VALUE=DATE:20260515
DTEND;VALUE=DATE:20260516
DESCRIPTION:
LOCATION:
SUMMARY:AM- AP Environmental Science
END:VEVENT
BEGIN:VEVENT
DTSTAMP:20260423T070252Z
UID:6b63375c-ba24-4f9c-b6d2-9bbc01a8ef2e
DTSTART;VALUE=DATE:20260515
DTEND;VALUE=DATE:20260516
DESCRIPTION:
LOCATION:
SUMMARY:Beautification Day 2026
END:VEVENT
BEGIN:VEVENT
DTSTAMP:20260423T070252Z
UID:84a0b561-bd58-4ddb-b190-f92b76f1fdeb
DTSTART;VALUE=DATE:20260515
DTEND;VALUE=DATE:20260516
DESCRIPTION:
LOCATION:
SUMMARY:PM- AP Computer Science A
END:VEVENT
BEGIN:VEVENT
DTSTAMP:20260423T070252Z
UID:265ecd12-05ca-4a0a-919b-d6ce71f0a09e
DTSTART;VALUE=DATE:20260519
DTEND;VALUE=DATE:20260520
DESCRIPTION:
LOCATION:
SUMMARY:No Homework Hub
END:VEVENT
BEGIN:VEVENT
DTSTAMP:20260423T070252Z
UID:94d4c6c9-d4e6-4cd6-993d-2e71fbb293be
DTSTART:20260519T151500
DTEND:20260519T161500
DESCRIPTION:
LOCATION:
SUMMARY:No Homework Hub
END:VEVENT
BEGIN:VEVENT
DTSTAMP:20260423T070252Z
UID:73896fff-74aa-41de-bc11-eae8581be286
DTSTART:20260519T180000
DTEND:20260519T200000
DESCRIPTION:
LOCATION:
SUMMARY: WSH Class of 2026 Honors Convocation
END:VEVENT
BEGIN:VEVENT
DTSTAMP:20260423T070252Z
UID:e5517b53-e8e9-4abc-a1f3-e28ded17f2b5
DTSTART;VALUE=DATE:20260520
DTEND;VALUE=DATE:20260521
DESCRIPTION:
LOCATION:
SUMMARY: Senior Yearbook Distribution (LMC)
END:VEVENT
BEGIN:VEVENT
DTSTAMP:20260423T070252Z
UID:0517114f-c313-431f-9d0f-a1684c5ca9c0
DTSTART:20260521T190000
DTEND:20260521T203000
DESCRIPTION:Philharmonic Orchestra performs.
LOCATION:Traverse City Central High School\, 1150 Milliken Dr\, GYM
SUMMARY:TCAPS Music Boosters Benefit Concert
END:VEVENT
BEGIN:VEVENT
DTSTAMP:20260423T070252Z
UID:68a9c7c0-dd66-413c-8cf6-6508e3b0e4a4
DTSTART;VALUE=DATE:20260522
DTEND;VALUE=DATE:20260523
DESCRIPTION:
LOCATION:
SUMMARY:Senior's Last Day
END:VEVENT
BEGIN:VEVENT
DTSTAMP:20260423T070252Z
UID:84610ee7-4409-484e-b17c-334733a98398
DTSTART;VALUE=DATE:20260525
DTEND;VALUE=DATE:20260526
DESCRIPTION:
LOCATION:
SUMMARY:Memorial Day - No School
END:VEVENT
BEGIN:VEVENT
DTSTAMP:20260423T070252Z
UID:027b2a10-1ca1-46a9-b4cb-117263d8ba57
DTSTART:20260527T090000
DTEND:20260527T103000
DESCRIPTION:
LOCATION:
SUMMARY: WSH Class of 2026 Graduation Rehearsal
END:VEVENT
BEGIN:VEVENT
DTSTAMP:20260423T070252Z
UID:5bd69f38-3d3a-417b-abf8-d7fbe56f8997
DTSTART:20260527T193000
DTEND:20260527T213000
DESCRIPTION:
LOCATION:WSH Auditorium and Choir Room\, F-112
SUMMARY:WSH Choir - Cabaret #1
END:VEVENT
BEGIN:VEVENT
DTSTAMP:20260423T070252Z
UID:46970ca4-f6eb-4fbc-93c0-b5ef51222cde
DTSTART:20260528T193000
DTEND:20260528T213000
DESCRIPTION:
LOCATION:WSH Auditorium and Choir Room\, F-112
SUMMARY:WSH Choir - Cabaret #2
END:VEVENT
BEGIN:VEVENT
DTSTAMP:20260423T070252Z
UID:ad994769-9fb2-4db3-95dd-b6960a39548b
DTSTART:20260531T110000
DTEND:20260531T143000
DESCRIPTION:
LOCATION:Interlochen Center for the Arts\, 4000 J. Maddy Pkwy\, Interlochen
 \, MI 49643\, USA
SUMMARY:TC West Class of 2026 Graduation
END:VEVENT
BEGIN:VEVENT
DTSTAMP:20260423T070252Z
UID:6d062bb1-a002-4ace-ba87-01e623ceef58
DTSTART;VALUE=DATE:20260602
DTEND;VALUE=DATE:20260603
DESCRIPTION:
LOCATION:
SUMMARY:No Homework Hub
END:VEVENT
BEGIN:VEVENT
DTSTAMP:20260423T070252Z
UID:135fb95d-07d7-4007-8598-2dc92b4f2272
DTSTART:20260602T151500
DTEND:20260602T161500
DESCRIPTION:
LOCATION:
SUMMARY:No Homework Hub
END:VEVENT
BEGIN:VEVENT
DTSTAMP:20260423T070252Z
UID:f8b4e420-de72-4339-8d83-da7a5acf486c
DTSTART;VALUE=DATE:20260608
DTEND;VALUE=DATE:20260609
DESCRIPTION:
LOCATION:
SUMMARY:Exams 1\,2
END:VEVENT
BEGIN:VEVENT
DTSTAMP:20260423T070252Z
UID:59f161f0-4677-4dd0-9c45-4c6485514bbc
DTSTART;VALUE=DATE:20260609
DTEND;VALUE=DATE:20260610
DESCRIPTION:
LOCATION:
SUMMARY:Exams 3\,4
END:VEVENT
BEGIN:VEVENT
DTSTAMP:20260423T070252Z
UID:b9e7de2d-4087-499e-8d35-e74f89444508
DTSTART;VALUE=DATE:20260610
DTEND;VALUE=DATE:20260611
DESCRIPTION:
LOCATION:
SUMMARY:Exams 5\,6
END:VEVENT
BEGIN:VEVENT
DTSTAMP:20260423T070252Z
UID:31ae04a1-17e0-4c98-a896-eca98868d0a2
DTSTART;VALUE=DATE:20260610
DTEND;VALUE=DATE:20260611
DESCRIPTION:
LOCATION:
SUMMARY:Half Day - Last Day of School
END:VEVENT
BEGIN:VEVENT
DTSTAMP:20260423T070252Z
UID:13b69350-99c3-42e3-ae67-bdfdfdc630a3
DTSTART;VALUE=DATE:20260611
DTEND;VALUE=DATE:20260613
DESCRIPTION:
LOCATION:
SUMMARY:WSH Credit Recovery Bootcamp - LMC
END:VEVENT
END:VCALENDAR
