BEGIN:VCALENDAR
VERSION:2.0
PRODID:icalendar-ruby
CALSCALE:GREGORIAN
BEGIN:VTIMEZONE
TZID:America/Chicago
BEGIN:DAYLIGHT
DTSTART:20260308T030000
TZOFFSETFROM:-0600
TZOFFSETTO:-0500
RRULE:FREQ=YEARLY;BYDAY=2SU;BYMONTH=3
TZNAME:CDT
END:DAYLIGHT
BEGIN:STANDARD
DTSTART:20261101T010000
TZOFFSETFROM:-0500
TZOFFSETTO:-0600
RRULE:FREQ=YEARLY;BYDAY=1SU;BYMONTH=11
TZNAME:CST
END:STANDARD
END:VTIMEZONE
BEGIN:VEVENT
DTSTAMP:20260423T115101Z
UID:9afce081-bece-4822-b87a-27e6a3d3145a
DTSTART;VALUE=DATE:20260424
DTEND;VALUE=DATE:20260425
DESCRIPTION:
LOCATION:
SUMMARY:No school if not used\, Snow Day
END:VEVENT
BEGIN:VEVENT
DTSTAMP:20260423T115101Z
UID:40151ad3-817c-4503-ac63-f26f019a33d1
DTSTART:20260426T180000
DTEND:20260426T200000
DESCRIPTION:
LOCATION:Cafeteria
SUMMARY:Cashion Band Banquet
END:VEVENT
BEGIN:VEVENT
DTSTAMP:20260423T115101Z
UID:3a35ed87-3141-45e9-9fe1-0d7a99cc4809
DTSTART:20260429T100000
DTEND:20260429T110000
DESCRIPTION:
LOCATION:Big Gym 
SUMMARY:Decision Day Assembly 
END:VEVENT
BEGIN:VEVENT
DTSTAMP:20260423T115101Z
UID:0e74bf81-d2a3-42fa-afdb-01a8266cb969
DTSTART:20260429T120000
DTEND:20260429T123000
DESCRIPTION:
LOCATION:Big Gym 
SUMMARY:Signing Day 
END:VEVENT
BEGIN:VEVENT
DTSTAMP:20260423T115101Z
UID:dbe690ad-2bf1-4f7f-87d2-ff3796873b2e
DTSTART;VALUE=DATE:20260501
DTEND;VALUE=DATE:20260502
DESCRIPTION:
LOCATION:
SUMMARY:Peer Mentoring Field Trip 
END:VEVENT
BEGIN:VEVENT
DTSTAMP:20260423T115101Z
UID:3985e29b-677a-4356-9006-e5115b47114b
DTSTART:20260506T083000
DTEND:20260506T120000
DESCRIPTION:
LOCATION:
SUMMARY:AP Literature Test  
END:VEVENT
BEGIN:VEVENT
DTSTAMP:20260423T115101Z
UID:e8736041-3c28-4387-9030-c39d9a8cd6b6
DTSTART:20260507T123000
DTEND:20260507T150000
DESCRIPTION:
LOCATION:
SUMMARY:AP Statistics Test 
END:VEVENT
BEGIN:VEVENT
DTSTAMP:20260423T115101Z
UID:9a738294-57a9-4121-af87-b07f35643d4a
DTSTART:20260511T083000
DTEND:20260511T120000
DESCRIPTION:
LOCATION:
SUMMARY:AP Calculus Test 
END:VEVENT
BEGIN:VEVENT
DTSTAMP:20260423T115101Z
UID:4c006574-b18b-4d68-bcfc-f40b1526af61
DTSTART:20260511T180000
DTEND:20260511T190000
DESCRIPTION:Cafeteria\, Annex\, Big Gym
LOCATION:Cashion Public Schools\, OK\, USA
SUMMARY:Fine Arts Night  
END:VEVENT
BEGIN:VEVENT
DTSTAMP:20260423T115101Z
UID:169f7c87-d3c9-4d1e-a565-b8a17ae4cd9c
DTSTART:20260511T183000
DTEND:20260511T193000
DESCRIPTION:Big Gym
LOCATION:Cashion Public Schools\, OK\, USA
SUMMARY:Academic Team/BPA/NHS Recognition 
END:VEVENT
BEGIN:VEVENT
DTSTAMP:20260423T115101Z
UID:eb31c52c-5b3b-4f9a-8304-43e321376e08
DTSTART;VALUE=DATE:20260512
DTEND;VALUE=DATE:20260513
DESCRIPTION:
LOCATION:CAFETERIA & AUDITORIUM 
SUMMARY:FFA BANQUET 
END:VEVENT
BEGIN:VEVENT
DTSTAMP:20260423T115101Z
UID:01ffbc96-2fa2-4e92-9bad-de5a13e74233
DTSTART:20260512T090000
DTEND:20260512T110000
DESCRIPTION:
LOCATION:Big Gym 
SUMMARY:HS Awards Assembly 
END:VEVENT
BEGIN:VEVENT
DTSTAMP:20260423T115101Z
UID:e103afe7-21c5-4e5d-9a9c-c74fadfe008c
DTSTART:20260513T083000
DTEND:20260513T120000
DESCRIPTION:
LOCATION:
SUMMARY:AP Language Test 
END:VEVENT
BEGIN:VEVENT
DTSTAMP:20260423T115101Z
UID:7fab282f-347d-4fdd-ac64-d8641766a2b3
DTSTART:20260513T183000
DTEND:20260513T193000
DESCRIPTION:
LOCATION:First Baptist Church\, 18750 OK-74F\, Cashion\, OK 73016\, USA
SUMMARY:Baccalaureatte 
END:VEVENT
BEGIN:VEVENT
DTSTAMP:20260423T115101Z
UID:21d65e48-6722-49f8-8545-f180d704df08
DTSTART;VALUE=DATE:20260514
DTEND;VALUE=DATE:20260515
DESCRIPTION:
LOCATION:
SUMMARY:Last Day of School 
END:VEVENT
BEGIN:VEVENT
DTSTAMP:20260423T115101Z
UID:f1931a7b-824e-4ace-8763-90a43e176bed
DTSTART;VALUE=DATE:20260515
DTEND;VALUE=DATE:20260516
DESCRIPTION:
LOCATION:
SUMMARY:Graduation
END:VEVENT
BEGIN:VEVENT
DTSTAMP:20260423T115101Z
UID:9e239a5a-b07b-4077-a082-ee7cd28b7cf6
DTSTART:20260515T190000
DTEND:20260515T210000
DESCRIPTION:
LOCATION:Big Gym 
SUMMARY:HS Graduation 
END:VEVENT
BEGIN:VEVENT
DTSTAMP:20260423T115101Z
UID:0e420745-e238-4785-b284-b40b39734df7
DTSTART;VALUE=DATE:20260818
DTEND;VALUE=DATE:20260819
DESCRIPTION:
LOCATION:HALL IN FRONT OF AUDITORIUM 
SUMMARY:CEF BREAKFAST FOR CPS STAFF 
END:VEVENT
END:VCALENDAR
