BEGIN:VCALENDAR
VERSION:2.0
PRODID:icalendar-ruby
CALSCALE:GREGORIAN
BEGIN:VTIMEZONE
TZID:America/New_York
BEGIN:DAYLIGHT
DTSTART:20260308T030000
TZOFFSETFROM:-0500
TZOFFSETTO:-0400
RRULE:FREQ=YEARLY;BYDAY=2SU;BYMONTH=3
TZNAME:EDT
END:DAYLIGHT
BEGIN:STANDARD
DTSTART:20261101T010000
TZOFFSETFROM:-0400
TZOFFSETTO:-0500
RRULE:FREQ=YEARLY;BYDAY=1SU;BYMONTH=11
TZNAME:EST
END:STANDARD
END:VTIMEZONE
BEGIN:VEVENT
DTSTAMP:20260424T032447Z
UID:ab3dd64d-8c5e-4146-bda3-f61bd03b0473
DTSTART;VALUE=DATE:20260430
DTEND;VALUE=DATE:20260501
DESCRIPTION:
LOCATION:
SUMMARY:Akron Children's Hospital - Adolescent Vaccine Clinic
END:VEVENT
BEGIN:VEVENT
DTSTAMP:20260424T032447Z
UID:f79cd4c8-1a96-4600-8682-8dc4fa944c0f
DTSTART;VALUE=DATE:20260525
DTEND;VALUE=DATE:20260526
DESCRIPTION:
LOCATION:
SUMMARY:No School
END:VEVENT
BEGIN:VEVENT
DTSTAMP:20260424T032447Z
UID:1404bbf1-5edf-4acf-8fd2-4d2cbb820b7e
DTSTART;VALUE=DATE:20260527
DTEND;VALUE=DATE:20260528
DESCRIPTION:
LOCATION:
SUMMARY:7th Grade - Camp Frederick
END:VEVENT
BEGIN:VEVENT
DTSTAMP:20260424T032447Z
UID:02bfb16a-b8a0-40b8-a16b-c52379a6d1bc
DTSTART;VALUE=DATE:20260605
DTEND;VALUE=DATE:20260606
DESCRIPTION:
LOCATION:
SUMMARY:Last Day of the 2025-2026 School Year (Early Release)
END:VEVENT
END:VCALENDAR
