BEGIN:VCALENDAR
VERSION:2.0
PRODID:icalendar-ruby
CALSCALE:GREGORIAN
BEGIN:VTIMEZONE
TZID:America/Los_Angeles
BEGIN:DAYLIGHT
DTSTART:20260308T030000
TZOFFSETFROM:-0800
TZOFFSETTO:-0700
RRULE:FREQ=YEARLY;BYDAY=2SU;BYMONTH=3
TZNAME:PDT
END:DAYLIGHT
BEGIN:STANDARD
DTSTART:20261101T010000
TZOFFSETFROM:-0700
TZOFFSETTO:-0800
RRULE:FREQ=YEARLY;BYDAY=1SU;BYMONTH=11
TZNAME:PST
END:STANDARD
END:VTIMEZONE
BEGIN:VEVENT
DTSTAMP:20260421T181457Z
UID:827d332b-aa01-4281-8e56-11754a2aa7f4
DTSTART:20260421T000000
DTEND:20260425T000000
DESCRIPTION:
LOCATION:
SUMMARY:Spring Book Fair
END:VEVENT
BEGIN:VEVENT
DTSTAMP:20260421T181457Z
UID:22cf1326-dee2-47fa-85f1-a161aced8384
DTSTART:20260421T170000
DTEND:20260421T190000
DESCRIPTION:
LOCATION:
SUMMARY:Family Art Night
END:VEVENT
BEGIN:VEVENT
DTSTAMP:20260421T181457Z
UID:2804eac6-a398-41cd-a142-add1a9822d2e
DTSTART:20260424T000000
DTEND:20260425T000000
DESCRIPTION:
LOCATION:
SUMMARY:Spirit Day: Fancy Day
END:VEVENT
BEGIN:VEVENT
DTSTAMP:20260421T181457Z
UID:93bddb1d-593c-46cf-830e-ca3436c475b5
DTSTART;VALUE=DATE:20260501
DTEND;VALUE=DATE:20260502
DESCRIPTION:
LOCATION:
SUMMARY:No School - Teacher Workday
END:VEVENT
BEGIN:VEVENT
DTSTAMP:20260421T181457Z
UID:33b2be04-8289-40f8-94d1-2f68b538f904
DTSTART:20260512T170000
DTEND:20260512T190000
DESCRIPTION:
LOCATION:
SUMMARY:Family Night : OMSI Science 
END:VEVENT
BEGIN:VEVENT
DTSTAMP:20260421T181457Z
UID:d37cf786-09d8-4081-9d25-9f368d3908e0
DTSTART;VALUE=DATE:20260525
DTEND;VALUE=DATE:20260526
DESCRIPTION:
LOCATION:
SUMMARY:No School - Memorial Day 
END:VEVENT
BEGIN:VEVENT
DTSTAMP:20260421T181457Z
UID:69f202f3-11a9-4eeb-82b3-5cc250cf3bb5
DTSTART;VALUE=DATE:20260526
DTEND;VALUE=DATE:20260527
DESCRIPTION:
LOCATION:
SUMMARY:No School - Teacher Workday
END:VEVENT
BEGIN:VEVENT
DTSTAMP:20260421T181457Z
UID:35feb457-9501-4e1c-a6b3-3a6b57d873d6
DTSTART;VALUE=DATE:20260529
DTEND;VALUE=DATE:20260530
DESCRIPTION:
LOCATION:
SUMMARY:Spirit Day: Backwards Day
END:VEVENT
BEGIN:VEVENT
DTSTAMP:20260421T181457Z
UID:b3dbed48-87b8-47ab-afe7-1b0926615b51
DTSTART;VALUE=DATE:20260605
DTEND;VALUE=DATE:20260606
DESCRIPTION:
LOCATION:
SUMMARY:Spirit Day: Copy Cat Day
END:VEVENT
BEGIN:VEVENT
DTSTAMP:20260421T181457Z
UID:27253c0b-0ea8-4c84-b439-8bd7a88f8924
DTSTART;VALUE=DATE:20260611
DTEND;VALUE=DATE:20260612
DESCRIPTION:
LOCATION:
SUMMARY:Last Day of School
END:VEVENT
END:VCALENDAR
