BEGIN:VCALENDAR
VERSION:2.0
PRODID:icalendar-ruby
CALSCALE:GREGORIAN
BEGIN:VTIMEZONE
TZID:America/Los_Angeles
BEGIN:DAYLIGHT
DTSTART:20260308T030000
TZOFFSETFROM:-0800
TZOFFSETTO:-0700
RRULE:FREQ=YEARLY;BYDAY=2SU;BYMONTH=3
TZNAME:PDT
END:DAYLIGHT
BEGIN:STANDARD
DTSTART:20261101T010000
TZOFFSETFROM:-0700
TZOFFSETTO:-0800
RRULE:FREQ=YEARLY;BYDAY=1SU;BYMONTH=11
TZNAME:PST
END:STANDARD
END:VTIMEZONE
BEGIN:VEVENT
DTSTAMP:20260424T000427Z
UID:e5f310b4-bce2-4cb8-ac6a-4748584e9623
DTSTART;VALUE=DATE:20260424
DTEND;VALUE=DATE:20260425
DESCRIPTION:
LOCATION:
SUMMARY:Color Run
END:VEVENT
BEGIN:VEVENT
DTSTAMP:20260424T000427Z
UID:96f92b8b-626d-4fc3-b1ca-08d9d8c11e14
DTSTART;VALUE=DATE:20260428
DTEND;VALUE=DATE:20260429
DESCRIPTION:
LOCATION:
SUMMARY:Bus driver appreciation day
END:VEVENT
BEGIN:VEVENT
DTSTAMP:20260424T000427Z
UID:b21de461-0f36-42a4-860c-4e0a76d30472
DTSTART:20260430T141000
DTEND:20260430T152000
DESCRIPTION:
LOCATION:
SUMMARY:Green Team
END:VEVENT
BEGIN:VEVENT
DTSTAMP:20260424T000427Z
UID:c6b1a6a6-d333-4612-8945-02745fc9a2e5
DTSTART;VALUE=DATE:20260501
DTEND;VALUE=DATE:20260502
DESCRIPTION:
LOCATION:
SUMMARY:No School/Teacher work day
END:VEVENT
BEGIN:VEVENT
DTSTAMP:20260424T000427Z
UID:75a3853e-536c-4b74-9bec-aede09c3b76f
DTSTART:20260512T190000
DTEND:20260512T200000
DESCRIPTION:Library
LOCATION:
SUMMARY:PTSO meeting
END:VEVENT
BEGIN:VEVENT
DTSTAMP:20260424T000427Z
UID:8ca5458a-9b8b-4299-af5b-6e18d6fa4856
DTSTART:20260514T141000
DTEND:20260514T152000
DESCRIPTION:
LOCATION:
SUMMARY:Green Team
END:VEVENT
BEGIN:VEVENT
DTSTAMP:20260424T000427Z
UID:e7408d2a-5583-43a0-9b44-1e872666db7e
DTSTART;VALUE=DATE:20260525
DTEND;VALUE=DATE:20260526
DESCRIPTION:
LOCATION:
SUMMARY:No School/Memorial Day
END:VEVENT
BEGIN:VEVENT
DTSTAMP:20260424T000427Z
UID:e463c932-3bab-4b2a-9867-50167a33daf3
DTSTART;VALUE=DATE:20260526
DTEND;VALUE=DATE:20260527
DESCRIPTION:
LOCATION:
SUMMARY:No School/Teacher work day
END:VEVENT
BEGIN:VEVENT
DTSTAMP:20260424T000427Z
UID:36729736-b421-47bf-8cd4-732955e2cd65
DTSTART:20260528T141000
DTEND:20260528T152000
DESCRIPTION:
LOCATION:
SUMMARY:Green Team
END:VEVENT
BEGIN:VEVENT
DTSTAMP:20260424T000427Z
UID:befaa76a-bdb8-4f0f-9180-f1b656d00909
DTSTART:20260604T141000
DTEND:20260604T152000
DESCRIPTION:
LOCATION:
SUMMARY:Green Team
END:VEVENT
BEGIN:VEVENT
DTSTAMP:20260424T000427Z
UID:110bae41-1f42-4e49-a598-71a9da2dac0f
DTSTART:20260609T190000
DTEND:20260609T200000
DESCRIPTION:Library
LOCATION:
SUMMARY:PTSO meeting
END:VEVENT
BEGIN:VEVENT
DTSTAMP:20260424T000427Z
UID:92844c76-a464-4e6d-af8d-46a4b0393e6b
DTSTART;VALUE=DATE:20260611
DTEND;VALUE=DATE:20260612
DESCRIPTION:Dismissal at 11:10 AM
LOCATION:
SUMMARY:Last day of school/half day
END:VEVENT
BEGIN:VEVENT
DTSTAMP:20260424T000427Z
UID:8040258d-24ef-484e-8c56-906a538ad0f8
DTSTART;VALUE=DATE:20260612
DTEND;VALUE=DATE:20260613
DESCRIPTION:
LOCATION:
SUMMARY:Possible make up day
END:VEVENT
BEGIN:VEVENT
DTSTAMP:20260424T000427Z
UID:cc9dfa32-9ce6-4007-986d-4d4eb5484959
DTSTART;VALUE=DATE:20260615
DTEND;VALUE=DATE:20260616
DESCRIPTION:
LOCATION:
SUMMARY:Possible make up day
END:VEVENT
BEGIN:VEVENT
DTSTAMP:20260424T000427Z
UID:85a2c94d-9de2-41f5-87cf-bce3fec34cf3
DTSTART;VALUE=DATE:20260616
DTEND;VALUE=DATE:20260617
DESCRIPTION:
LOCATION:
SUMMARY:Possible make up day
END:VEVENT
BEGIN:VEVENT
DTSTAMP:20260424T000427Z
UID:d2245539-9b53-4368-a51c-31d5d7310270
DTSTART;VALUE=DATE:20260619
DTEND;VALUE=DATE:20260620
DESCRIPTION:
LOCATION:
SUMMARY:Juneteenth
END:VEVENT
END:VCALENDAR
