BEGIN:VCALENDAR
VERSION:2.0
PRODID:icalendar-ruby
CALSCALE:GREGORIAN
BEGIN:VTIMEZONE
TZID:America/Los_Angeles
BEGIN:DAYLIGHT
DTSTART:20260308T030000
TZOFFSETFROM:-0800
TZOFFSETTO:-0700
RRULE:FREQ=YEARLY;BYDAY=2SU;BYMONTH=3
TZNAME:PDT
END:DAYLIGHT
BEGIN:STANDARD
DTSTART:20261101T010000
TZOFFSETFROM:-0700
TZOFFSETTO:-0800
RRULE:FREQ=YEARLY;BYDAY=1SU;BYMONTH=11
TZNAME:PST
END:STANDARD
END:VTIMEZONE
BEGIN:VEVENT
DTSTAMP:20260425T102755Z
UID:3235d4a3-d517-4265-8956-25fca3708354
DTSTART:20260424T180000
DTEND:20260425T210000
DESCRIPTION:
LOCATION:
SUMMARY:North Idaho Hall of Fame Banquet 
END:VEVENT
BEGIN:VEVENT
DTSTAMP:20260425T102755Z
UID:a78f3ae6-7810-4da5-b37c-300001adf3c5
DTSTART:20260427T173000
DTEND:20260427T193000
DESCRIPTION:
LOCATION:
SUMMARY:NISTAR
END:VEVENT
BEGIN:VEVENT
DTSTAMP:20260425T102755Z
UID:30797982-5f4c-47f0-8ba3-29125e4c9215
DTSTART:20260429T180000
DTEND:20260429T183000
DESCRIPTION:
LOCATION:
SUMMARY:Top Scholar
END:VEVENT
BEGIN:VEVENT
DTSTAMP:20260425T102755Z
UID:82b8ec92-0bf4-4f5b-9227-9c6282168416
DTSTART:20260511T180000
DTEND:20260511T190000
DESCRIPTION:
LOCATION:Silver Hills Elementary School\, 1246 Silver Valley Rd\, Osburn\, 
 ID 83849\, USA
SUMMARY:School Board Meeting @ Silver Hills
END:VEVENT
BEGIN:VEVENT
DTSTAMP:20260425T102755Z
UID:c616897b-8990-49b8-a2f6-aa6d22e8f283
DTSTART:20260515T130000
DTEND:20260515T150000
DESCRIPTION:
LOCATION:
SUMMARY:Senior Projects
END:VEVENT
BEGIN:VEVENT
DTSTAMP:20260425T102755Z
UID:5b65ff85-c213-4925-a333-0a8ee23bc64e
DTSTART;VALUE=DATE:20260518
DTEND;VALUE=DATE:20260519
DESCRIPTION:
LOCATION:
SUMMARY:Seniors Finals Week
END:VEVENT
BEGIN:VEVENT
DTSTAMP:20260425T102755Z
UID:4fc99cc3-f3f0-41ba-b28f-0a48446185cd
DTSTART:20260526T131500
DTEND:20260526T151500
DESCRIPTION:
LOCATION:
SUMMARY:Senior Scholarship Ceremony
END:VEVENT
BEGIN:VEVENT
DTSTAMP:20260425T102755Z
UID:3e602b6f-9103-4700-ba5e-623705f7da56
DTSTART:20260527T110000
DTEND:20260527T130000
DESCRIPTION:
LOCATION:
SUMMARY:Senior BBQ
END:VEVENT
BEGIN:VEVENT
DTSTAMP:20260425T102755Z
UID:1b8a49a2-c4a2-4359-b3ab-47c0676b43b6
DTSTART:20260528T190000
DTEND:20260528T200000
DESCRIPTION:
LOCATION:
SUMMARY:Senior Baccalaureate
END:VEVENT
BEGIN:VEVENT
DTSTAMP:20260425T102755Z
UID:a0a62d46-a6ac-4509-9ffd-75b152046678
DTSTART:20260529T190000
DTEND:20260529T200000
DESCRIPTION:
LOCATION:
SUMMARY:Graduation
END:VEVENT
BEGIN:VEVENT
DTSTAMP:20260425T102755Z
UID:77938561-78a6-4bb8-96b5-9aabeca4955e
DTSTART:20260608T180000
DTEND:20260608T190000
DESCRIPTION:
LOCATION:Silver Hills Elementary School\, 1246 Silver Valley Rd\, Osburn\, 
 ID 83849\, USA
SUMMARY:School Board Meeting @ Silver Hills
END:VEVENT
BEGIN:VEVENT
DTSTAMP:20260425T102755Z
UID:caf41609-8b84-40d0-82d9-44f743b4c773
DTSTART:20260713T180000
DTEND:20260713T190000
DESCRIPTION:
LOCATION:Silver Hills Elementary School\, 1246 Silver Valley Rd\, Osburn\, 
 ID 83849\, USA
SUMMARY:School Board Meeting @ Silver Hills
END:VEVENT
BEGIN:VEVENT
DTSTAMP:20260425T102755Z
UID:17a52645-832e-4819-9df9-8509ed638cb4
DTSTART:20260815T180000
DTEND:20260815T200000
DESCRIPTION:Cafeteria
LOCATION:
SUMMARY:Class '16 Ten Yr. Reunion
END:VEVENT
END:VCALENDAR
