BEGIN:VCALENDAR
VERSION:2.0
PRODID:icalendar-ruby
CALSCALE:GREGORIAN
BEGIN:VTIMEZONE
TZID:America/Chicago
BEGIN:DAYLIGHT
DTSTART:20260308T030000
TZOFFSETFROM:-0600
TZOFFSETTO:-0500
RRULE:FREQ=YEARLY;BYDAY=2SU;BYMONTH=3
TZNAME:CDT
END:DAYLIGHT
BEGIN:STANDARD
DTSTART:20261101T010000
TZOFFSETFROM:-0500
TZOFFSETTO:-0600
RRULE:FREQ=YEARLY;BYDAY=1SU;BYMONTH=11
TZNAME:CST
END:STANDARD
END:VTIMEZONE
BEGIN:VEVENT
DTSTAMP:20260425T040410Z
UID:c442e6ca-789b-4aa7-ab24-d7e2a5d7cdfb
DTSTART:20260427T090000
DTEND:20260427T150000
DESCRIPTION:<p><a href="https://cesa3events.org/events/library-media-specia
 lists-networking-2/" target="_blank" rel="noopener noreferrer nofollow" pa
 th-prefix="">Learn more and register here!</a></p>
LOCATION:11838 Center Hill Rd\, Darlington\, WI 53530\, USA
SUMMARY:Library Media Specialists Networking
END:VEVENT
BEGIN:VEVENT
DTSTAMP:20260425T040410Z
UID:b8147d4d-700e-4036-8c00-b1f5f46fbd6e
DTSTART:20260428T090000
DTEND:20260428T150000
DESCRIPTION:<p><a href="https://cesa3events.org/events/unlocking-school-wel
 lness-csmh-framework-in-action/" target="_blank" rel="noopener noreferrer 
 nofollow" path-prefix="">Learn more and register here!</a></p>
LOCATION:1300 Industrial Dr\, Fennimore\, WI 53809\, USA
SUMMARY:Unlocking School Wellness: CSMH Framework in Action
END:VEVENT
BEGIN:VEVENT
DTSTAMP:20260425T040410Z
UID:ab7d52be-0829-4c5d-92f2-44422ea3f165
DTSTART:20260428T093000
DTEND:20260428T120000
DESCRIPTION:<p><a href="https://cesa3events.org/events/writers-showcase-gt-
 consortium/" target="_blank" rel="noopener noreferrer nofollow" path-prefi
 x="">Learn more and register here!</a></p>
LOCATION:1800 Bronson Blvd\, Fennimore\, WI 53809\, USA
SUMMARY:Writer's Showcase (GT Consortium)
END:VEVENT
BEGIN:VEVENT
DTSTAMP:20260425T040410Z
UID:7cc38180-6145-43bf-ab15-c64357dd40bd
DTSTART:20260507T090000
DTEND:20260507T133000
DESCRIPTION:<p><a href="https://cesa3events.org/events/taliesin-design-chal
 lenge-4-part-series/" target="_blank" rel="noopener noreferrer nofollow" p
 ath-prefix="">Learn more and register here!</a></p>
LOCATION:5607 County Rd C\, Spring Green\, WI 53588\, USA
SUMMARY:Taliesin Design Challenge--4 Part Series
END:VEVENT
BEGIN:VEVENT
DTSTAMP:20260425T040410Z
UID:41bb7a1e-735c-4484-9b56-bcde4c8e68be
DTSTART:20260508T093000
DTEND:20260508T130000
DESCRIPTION:<p><a href="https://cesa3events.org/events/cesa-3-champion-game
 s-2/" target="_blank" rel="noopener noreferrer nofollow" path-prefix="">Le
 arn more and register here!</a></p>
LOCATION:300 Brindley St\, Boscobel\, WI 53805\, USA
SUMMARY:CESA 3 Champion Games
END:VEVENT
BEGIN:VEVENT
DTSTAMP:20260425T040410Z
UID:7c34db15-8da1-47fc-898f-98a77edc4eb3
DTSTART:20260608T083000
DTEND:20260608T160000
DESCRIPTION:<p><a href="https://cesa3events.org/events/managing-school-cris
 is-from-theory-to-application/" target="_blank" rel="noopener noreferrer n
 ofollow" path-prefix="">Learn more and register here!</a></p>
LOCATION:1300 Industrial Dr\, Fennimore\, WI 53809\, USA
SUMMARY:Managing School Crisis: From Theory to Application
END:VEVENT
BEGIN:VEVENT
DTSTAMP:20260425T040410Z
UID:46118576-c52f-4b21-ba16-13b5b3d0dd40
DTSTART:20260623T083000
DTEND:20260623T153000
DESCRIPTION:<p><a href="https://cesa3events.org/events/restorative-practice
 s-training/" target="_blank" rel="noopener noreferrer nofollow" path-prefi
 x="">Learn more and register here!</a></p>
LOCATION:1300 Industrial Dr\, Fennimore\, WI 53809\, USA
SUMMARY:Restorative Practices Training
END:VEVENT
END:VCALENDAR
