BEGIN:VCALENDAR
VERSION:2.0
PRODID:icalendar-ruby
CALSCALE:GREGORIAN
BEGIN:VTIMEZONE
TZID:America/Chicago
BEGIN:DAYLIGHT
DTSTART:20260308T030000
TZOFFSETFROM:-0600
TZOFFSETTO:-0500
RRULE:FREQ=YEARLY;BYDAY=2SU;BYMONTH=3
TZNAME:CDT
END:DAYLIGHT
BEGIN:STANDARD
DTSTART:20261101T010000
TZOFFSETFROM:-0500
TZOFFSETTO:-0600
RRULE:FREQ=YEARLY;BYDAY=1SU;BYMONTH=11
TZNAME:CST
END:STANDARD
END:VTIMEZONE
BEGIN:VEVENT
DTSTAMP:20260419T163643Z
UID:91d760e5-ce24-412b-8666-df2f08d418a7
DTSTART:20260421T190000
DTEND:20260421T200000
DESCRIPTION:Greendale Schools mission is deeply rooted in ensuring that all
  students belong and are empowered to learn\, grow\, and engage as part of
  a global community. We take great pride in our commitment to providing th
 e best possible educational experience for every Greendale student. This s
 chool year we will welcome community members to learn more about district 
 programming during two\, special In-Person Equity Update events: November 
 4 and April 21.
LOCATION:
SUMMARY:In Person Equity Update Meeting
END:VEVENT
BEGIN:VEVENT
DTSTAMP:20260419T163643Z
UID:07051722-3b84-4536-9532-ad88d1f5ff15
DTSTART:20260422T163000
DTEND:20260422T180000
DESCRIPTION:
LOCATION:Greendale School District Office
SUMMARY:Greendale Global Academy Governance Board Meeting
END:VEVENT
BEGIN:VEVENT
DTSTAMP:20260419T163643Z
UID:082fb4b5-8a10-4c69-a51d-c92f43f8b678
DTSTART:20260423T160000
DTEND:20260423T181500
DESCRIPTION:<p>Child Development Days screening is available to all Greenda
 le resident children 3-4 years of age who are NOT enrolled in Greendale Sc
 hools' 4K Program. The event is held at Highland View and offers important
  screening of your child(ren)'s school readiness\, including: speech and l
 anguage development\, reading readiness\, social-emotional maturity\, fine
  and gross motor skills and vision and hearing. Families also receive info
 rmation on normal child growth and development and have access to developm
 ental resources and informational handouts. Participants can share refresh
 ments and receive a free gift for their children.Â <b>Child Development 
 Days are held on select dates by appointment only. Schedule an appointment
  by calling (414) 423-2713.</b></p>
LOCATION:Highland View\, 5900 S 51st St\, Greendale\, WI 53129\, USA
SUMMARY:Child Development Days 
END:VEVENT
BEGIN:VEVENT
DTSTAMP:20260419T163643Z
UID:36323651-d4e9-4f35-ab65-5199e8769e51
DTSTART:20260423T173000
DTEND:20260423T193000
DESCRIPTION:Join us for this annual Community Connections celebration of Ar
 ab American Heritage Month.
LOCATION:Canterbury Elementary School\, 7000 Enfield Ave\, Greendale\, WI 5
 3129\, USA
SUMMARY:Arab American Heritage Month Celebration
END:VEVENT
BEGIN:VEVENT
DTSTAMP:20260419T163643Z
UID:c767984a-547a-4122-9456-6e823cb8c715
DTSTART:20260427T190000
DTEND:20260427T210000
DESCRIPTION:
LOCATION:Greendale High School\, 6801 Southway\, Greendale\, WI 53129\, USA
SUMMARY:School Board Meeting
END:VEVENT
BEGIN:VEVENT
DTSTAMP:20260419T163643Z
UID:d8bb27a4-446e-47d7-9124-7e3e31443232
DTSTART:20260504T190000
DTEND:20260504T210000
DESCRIPTION:
LOCATION:Greendale High School\, 6801 Southway\, Greendale\, WI 53129\, USA
SUMMARY:School Board Meeting
END:VEVENT
BEGIN:VEVENT
DTSTAMP:20260419T163643Z
UID:34b0110d-1339-4d00-8a64-827fcd110112
DTSTART:20260513T180000
DTEND:20260513T190000
DESCRIPTION:
LOCATION:High School Library
SUMMARY:Citizens Advisory Team Meeting
END:VEVENT
BEGIN:VEVENT
DTSTAMP:20260419T163643Z
UID:a8a2538a-9395-4ebd-84de-004848290e8c
DTSTART:20260518T190000
DTEND:20260518T210000
DESCRIPTION:
LOCATION:Greendale High School\, 6801 Southway\, Greendale\, WI 53129\, USA
SUMMARY:School Board Meeting
END:VEVENT
BEGIN:VEVENT
DTSTAMP:20260419T163643Z
UID:a86deb02-f7e0-44ee-885e-d9500bae6e3b
DTSTART;VALUE=DATE:20260522
DTEND;VALUE=DATE:20260523
DESCRIPTION:Students are off\nProfessional development day for teachers
LOCATION:
SUMMARY:NO SCHOOL
END:VEVENT
BEGIN:VEVENT
DTSTAMP:20260419T163643Z
UID:021ad49c-a079-4602-8bbc-49627218fd77
DTSTART;VALUE=DATE:20260525
DTEND;VALUE=DATE:20260526
DESCRIPTION:Students and teachers are off
LOCATION:
SUMMARY:NO SCHOOL
END:VEVENT
BEGIN:VEVENT
DTSTAMP:20260419T163643Z
UID:13bbd24b-4e68-4035-ada6-0e43cced10ea
DTSTART:20260527T163000
DTEND:20260527T180000
DESCRIPTION:
LOCATION:Greendale School District Office
SUMMARY:Greendale Global Academy Governance Board Meeting
END:VEVENT
BEGIN:VEVENT
DTSTAMP:20260419T163643Z
UID:987e69c0-8a48-4e2f-a5c2-918a6c812ad9
DTSTART:20260601T190000
DTEND:20260601T210000
DESCRIPTION:
LOCATION:Greendale High School\, 6801 Southway\, Greendale\, WI 53129\, USA
SUMMARY:School Board Meeting
END:VEVENT
BEGIN:VEVENT
DTSTAMP:20260419T163643Z
UID:d5019ea6-a85c-4bc5-b0ad-0dbf0b2b7481
DTSTART;VALUE=DATE:20260611
DTEND;VALUE=DATE:20260612
DESCRIPTION:Last day of school is a half day!
LOCATION:
SUMMARY:LAST DAY OF SCHOOL 
END:VEVENT
BEGIN:VEVENT
DTSTAMP:20260419T163643Z
UID:511b1d1f-40ff-4340-b6f8-14286942bdb2
DTSTART:20260615T190000
DTEND:20260615T210000
DESCRIPTION:
LOCATION:Greendale High School\, 6801 Southway\, Greendale\, WI 53129\, USA
SUMMARY:School Board Meeting
END:VEVENT
BEGIN:VEVENT
DTSTAMP:20260419T163643Z
UID:086e2dcb-7561-43f9-93b7-09772fa8b3e5
DTSTART:20260624T163000
DTEND:20260624T180000
DESCRIPTION:
LOCATION:Greendale School District Office
SUMMARY:Greendale Global Academy Governance Board Meeting
END:VEVENT
END:VCALENDAR
