BEGIN:VCALENDAR
VERSION:2.0
PRODID:icalendar-ruby
CALSCALE:GREGORIAN
BEGIN:VTIMEZONE
TZID:America/Los_Angeles
BEGIN:DAYLIGHT
DTSTART:20260308T030000
TZOFFSETFROM:-0800
TZOFFSETTO:-0700
RRULE:FREQ=YEARLY;BYDAY=2SU;BYMONTH=3
TZNAME:PDT
END:DAYLIGHT
BEGIN:STANDARD
DTSTART:20261101T010000
TZOFFSETFROM:-0700
TZOFFSETTO:-0800
RRULE:FREQ=YEARLY;BYDAY=1SU;BYMONTH=11
TZNAME:PST
END:STANDARD
END:VTIMEZONE
BEGIN:VEVENT
DTSTAMP:20260421T223333Z
UID:f61cc488-c97c-440a-917f-5049b5748f07
DTSTART:20260421T180000
DTEND:20260421T190000
DESCRIPTION:
LOCATION:
SUMMARY:Open House Las Flores & Gateway
END:VEVENT
BEGIN:VEVENT
DTSTAMP:20260421T223333Z
UID:e7fa47be-5e2e-4ac5-85f7-ef3fa1721d51
DTSTART;VALUE=DATE:20260422
DTEND;VALUE=DATE:20260423
DESCRIPTION:
LOCATION:
SUMMARY:Late Start (except Mesquite)
END:VEVENT
BEGIN:VEVENT
DTSTAMP:20260421T223333Z
UID:f11fe916-1311-4210-922e-eb5a31478a07
DTSTART:20260422T170000
DTEND:20260422T180000
DESCRIPTION:
LOCATION:Sierra Vista Education Center\, 1327 N Norma St\, Ridgecrest\, CA 
 93555\, USA
SUMMARY:Special Education Community Advisory Committee (SELPA Office)
END:VEVENT
BEGIN:VEVENT
DTSTAMP:20260421T223333Z
UID:6c8d2dfa-568f-4073-bf5a-fbe55e87cad5
DTSTART;VALUE=DATE:20260429
DTEND;VALUE=DATE:20260430
DESCRIPTION:
LOCATION:
SUMMARY:Late Start (except Mesquite)
END:VEVENT
BEGIN:VEVENT
DTSTAMP:20260421T223333Z
UID:ba207a2a-872e-4f4c-bff0-3d66391d1982
DTSTART:20260507T090000
DTEND:20260507T110000
DESCRIPTION:
LOCATION:6601 Locust Ave\, Inyokern\, CA 93527\, USA
SUMMARY:Superintendent's Council (Inyokern)
END:VEVENT
BEGIN:VEVENT
DTSTAMP:20260421T223333Z
UID:1fc7f29e-4dbc-48bd-8008-e0d5c0400bc7
DTSTART:20260507T173000
DTEND:20260507T190000
DESCRIPTION:
LOCATION:China Lake Junior High (Cafeteria) at 200 E. Drummond Avenue\, Rid
 gecrest\, CA 93555
SUMMARY:LCAP Advisory Meeting
END:VEVENT
BEGIN:VEVENT
DTSTAMP:20260421T223333Z
UID:15ce3a3b-b107-4ed1-bb17-a26d8c785359
DTSTART:20260521T180000
DTEND:20260521T190000
DESCRIPTION:
LOCATION:100 W California Ave\, Ridgecrest\, CA 93555\, USA
SUMMARY:Regular School Board Meeting
END:VEVENT
BEGIN:VEVENT
DTSTAMP:20260421T223333Z
UID:96fea9f8-7369-4028-a9be-dd79e05b1ed4
DTSTART:20260521T180000
DTEND:20260521T200000
DESCRIPTION:
LOCATION:Parker Performing Arts Center\, 500 E French Ave\, Ridgecrest\, CA
  93555\, USA
SUMMARY:Sierra Sands Adult School Graduation 
END:VEVENT
BEGIN:VEVENT
DTSTAMP:20260421T223333Z
UID:91fb609f-7f62-49b2-b27d-05bdab74cd2d
DTSTART;VALUE=DATE:20260522
DTEND;VALUE=DATE:20260523
DESCRIPTION:
LOCATION:
SUMMARY:Elementary Minimum Day
END:VEVENT
BEGIN:VEVENT
DTSTAMP:20260421T223333Z
UID:3a0054ec-faad-4275-9c17-b742944b803a
DTSTART;VALUE=DATE:20260525
DTEND;VALUE=DATE:20260526
DESCRIPTION:
LOCATION:
SUMMARY:No School - Memorial Day
END:VEVENT
BEGIN:VEVENT
DTSTAMP:20260421T223333Z
UID:7155427a-6246-4a97-b9a1-37c262038700
DTSTART;VALUE=DATE:20260526
DTEND;VALUE=DATE:20260529
DESCRIPTION:
LOCATION:
SUMMARY:Minimum Days: Elementary & Secondary May 26 - 28
END:VEVENT
BEGIN:VEVENT
DTSTAMP:20260421T223333Z
UID:91c24fe9-7868-4cb4-948e-a37bae1598f4
DTSTART;VALUE=DATE:20260528
DTEND;VALUE=DATE:20260529
DESCRIPTION:
LOCATION:
SUMMARY:Last Day of Instruction
END:VEVENT
BEGIN:VEVENT
DTSTAMP:20260421T223333Z
UID:62b7472a-8ed2-470a-9bc2-b3b19550e03b
DTSTART:20260528T080000
DTEND:20260528T093000
DESCRIPTION:
LOCATION:Kerr McGee Community Center\, 100 W California Ave\, Ridgecrest\, 
 CA 93555\, USA
SUMMARY:Vieweg STEM Academy Promotion
END:VEVENT
BEGIN:VEVENT
DTSTAMP:20260421T223333Z
UID:cc053920-36ef-4685-ad61-bd6298a8f09f
DTSTART:20260528T100000
DTEND:20260528T113000
DESCRIPTION:
LOCATION:Kerr McGee Community Center\, 100 W California Ave\, Ridgecrest\, 
 CA 93555\, USA
SUMMARY:China Lake Junior High School Promotion
END:VEVENT
BEGIN:VEVENT
DTSTAMP:20260421T223333Z
UID:c01bc276-ae50-4b70-bf06-a125b8c951f3
DTSTART:20260528T183000
DTEND:20260528T200000
DESCRIPTION:
LOCATION:Kerr McGee Community Center\, 100 W California Ave\, Ridgecrest\, 
 CA 93555\, USA
SUMMARY:Mesquite High School Graduation
END:VEVENT
BEGIN:VEVENT
DTSTAMP:20260421T223333Z
UID:697c881d-05aa-48b5-acae-f69a6cfa94b2
DTSTART;VALUE=DATE:20260529
DTEND;VALUE=DATE:20260530
DESCRIPTION:
LOCATION:
SUMMARY:Optional Teacher Work Day
END:VEVENT
BEGIN:VEVENT
DTSTAMP:20260421T223333Z
UID:bf9b66a2-cb72-49cd-ae05-4797570ff29c
DTSTART:20260529T200000
DTEND:20260529T220000
DESCRIPTION:BHS Stadium
LOCATION:Sherman E. Burroughs High School\, 500 E French Ave\, Ridgecrest\,
  CA 93555\, USA
SUMMARY:Burroughs High School Graduation
END:VEVENT
BEGIN:VEVENT
DTSTAMP:20260421T223333Z
UID:38c241e1-2b77-46a6-8708-3e89281d3214
DTSTART;VALUE=DATE:20260601
DTEND;VALUE=DATE:20260602
DESCRIPTION:
LOCATION:
SUMMARY:Classified Mandatory Work Day
END:VEVENT
BEGIN:VEVENT
DTSTAMP:20260421T223333Z
UID:531d4e77-99a2-4490-89e6-e95531dc1d62
DTSTART:20260611T180000
DTEND:20260611T190000
DESCRIPTION:
LOCATION:100 W California Ave\, Ridgecrest\, CA 93555\, USA
SUMMARY:Regular School Board Meeting
END:VEVENT
BEGIN:VEVENT
DTSTAMP:20260421T223333Z
UID:c2e780ea-7daf-4e12-922e-bc43b121d7d9
DTSTART;VALUE=DATE:20260619
DTEND;VALUE=DATE:20260620
DESCRIPTION:
LOCATION:
SUMMARY:Juneteenth Holiday
END:VEVENT
END:VCALENDAR
