BEGIN:VCALENDAR
VERSION:2.0
PRODID:icalendar-ruby
CALSCALE:GREGORIAN
BEGIN:VTIMEZONE
TZID:America/Chicago
BEGIN:DAYLIGHT
DTSTART:20260308T030000
TZOFFSETFROM:-0600
TZOFFSETTO:-0500
RRULE:FREQ=YEARLY;BYDAY=2SU;BYMONTH=3
TZNAME:CDT
END:DAYLIGHT
BEGIN:STANDARD
DTSTART:20261101T010000
TZOFFSETFROM:-0500
TZOFFSETTO:-0600
RRULE:FREQ=YEARLY;BYDAY=1SU;BYMONTH=11
TZNAME:CST
END:STANDARD
END:VTIMEZONE
BEGIN:VEVENT
DTSTAMP:20260420T050136Z
UID:7b560b63-2f12-4ad0-8ebb-5735c21dd088
DTSTART:20260423T173000
DTEND:20260423T190000
DESCRIPTION:
LOCATION:
SUMMARY:School Dance
END:VEVENT
BEGIN:VEVENT
DTSTAMP:20260420T050136Z
UID:8436cd56-e5d1-48cc-a9fa-be6ce3dd096f
DTSTART:20260428T143000
DTEND:20260428T153000
DESCRIPTION:
LOCATION:
SUMMARY:Talent Show
END:VEVENT
BEGIN:VEVENT
DTSTAMP:20260420T050136Z
UID:19e0bbaa-7b7d-43c8-a9dc-506b96fac6be
DTSTART:20260501T083000
DTEND:20260501T113000
DESCRIPTION:
LOCATION:
SUMMARY:Butterfly Encounter @ Baker Arts 2nd/3rd
END:VEVENT
BEGIN:VEVENT
DTSTAMP:20260420T050136Z
UID:ce09bbec-9d85-48e5-85fd-641c6817f2a7
DTSTART;VALUE=DATE:20260506
DTEND;VALUE=DATE:20260507
DESCRIPTION:
LOCATION:
SUMMARY:Bike to School Day
END:VEVENT
BEGIN:VEVENT
DTSTAMP:20260420T050136Z
UID:3ba8f1ad-95f5-467a-a12a-da7ec74a4445
DTSTART:20260506T083000
DTEND:20260506T113000
DESCRIPTION:
LOCATION:
SUMMARY:Butterfly Encounter @ Baker Arts K/1st
END:VEVENT
BEGIN:VEVENT
DTSTAMP:20260420T050136Z
UID:219a256b-87b4-4957-8aad-2c210ccc416e
DTSTART;VALUE=DATE:20260514
DTEND;VALUE=DATE:20260515
DESCRIPTION:
LOCATION:
SUMMARY:Last Day of the Semester for Students
END:VEVENT
END:VCALENDAR
