BEGIN:VCALENDAR
VERSION:2.0
PRODID:icalendar-ruby
CALSCALE:GREGORIAN
BEGIN:VTIMEZONE
TZID:America/Chicago
BEGIN:DAYLIGHT
DTSTART:20260308T030000
TZOFFSETFROM:-0600
TZOFFSETTO:-0500
RRULE:FREQ=YEARLY;BYDAY=2SU;BYMONTH=3
TZNAME:CDT
END:DAYLIGHT
BEGIN:STANDARD
DTSTART:20261101T010000
TZOFFSETFROM:-0500
TZOFFSETTO:-0600
RRULE:FREQ=YEARLY;BYDAY=1SU;BYMONTH=11
TZNAME:CST
END:STANDARD
END:VTIMEZONE
BEGIN:VEVENT
DTSTAMP:20260420T060046Z
UID:61630494-98cf-4fe2-83b0-489c478dd1e1
DTSTART:20260428T173000
DTEND:20260428T190000
DESCRIPTION:
LOCATION:
SUMMARY:Spring Family Fun Night
END:VEVENT
BEGIN:VEVENT
DTSTAMP:20260420T060046Z
UID:4f4408b4-4091-434a-b9a1-063c248a3f1d
DTSTART:20260501T120000
DTEND:20260501T150000
DESCRIPTION:
LOCATION:
SUMMARY:1st & 3rd Grade Field Trip to Butterfly Encounter @ Baker Arts
END:VEVENT
BEGIN:VEVENT
DTSTAMP:20260420T060046Z
UID:2e8f5cce-02cd-45fd-87f5-44bc1deb9649
DTSTART:20260502T100000
DTEND:20260502T130000
DESCRIPTION:
LOCATION:
SUMMARY:Bike Rodeo @ Sunflower
END:VEVENT
BEGIN:VEVENT
DTSTAMP:20260420T060046Z
UID:2e11f951-3383-4553-8036-6e153b26d796
DTSTART:20260504T083000
DTEND:20260504T113000
DESCRIPTION:
LOCATION:
SUMMARY:Kinder & 2nd Grade Field Trip to Butterfly Encounter @ Baker Arts
END:VEVENT
BEGIN:VEVENT
DTSTAMP:20260420T060046Z
UID:af82fc8a-df47-4aa6-9206-46c423a72992
DTSTART;VALUE=DATE:20260506
DTEND;VALUE=DATE:20260507
DESCRIPTION:
LOCATION:
SUMMARY:Bike to School Day
END:VEVENT
END:VCALENDAR
