BEGIN:VCALENDAR
VERSION:2.0
PRODID:icalendar-ruby
CALSCALE:GREGORIAN
BEGIN:VTIMEZONE
TZID:America/New_York
BEGIN:DAYLIGHT
DTSTART:20260308T030000
TZOFFSETFROM:-0500
TZOFFSETTO:-0400
RRULE:FREQ=YEARLY;BYDAY=2SU;BYMONTH=3
TZNAME:EDT
END:DAYLIGHT
BEGIN:STANDARD
DTSTART:20261101T010000
TZOFFSETFROM:-0400
TZOFFSETTO:-0500
RRULE:FREQ=YEARLY;BYDAY=1SU;BYMONTH=11
TZNAME:EST
END:STANDARD
END:VTIMEZONE
BEGIN:VEVENT
DTSTAMP:20260423T150114Z
UID:dbb4677d-6290-4990-bb06-ced2558f0a49
DTSTART;VALUE=DATE:20260420
DTEND;VALUE=DATE:20260425
DESCRIPTION:
LOCATION:
SUMMARY:April Break
END:VEVENT
BEGIN:VEVENT
DTSTAMP:20260423T150114Z
UID:dd1fda5c-8275-40d1-82ec-843022102108
DTSTART;VALUE=DATE:20260506
DTEND;VALUE=DATE:20260507
DESCRIPTION:
LOCATION:
SUMMARY:Early Release Day
END:VEVENT
BEGIN:VEVENT
DTSTAMP:20260423T150114Z
UID:fc1defb2-0519-44bc-af9a-0fb79c6a4b21
DTSTART;VALUE=DATE:20260525
DTEND;VALUE=DATE:20260526
DESCRIPTION:
LOCATION:
SUMMARY:Memorial Day
END:VEVENT
BEGIN:VEVENT
DTSTAMP:20260423T150114Z
UID:fa8c165d-c1ef-4fbc-b6b9-9a263d6963ee
DTSTART;VALUE=DATE:20260607
DTEND;VALUE=DATE:20260608
DESCRIPTION:
LOCATION:
SUMMARY:High School Graduation
END:VEVENT
BEGIN:VEVENT
DTSTAMP:20260423T150114Z
UID:37cca5a0-8b46-43ae-b416-32758e4e2076
DTSTART;VALUE=DATE:20260617
DTEND;VALUE=DATE:20260618
DESCRIPTION:
LOCATION:
SUMMARY:Early Release Day / Last Student Day
END:VEVENT
BEGIN:VEVENT
DTSTAMP:20260423T150114Z
UID:86f089a7-bdd1-45e8-84ea-b309e5afca24
DTSTART;VALUE=DATE:20260617
DTEND;VALUE=DATE:20260618
DESCRIPTION:
LOCATION:
SUMMARY:End of Fourth Quarter
END:VEVENT
BEGIN:VEVENT
DTSTAMP:20260423T150114Z
UID:6e430acb-e31e-4e93-8b39-908bd0f14f80
DTSTART;VALUE=DATE:20260619
DTEND;VALUE=DATE:20260620
DESCRIPTION:
LOCATION:
SUMMARY:Juneteenth
END:VEVENT
END:VCALENDAR
