BEGIN:VCALENDAR
VERSION:2.0
PRODID:icalendar-ruby
CALSCALE:GREGORIAN
BEGIN:VTIMEZONE
TZID:America/New_York
BEGIN:DAYLIGHT
DTSTART:20260308T030000
TZOFFSETFROM:-0500
TZOFFSETTO:-0400
RRULE:FREQ=YEARLY;BYDAY=2SU;BYMONTH=3
TZNAME:EDT
END:DAYLIGHT
BEGIN:STANDARD
DTSTART:20261101T010000
TZOFFSETFROM:-0400
TZOFFSETTO:-0500
RRULE:FREQ=YEARLY;BYDAY=1SU;BYMONTH=11
TZNAME:EST
END:STANDARD
END:VTIMEZONE
BEGIN:VEVENT
DTSTAMP:20260423T160353Z
UID:c5230dc4-8fcd-4a54-8e0a-99a0d86586e1
DTSTART;VALUE=DATE:20260420
DTEND;VALUE=DATE:20260425
DESCRIPTION:
LOCATION:
SUMMARY:No School
END:VEVENT
BEGIN:VEVENT
DTSTAMP:20260423T160353Z
UID:0f8c19f4-e8f5-4d36-972a-c628249d30fa
DTSTART;VALUE=DATE:20260428
DTEND;VALUE=DATE:20260430
DESCRIPTION:
LOCATION:
SUMMARY:NGSA Grade 5
END:VEVENT
BEGIN:VEVENT
DTSTAMP:20260423T160353Z
UID:b9d669cf-1d3a-4f4a-badc-876922a281ce
DTSTART:20260430T180000
DTEND:20260430T193000
DESCRIPTION:
LOCATION:
SUMMARY:SPED Info Night at BMS
END:VEVENT
BEGIN:VEVENT
DTSTAMP:20260423T160353Z
UID:6b0f1b3a-f99e-4524-83e7-86353b6bd947
DTSTART;VALUE=DATE:20260504
DTEND;VALUE=DATE:20260505
DESCRIPTION:
LOCATION:
SUMMARY:Student Council 2:30 - 3:30
END:VEVENT
BEGIN:VEVENT
DTSTAMP:20260423T160353Z
UID:2c220138-69ec-43aa-8ca5-9d4f002043eb
DTSTART:20260505T180000
DTEND:20260505T193000
DESCRIPTION:
LOCATION:
SUMMARY:Gr. 3 Parent Orientation at HMS
END:VEVENT
BEGIN:VEVENT
DTSTAMP:20260423T160353Z
UID:468d1e18-2daf-4cff-bd0b-b5c163c2cf5f
DTSTART:20260507T170000
DTEND:20260507T190000
DESCRIPTION:
LOCATION:
SUMMARY:General Info Night for all families at BMS
END:VEVENT
BEGIN:VEVENT
DTSTAMP:20260423T160353Z
UID:4d0ded46-02a7-443d-a0ec-fec710a9006d
DTSTART;VALUE=DATE:20260512
DTEND;VALUE=DATE:20260514
DESCRIPTION:
LOCATION:
SUMMARY:RICAS Math
END:VEVENT
BEGIN:VEVENT
DTSTAMP:20260423T160353Z
UID:2bb91b43-892f-4416-a710-d08c2d2ee70a
DTSTART:20260514T180000
DTEND:20260514T190000
DESCRIPTION:
LOCATION:
SUMMARY:Math Progression Night at BMS
END:VEVENT
BEGIN:VEVENT
DTSTAMP:20260423T160353Z
UID:edf80bb3-b403-4682-8f4b-59a1c6bb9bf0
DTSTART:20260519T180000
DTEND:20260519T190000
DESCRIPTION:
LOCATION:Barrington High School\, 220 Lincoln Ave\, Barrington\, RI 02806\,
  USA
SUMMARY:Choralpalooza (all BPS choirs) 
END:VEVENT
BEGIN:VEVENT
DTSTAMP:20260423T160353Z
UID:540c0171-8686-4d2b-92dd-bef1c0c4c621
DTSTART;VALUE=DATE:20260525
DTEND;VALUE=DATE:20260526
DESCRIPTION:
LOCATION:
SUMMARY:No School
END:VEVENT
BEGIN:VEVENT
DTSTAMP:20260423T160353Z
UID:634fd3d3-7f58-4681-81f1-25310ff740a7
DTSTART;VALUE=DATE:20260608
DTEND;VALUE=DATE:20260609
DESCRIPTION:
LOCATION:
SUMMARY:Student Field Day and Cookout (rain date 6/11)
END:VEVENT
BEGIN:VEVENT
DTSTAMP:20260423T160353Z
UID:8a1aca39-cde6-4685-afd5-e2088e40f5bf
DTSTART:20260610T154500
DTEND:20260610T173000
DESCRIPTION:
LOCATION:
SUMMARY:End of Year Band + Chorus Concert (rain date 6/12)
END:VEVENT
BEGIN:VEVENT
DTSTAMP:20260423T160353Z
UID:c6d64f34-f395-4fc5-a18d-4bbe36a31182
DTSTART:20260610T190000
DTEND:20260610T200000
DESCRIPTION:
LOCATION:
SUMMARY:PTO Meeting 7:00 - 8:00
END:VEVENT
BEGIN:VEVENT
DTSTAMP:20260423T160353Z
UID:42f688c0-0fc3-411e-b260-9875a5c885e8
DTSTART:20260617T190000
DTEND:20260617T210000
DESCRIPTION:
LOCATION:
SUMMARY:8th gr. Semi-Formal (or night before the last day of school)
END:VEVENT
BEGIN:VEVENT
DTSTAMP:20260423T160353Z
UID:3f893b42-f7c1-46a9-a178-ab2eb248c8ff
DTSTART;VALUE=DATE:20260618
DTEND;VALUE=DATE:20260619
DESCRIPTION:
LOCATION:
SUMMARY:Last Day of School
END:VEVENT
BEGIN:VEVENT
DTSTAMP:20260423T160353Z
UID:8d23f6de-99c0-46ca-855d-e7b258c0f3be
DTSTART:20260618T130000
DTEND:20260618T140000
DESCRIPTION:
LOCATION:
SUMMARY:8th gr. Bridging Ceremony (or last day of school)
END:VEVENT
BEGIN:VEVENT
DTSTAMP:20260423T160353Z
UID:b3cbb2ba-6940-4c29-844a-f0e5635bbfe5
DTSTART;VALUE=DATE:20260619
DTEND;VALUE=DATE:20260620
DESCRIPTION:
LOCATION:
SUMMARY:No School
END:VEVENT
BEGIN:VEVENT
DTSTAMP:20260423T160353Z
UID:0ae69a2d-fd8f-4889-8086-e108929f7f46
DTSTART;VALUE=DATE:20261001
DTEND;VALUE=DATE:20261002
DESCRIPTION:
LOCATION:
SUMMARY:Picture Day
END:VEVENT
END:VCALENDAR
