BEGIN:VCALENDAR
VERSION:2.0
PRODID:icalendar-ruby
CALSCALE:GREGORIAN
BEGIN:VTIMEZONE
TZID:America/New_York
BEGIN:DAYLIGHT
DTSTART:20260308T030000
TZOFFSETFROM:-0500
TZOFFSETTO:-0400
RRULE:FREQ=YEARLY;BYDAY=2SU;BYMONTH=3
TZNAME:EDT
END:DAYLIGHT
BEGIN:STANDARD
DTSTART:20261101T010000
TZOFFSETFROM:-0400
TZOFFSETTO:-0500
RRULE:FREQ=YEARLY;BYDAY=1SU;BYMONTH=11
TZNAME:EST
END:STANDARD
END:VTIMEZONE
BEGIN:VEVENT
DTSTAMP:20260424T212138Z
UID:0207b393-400a-4228-94ad-d6afc64d6b8c
DTSTART;VALUE=DATE:20260424
DTEND;VALUE=DATE:20260425
DESCRIPTION:
LOCATION:
SUMMARY:Friday School Spirit Day
END:VEVENT
BEGIN:VEVENT
DTSTAMP:20260424T212138Z
UID:32151607-aa55-4067-8ebe-891b66c94378
DTSTART;VALUE=DATE:20260429
DTEND;VALUE=DATE:20260430
DESCRIPTION:
LOCATION:
SUMMARY: NCPK Roundup
END:VEVENT
BEGIN:VEVENT
DTSTAMP:20260424T212138Z
UID:3d3e3e61-d6c7-4a49-9efa-d0b1eea2194b
DTSTART;VALUE=DATE:20260501
DTEND;VALUE=DATE:20260502
DESCRIPTION:
LOCATION:
SUMMARY:Early Release Day
END:VEVENT
BEGIN:VEVENT
DTSTAMP:20260424T212138Z
UID:00e98f4e-f0ae-48cc-8ebc-308a364fd9fd
DTSTART;VALUE=DATE:20260513
DTEND;VALUE=DATE:20260514
DESCRIPTION:
LOCATION:
SUMMARY:NCPK Roundup
END:VEVENT
BEGIN:VEVENT
DTSTAMP:20260424T212138Z
UID:b4299adc-eaf4-4fb8-b73c-75e0267184ca
DTSTART;VALUE=DATE:20260518
DTEND;VALUE=DATE:20260519
DESCRIPTION:
LOCATION:
SUMMARY:National Speech Language Pathologist Day
END:VEVENT
BEGIN:VEVENT
DTSTAMP:20260424T212138Z
UID:09aeba3d-15fe-46e5-9927-48b9afbb868c
DTSTART;VALUE=DATE:20260520
DTEND;VALUE=DATE:20260521
DESCRIPTION:
LOCATION:
SUMMARY: NCPK Roundup
END:VEVENT
BEGIN:VEVENT
DTSTAMP:20260424T212138Z
UID:0019e513-6aa8-4f85-90b9-44d424830873
DTSTART;VALUE=DATE:20260525
DTEND;VALUE=DATE:20260526
DESCRIPTION:
LOCATION:
SUMMARY:Memorial Day-No School for Staff or Students 
END:VEVENT
BEGIN:VEVENT
DTSTAMP:20260424T212138Z
UID:ff9dc4ff-0bea-4fc9-b897-2e946138acf8
DTSTART;VALUE=DATE:20260527
DTEND;VALUE=DATE:20260528
DESCRIPTION:
LOCATION:
SUMMARY:NCPK Roundup
END:VEVENT
BEGIN:VEVENT
DTSTAMP:20260424T212138Z
UID:eec07532-fe92-460c-9db7-c7dd217a20f6
DTSTART;VALUE=DATE:20260529
DTEND;VALUE=DATE:20260530
DESCRIPTION:
LOCATION:
SUMMARY:Friday School Spirit Day
END:VEVENT
BEGIN:VEVENT
DTSTAMP:20260424T212138Z
UID:9712c3e7-6282-4e38-a5a1-426d572ecc44
DTSTART;VALUE=DATE:20260604
DTEND;VALUE=DATE:20260605
DESCRIPTION:
LOCATION:
SUMMARY:Graduation Day-No School for Students 
END:VEVENT
BEGIN:VEVENT
DTSTAMP:20260424T212138Z
UID:62b11be0-c4e2-4ef2-afc9-99263cb0b7f8
DTSTART;VALUE=DATE:20260605
DTEND;VALUE=DATE:20260606
DESCRIPTION:
LOCATION:
SUMMARY:Last NCPK Roundup!
END:VEVENT
END:VCALENDAR
