BEGIN:VCALENDAR
VERSION:2.0
PRODID:icalendar-ruby
CALSCALE:GREGORIAN
BEGIN:VTIMEZONE
TZID:America/Chicago
BEGIN:DAYLIGHT
DTSTART:20260308T030000
TZOFFSETFROM:-0600
TZOFFSETTO:-0500
RRULE:FREQ=YEARLY;BYDAY=2SU;BYMONTH=3
TZNAME:CDT
END:DAYLIGHT
BEGIN:STANDARD
DTSTART:20261101T010000
TZOFFSETFROM:-0500
TZOFFSETTO:-0600
RRULE:FREQ=YEARLY;BYDAY=1SU;BYMONTH=11
TZNAME:CST
END:STANDARD
END:VTIMEZONE
BEGIN:VEVENT
DTSTAMP:20260419T214452Z
UID:ef514000-4ed6-4005-9fdc-6524ddd61462
DTSTART:20260421T090000
DTEND:20260421T150000
DESCRIPTION:<html><head><meta http-equiv="Content-Type" content="text/html\
 ; charset=utf-8"></head><body><p><strong><em>Registration is required for 
 all Immunization Drives</em></strong><br><a href="https://www.universityhe
 alth.com/services/healthyuexpress">REGISTER HERE</a>&nbsp\;or call 210-358
 -7020<br><br><strong>Tuesday\, April 21\, 2026\, 9am - 3pm</strong><br>Esc
 ondido Elementary<br>5000 Texas Palm Dr.\, Converse\, 78109<br><a href="ht
 tps://aptg.co/MXx1b0">Flyer</a><br><a href="https://aptg.co/4d6Jz5">Minor 
 Consent Form (English)</a><br><a href="https://aptg.co/msD8M_">Minor Conse
 nt Form (Spanish)</a><br><a href="https://aptg.co/yPz0TX">Adult Consent Fo
 rm</a></p><p><br></p></body></html>
LOCATION:Escondido Elementary
SUMMARY:Immunization Drive
END:VEVENT
BEGIN:VEVENT
DTSTAMP:20260419T214452Z
UID:4f5ee7a7-27eb-4e25-bbfa-6a2c57d6d5ac
DTSTART:20260423T173000
DTEND:20260423T223000
DESCRIPTION:
LOCATION:Judson ISD Educational Resource Center\, 8205 Palisades Dr\, Live 
 Oak\, Tx\, 78233
SUMMARY:Regular Board Meeting 
END:VEVENT
BEGIN:VEVENT
DTSTAMP:20260419T214452Z
UID:77856381-abe2-44d9-bd67-719037098147
DTSTART:20260423T180000
DTEND:20260423T190000
DESCRIPTION:
LOCATION:JISD ERC\, 8205 Palisades\, Dr.\, Live Oak\, 78233
SUMMARY:School Health Advisory Council Meeting
END:VEVENT
BEGIN:VEVENT
DTSTAMP:20260419T214452Z
UID:49816ba3-7b37-4450-9c98-f63bd0544791
DTSTART;VALUE=DATE:20260424
DTEND;VALUE=DATE:20260425
DESCRIPTION:
LOCATION:
SUMMARY:Staff & Student Holiday
END:VEVENT
BEGIN:VEVENT
DTSTAMP:20260419T214452Z
UID:7bcbd6de-82d9-44a1-baef-bd35a997428e
DTSTART:20260427T183000
DTEND:20260427T193000
DESCRIPTION:<html><head><meta http-equiv="Content-Type" content="text/html\
 ; charset=utf-8"></head><body><div class="elementToProof" style="line-heig
 ht:1.284\; margin:0in 0in 8pt\; font-family:Aptos\,Aptos_EmbeddedFont\,Apt
 os_MSFontService\,Calibri\,Helvetica\,sans-serif\; font-size:14pt\; color:
 rgb(0\,0\,0)">The Growth and Planning Committee’s purpose is to serve as
  a representative voice for the Judson ISD communities by providing recomm
 endations on options and actions to district leadership and the school boa
 rd\, and by sharing relevant information with local residents in the follo
 wing areas:</div><div class="elementToProof" style="line-height:1.284\; ma
 rgin:0in 0in 8pt\; font-family:Aptos\,Aptos_EmbeddedFont\,Aptos_MSFontServ
 ice\,Calibri\,Helvetica\,sans-serif\; font-size:14pt\; color:rgb(0\,0\,0)"
 >New and existing facilities\, technology infrastructure\, educational env
 ironments.</div><div class="elementToProof" style="line-height:1.284\; mar
 gin:0in 0in 8pt\; font-family:Aptos\,Aptos_EmbeddedFont\,Aptos_MSFontServi
 ce\,Calibri\,Helvetica\,sans-serif\; font-size:14pt\; color:rgb(0\,0\,0)">
 District growth</div><div class="elementToProof" style="line-height:1.284\
 ; margin:0in 0in 8pt\; font-family:Aptos\,Aptos_EmbeddedFont\,Aptos_MSFont
 Service\,Calibri\,Helvetica\,sans-serif\; font-size:14pt\; color:rgb(0\,0\
 ,0)">Short-term plans to address growth\, efficient and effective use of f
 acilities and transportation</div><div class="elementToProof" style="line-
 height:1.284\; margin:0in 0in 8pt\; font-family:Aptos\,Aptos_EmbeddedFont\
 ,Aptos_MSFontService\,Calibri\,Helvetica\,sans-serif\; font-size:14pt\; co
 lor:rgb(0\,0\,0)">Long-range plans to address growth\, efficient and effec
 tive use of facilities and transportation</div><div class="elementToProof"
  style="line-height:1.284\; margin:0in 0in 8pt\; font-family:Aptos\,Aptos_
 EmbeddedFont\,Aptos_MSFontService\,Calibri\,Helvetica\,sans-serif\; font-s
 ize:14pt\; color:rgb(0\,0\,0)">Review of emergency operations for the dist
 rict</div><div class="elementToProof" style="line-height:1.284\; margin:0i
 n 0in 8pt\; font-family:Aptos\,Aptos_EmbeddedFont\,Aptos_MSFontService\,Ca
 libri\,Helvetica\,sans-serif\; font-size:14pt\; color:rgb(0\,0\,0)">We wou
 ld like to thank every committee member for volunteering your time to plan
  the future of Judson ISD</div><div class="elementToProof" style="line-hei
 ght:1.284\; margin:0in 0in 8pt\; font-family:Aptos\,Aptos_EmbeddedFont\,Ap
 tos_MSFontService\,Calibri\,Helvetica\,sans-serif\; font-size:14pt\; color
 :rgb(0\,0\,0)">visit our website at : https://www.judsonisd.org/page/growt
 h-and-planning-committee</div><div class="elementToProof" style="font-fami
 ly:Aptos\,Aptos_EmbeddedFont\,Aptos_MSFontService\,Calibri\,Helvetica\,san
 s-serif\; font-size:14pt\; color:rgb(0\,0\,0)"><br></div></body></html>
LOCATION:JTECH - Judson ISD Technology\, 7990 Pat Booker Rd\, Live Oak\, TX
 \, 78233
SUMMARY:Growth and Planning Committee Meeting
END:VEVENT
BEGIN:VEVENT
DTSTAMP:20260419T214452Z
UID:3d71383d-99fa-4a8b-870b-2a0bebef4023
DTSTART:20260504T180000
DTEND:20260504T190000
DESCRIPTION:<html><head><meta http-equiv="Content-Type" content="text/html\
 ; charset=utf-8"></head><body><h5 style="text-align:left"><span><strong>Fi
 nd Out the Buzz About Pre-K &amp\; Kinder&nbsp\;</strong></span></h5><p><s
 pan>Starting school is an exciting milestone\, and we’re here to help yo
 ur family feel ready. Families with children entering Pre-K or Kindergarte
 n are invited to attend Pre-K/Kinder Roundup\, an engaging evening at Juds
 on ISD.</span></p><p><span>Enjoy fun activities\, helpful take-home resour
 ces\, and tips to support your child’s success. Families will also learn
  about expectations\, Pre-K eligibility\, parent resources\, and easy summ
 er skills to practice at home.</span></p><p><span><strong>Time:</strong> 6
 :00–7:00 p.m.</span></p><p><span><strong>Dates and Locations:<br></stron
 g>• May 4\, 2026 – Selma Elementary<br>• May 11\, 2026 – Hartman E
 lementary<br>• May 19\, 2026 – Hopkins Elementary</span></p><p><span>P
 arents may attend at any location. We look forward to welcoming your famil
 y!</span></p><p><br></p></body></html>
LOCATION:Selma Elementary School
SUMMARY:Pre-K & Kinder Round Up
END:VEVENT
BEGIN:VEVENT
DTSTAMP:20260419T214452Z
UID:2f4752fc-c32f-489f-a6e9-6afaa71e12bc
DTSTART:20260507T170000
DTEND:20260507T193000
DESCRIPTION:<html><head><meta http-equiv="Content-Type" content="text/html\
 ; charset=utf-8"></head><body><p>A free\, family-friendly event featuring 
 wellness partners\, fitness demos\, health resources\, safety organization
 s\, kids' activities\, giveaways and Fiesta-themed performances.</p><p>Ope
 n to all JISD families and the community! </p><p>For more information\, co
 ntact Amy Stevens at astevens@judsonisd.org</p></body></html>
LOCATION:Escondido Elementary\, 5000 Texas Palm Dr.\, 78109
SUMMARY:JISD Fiesta Health Fair
END:VEVENT
BEGIN:VEVENT
DTSTAMP:20260419T214452Z
UID:1f13ccce-6574-426e-b8c0-6712e256c0df
DTSTART:20260511T180000
DTEND:20260511T190000
DESCRIPTION:<html><head><meta http-equiv="Content-Type" content="text/html\
 ; charset=utf-8"></head><body><h5 style="text-align:left"><strong>Find Out
  the Buzz About Pre-K &amp\; Kinder&nbsp\;</strong></h5><p>Starting school
  is an exciting milestone\, and we’re here to help your family feel read
 y. Families with children entering Pre-K or Kindergarten are invited to at
 tend Pre-K/Kinder Roundup\, an engaging evening at Judson ISD.</p><p>Enjoy
  fun activities\, helpful take-home resources\, and tips to support your c
 hild’s success. Families will also learn about expectations\, Pre-K elig
 ibility\, parent resources\, and easy summer skills to practice at home.</
 p><p><strong>Time:</strong> 6:00–7:00 p.m.</p><p><strong>Dates and Locat
 ions:<br></strong>• May 4\, 2026 – Selma Elementary<br>• May 11\, 20
 26 – Hartman Elementary<br>• May 19\, 2026 – Hopkins Elementary</p><
 p>Parents may attend at any location. We look forward to welcoming your fa
 mily!</p></body></html>
LOCATION:Hartman Elementary School
SUMMARY:Pre-K & Kinder Round Up
END:VEVENT
BEGIN:VEVENT
DTSTAMP:20260419T214452Z
UID:2e8419af-4744-4535-86ed-33d75b65f2cb
DTSTART:20260513T180000
DTEND:20260513T190000
DESCRIPTION:
LOCATION:Veterans Memorial High School PAC
SUMMARY:JISD Circle of Excellence
END:VEVENT
BEGIN:VEVENT
DTSTAMP:20260419T214452Z
UID:c8243d04-c40b-47c2-a2bc-c9e6f4eadada
DTSTART:20260518T160000
DTEND:20260518T163000
DESCRIPTION:<html><head><meta http-equiv="Content-Type" content="text/html\
 ; charset=utf-8"></head><body><div class="elementToProof" style="line-heig
 ht:1.284\; margin:0in 0in 8pt\; font-family:Aptos\,Aptos_EmbeddedFont\,Apt
 os_MSFontService\,Calibri\,Helvetica\,sans-serif\; font-size:14pt\; color:
 rgb(0\,0\,0)">The Growth and Planning Committee’s purpose is to serve as
  a representative voice for the Judson ISD communities by providing recomm
 endations on options and actions to district leadership and the school boa
 rd\, and by sharing relevant information with local residents in the follo
 wing areas:</div><div class="elementToProof" style="line-height:1.284\; ma
 rgin:0in 0in 8pt\; font-family:Aptos\,Aptos_EmbeddedFont\,Aptos_MSFontServ
 ice\,Calibri\,Helvetica\,sans-serif\; font-size:14pt\; color:rgb(0\,0\,0)"
 >New and existing facilities\, technology infrastructure\, educational env
 ironments.</div><div class="elementToProof" style="line-height:1.284\; mar
 gin:0in 0in 8pt\; font-family:Aptos\,Aptos_EmbeddedFont\,Aptos_MSFontServi
 ce\,Calibri\,Helvetica\,sans-serif\; font-size:14pt\; color:rgb(0\,0\,0)">
 District growth</div><div class="elementToProof" style="line-height:1.284\
 ; margin:0in 0in 8pt\; font-family:Aptos\,Aptos_EmbeddedFont\,Aptos_MSFont
 Service\,Calibri\,Helvetica\,sans-serif\; font-size:14pt\; color:rgb(0\,0\
 ,0)">Short-term plans to address growth\, efficient and effective use of f
 acilities and transportation</div><div class="elementToProof" style="line-
 height:1.284\; margin:0in 0in 8pt\; font-family:Aptos\,Aptos_EmbeddedFont\
 ,Aptos_MSFontService\,Calibri\,Helvetica\,sans-serif\; font-size:14pt\; co
 lor:rgb(0\,0\,0)">Long-range plans to address growth\, efficient and effec
 tive use of facilities and transportation</div><div class="elementToProof"
  style="line-height:1.284\; margin:0in 0in 8pt\; font-family:Aptos\,Aptos_
 EmbeddedFont\,Aptos_MSFontService\,Calibri\,Helvetica\,sans-serif\; font-s
 ize:14pt\; color:rgb(0\,0\,0)">Review of emergency operations for the dist
 rict</div><div class="elementToProof" style="line-height:1.284\; margin:0i
 n 0in 8pt\; font-family:Aptos\,Aptos_EmbeddedFont\,Aptos_MSFontService\,Ca
 libri\,Helvetica\,sans-serif\; font-size:14pt\; color:rgb(0\,0\,0)">We wou
 ld like to thank every committee member for volunteering your time to plan
  the future of Judson ISD</div><div class="elementToProof" style="line-hei
 ght:1.284\; margin:0in 0in 8pt\; font-family:Aptos\,Aptos_EmbeddedFont\,Ap
 tos_MSFontService\,Calibri\,Helvetica\,sans-serif\; font-size:14pt\; color
 :rgb(0\,0\,0)">visit our website at : https://www.judsonisd.org/page/growt
 h-and-planning-committee</div><div class="elementToProof" style="font-fami
 ly:Aptos\,Aptos_EmbeddedFont\,Aptos_MSFontService\,Calibri\,Helvetica\,san
 s-serif\; font-size:14pt\; color:rgb(0\,0\,0)"><br></div></body></html>
LOCATION:JTECH - Judson ISD Technology\, 7990 Pat Booker Rd\, Live Oak\, TX
 \, 78233
SUMMARY:Growth and Planning Committee Meeting
END:VEVENT
BEGIN:VEVENT
DTSTAMP:20260419T214452Z
UID:ce9afcc7-74c8-45ed-8392-a20983c77f68
DTSTART:20260519T180000
DTEND:20260519T190000
DESCRIPTION:<html><head><meta http-equiv="Content-Type" content="text/html\
 ; charset=utf-8"></head><body><h5 style="text-align:left"><strong>Find Out
  the Buzz About Pre-K &amp\; Kinder&nbsp\;</strong></h5><p>Starting school
  is an exciting milestone\, and we’re here to help your family feel read
 y. Families with children entering Pre-K or Kindergarten are invited to at
 tend Pre-K/Kinder Roundup\, an engaging evening at Judson ISD.</p><p>Enjoy
  fun activities\, helpful take-home resources\, and tips to support your c
 hild’s success. Families will also learn about expectations\, Pre-K elig
 ibility\, parent resources\, and easy summer skills to practice at home.</
 p><p><strong>Time:</strong> 6:00–7:00 p.m.</p><p><strong>Dates and Locat
 ions:<br></strong>• May 4\, 2026 – Selma Elementary<br>• May 11\, 20
 26 – Hartman Elementary<br>• May 19\, 2026 – Hopkins Elementary</p><
 p>Parents may attend at any location. We look forward to welcoming your fa
 mily!</p></body></html>
LOCATION:Hopkins Elementary School
SUMMARY:Pre-K & Kinder Round Up
END:VEVENT
BEGIN:VEVENT
DTSTAMP:20260419T214452Z
UID:5a67fdfd-b394-46a5-9574-006b92e505c9
DTSTART:20260521T170000
DTEND:20260521T220000
DESCRIPTION:
LOCATION:Judson ISD Educational Resource Center\, 8205 Palisades Dr\, Live 
 Oak\, Tx\, 78233
SUMMARY:Regular Board Meeting 
END:VEVENT
BEGIN:VEVENT
DTSTAMP:20260419T214452Z
UID:324a107b-d3c0-4172-b3a6-d500f189b464
DTSTART;VALUE=DATE:20260525
DTEND;VALUE=DATE:20260526
DESCRIPTION:
LOCATION:
SUMMARY:Staff & Student Holiday
END:VEVENT
BEGIN:VEVENT
DTSTAMP:20260419T214452Z
UID:8ce0230b-cd8d-4895-8cc9-5b8d0ad8cff0
DTSTART:20260526T190000
DTEND:20260526T203000
DESCRIPTION:
LOCATION:8700 Fourwinds Dr\, Windcrest\, TX 78239\, USA
SUMMARY:JECA Graduation 
END:VEVENT
BEGIN:VEVENT
DTSTAMP:20260419T214452Z
UID:445d6770-5f32-43d8-9446-f947bf35b6a7
DTSTART;VALUE=DATE:20260528
DTEND;VALUE=DATE:20260529
DESCRIPTION:
LOCATION:
SUMMARY:Early Release
END:VEVENT
BEGIN:VEVENT
DTSTAMP:20260419T214452Z
UID:8e942072-50d0-45c4-821d-b6dbd0dfe2ac
DTSTART:20260528T190000
DTEND:20260528T203000
DESCRIPTION:
LOCATION:8700 Fourwinds Dr\, Windcrest\, TX 78239\, USA
SUMMARY:JLA Graduation
END:VEVENT
BEGIN:VEVENT
DTSTAMP:20260419T214452Z
UID:e180d623-c80a-4300-99ab-a37d8e2d084d
DTSTART;VALUE=DATE:20260529
DTEND;VALUE=DATE:20260530
DESCRIPTION:
LOCATION:
SUMMARY:Teacher Prep & Planning
END:VEVENT
BEGIN:VEVENT
DTSTAMP:20260419T214452Z
UID:00c02a96-48ff-4030-aa8e-abf98b0d6e4e
DTSTART:20260530T090000
DTEND:20260530T110000
DESCRIPTION:
LOCATION:Freeman Coliseum 3201 E Houston St\, San Antonio\, TX 78219\, USA
SUMMARY:Karen Wagner High School Graduation
END:VEVENT
BEGIN:VEVENT
DTSTAMP:20260419T214452Z
UID:033a6faf-b841-45da-b260-bc38fd0b02f1
DTSTART:20260530T140000
DTEND:20260530T160000
DESCRIPTION:
LOCATION:Freeman Coliseum 3201 E Houston St\, San Antonio\, TX 78219\, USA
SUMMARY:Judson High School Graduation
END:VEVENT
BEGIN:VEVENT
DTSTAMP:20260419T214452Z
UID:65d6d27a-0e2e-4444-90ce-a1432f610f8c
DTSTART:20260530T190000
DTEND:20260530T210000
DESCRIPTION:
LOCATION:Freeman Coliseum 3201 E Houston St\, San Antonio\, TX 78219\, USA
SUMMARY:Veterans Memorial High School Graduation
END:VEVENT
BEGIN:VEVENT
DTSTAMP:20260419T214452Z
UID:4c200515-31e5-48f7-a57e-04928175342f
DTSTART;VALUE=DATE:20260619
DTEND;VALUE=DATE:20260620
DESCRIPTION:
LOCATION:
SUMMARY:Staff & Student Holiday
END:VEVENT
BEGIN:VEVENT
DTSTAMP:20260419T214452Z
UID:7e1a9693-b2fe-45f2-bca3-375542e4cba6
DTSTART:20260625T170000
DTEND:20260625T220000
DESCRIPTION:
LOCATION:Judson ISD Educational Resource Center\, 8205 Palisades Dr\, Live 
 Oak\, Tx\, 78233
SUMMARY:Regular Board Meeting 
END:VEVENT
END:VCALENDAR
