BEGIN:VCALENDAR
VERSION:2.0
PRODID:icalendar-ruby
CALSCALE:GREGORIAN
BEGIN:VTIMEZONE
TZID:America/Chicago
BEGIN:DAYLIGHT
DTSTART:20260308T030000
TZOFFSETFROM:-0600
TZOFFSETTO:-0500
RRULE:FREQ=YEARLY;BYDAY=2SU;BYMONTH=3
TZNAME:CDT
END:DAYLIGHT
BEGIN:STANDARD
DTSTART:20261101T010000
TZOFFSETFROM:-0500
TZOFFSETTO:-0600
RRULE:FREQ=YEARLY;BYDAY=1SU;BYMONTH=11
TZNAME:CST
END:STANDARD
END:VTIMEZONE
BEGIN:VEVENT
DTSTAMP:20260421T073404Z
UID:a0a112a4-f8bd-4ead-ac3a-f722988469f9
DTSTART:20260421T080000
DTEND:20260421T120000
DESCRIPTION:
LOCATION:
SUMMARY:Algebra I EOC
END:VEVENT
BEGIN:VEVENT
DTSTAMP:20260421T073404Z
UID:a1133e6d-e08d-4f3c-9e29-c1e6cafe516d
DTSTART;VALUE=DATE:20260424
DTEND;VALUE=DATE:20260425
DESCRIPTION:<p>No school today</p>
LOCATION:
SUMMARY:School Holiday
END:VEVENT
BEGIN:VEVENT
DTSTAMP:20260421T073404Z
UID:c0c006c5-53e7-4d03-8bb1-4882464bc6f8
DTSTART;VALUE=DATE:20260505
DTEND;VALUE=DATE:20260506
DESCRIPTION:
LOCATION:
SUMMARY:AP Human Geography Exam
END:VEVENT
BEGIN:VEVENT
DTSTAMP:20260421T073404Z
UID:15c2566e-14a6-42fd-8bb9-b30c123bce25
DTSTART:20260508T080000
DTEND:20260508T120000
DESCRIPTION:
LOCATION:
SUMMARY:Earned Release Friday
END:VEVENT
BEGIN:VEVENT
DTSTAMP:20260421T073404Z
UID:6c816f92-99f8-4995-a8e2-3dd4f6e95e69
DTSTART;VALUE=DATE:20260511
DTEND;VALUE=DATE:20260512
DESCRIPTION:
LOCATION:
SUMMARY:AP Calculus Exam
END:VEVENT
BEGIN:VEVENT
DTSTAMP:20260421T073404Z
UID:a910212a-b985-4cbf-baa5-a815c206e3f5
DTSTART;VALUE=DATE:20260511
DTEND;VALUE=DATE:20260515
DESCRIPTION:
LOCATION:
SUMMARY:SAC semester Exams window
END:VEVENT
BEGIN:VEVENT
DTSTAMP:20260421T073404Z
UID:90157a1b-1254-4c23-ad53-e8c75b7cf8fd
DTSTART;VALUE=DATE:20260511
DTEND;VALUE=DATE:20260523
DESCRIPTION:
LOCATION:
SUMMARY:Travis ECHS APA and Semester Exam Window
END:VEVENT
BEGIN:VEVENT
DTSTAMP:20260421T073404Z
UID:64674658-b2cf-483e-9718-af13818ee097
DTSTART:20260520T180000
DTEND:20260520T210000
DESCRIPTION:<p>SAC graduation. For more info see SAC website: <a target="_b
 lank" rel="noopener noreferrer nofollow" href="https://www.alamo.edu/sac/e
 xperience-sac/current-students/graduation/graduation-commencement-ceremony
 /">https://www.alamo.edu/sac/experience-sac/current-students/graduation/gr
 aduation-commencement-ceremony/</a></p>
LOCATION:100 Montana St Suite 310 Lot A\, San Antonio\, TX 78203\, USA
SUMMARY:SAC Graduation
END:VEVENT
BEGIN:VEVENT
DTSTAMP:20260421T073404Z
UID:a80c2996-80ad-4cdc-b3c3-9e903c7cb350
DTSTART;VALUE=DATE:20260525
DTEND;VALUE=DATE:20260526
DESCRIPTION:<p>No School Today</p>
LOCATION:
SUMMARY:School Holiday
END:VEVENT
BEGIN:VEVENT
DTSTAMP:20260421T073404Z
UID:93a1fa40-afc8-4ead-b26b-169bbf9a0cc6
DTSTART;VALUE=DATE:20260528
DTEND;VALUE=DATE:20260529
DESCRIPTION:<p>Last day of school</p>
LOCATION:
SUMMARY:Last Day of School
END:VEVENT
END:VCALENDAR
