BEGIN:VCALENDAR
VERSION:2.0
PRODID:icalendar-ruby
CALSCALE:GREGORIAN
BEGIN:VTIMEZONE
TZID:America/Chicago
BEGIN:DAYLIGHT
DTSTART:20260308T030000
TZOFFSETFROM:-0600
TZOFFSETTO:-0500
RRULE:FREQ=YEARLY;BYDAY=2SU;BYMONTH=3
TZNAME:CDT
END:DAYLIGHT
BEGIN:STANDARD
DTSTART:20261101T010000
TZOFFSETFROM:-0500
TZOFFSETTO:-0600
RRULE:FREQ=YEARLY;BYDAY=1SU;BYMONTH=11
TZNAME:CST
END:STANDARD
END:VTIMEZONE
BEGIN:VEVENT
DTSTAMP:20260425T115557Z
UID:1f3b8766-7d0b-4cad-acb2-b530008df906
DTSTART;VALUE=DATE:20260428
DTEND;VALUE=DATE:20260521
DESCRIPTION:
LOCATION:
SUMMARY:DP Exams 
END:VEVENT
BEGIN:VEVENT
DTSTAMP:20260425T115557Z
UID:8bf5c8d9-bada-4ec0-942d-cd28a3466cba
DTSTART:20260429T180000
DTEND:20260429T200000
DESCRIPTION:
LOCATION:
SUMMARY:SAISD Police Town Hall
END:VEVENT
BEGIN:VEVENT
DTSTAMP:20260425T115557Z
UID:b0212505-1390-4e74-aa84-3ce9ae314e7b
DTSTART;VALUE=DATE:20260501
DTEND;VALUE=DATE:20260502
DESCRIPTION:
LOCATION:
SUMMARY:TSIA Testing 
END:VEVENT
BEGIN:VEVENT
DTSTAMP:20260425T115557Z
UID:f7c2d1e5-24f6-490b-abe9-b1cdccd64b18
DTSTART:20260504T180000
DTEND:20260504T193000
DESCRIPTION:
LOCATION:
SUMMARY:Head of School Huddle (Parent Meeting) 
END:VEVENT
BEGIN:VEVENT
DTSTAMP:20260425T115557Z
UID:5c27854c-7684-4d7a-82c6-36e4a26a89e5
DTSTART:20260505T090000
DTEND:20260505T120000
DESCRIPTION:
LOCATION:
SUMMARY:AP Human Geography Exam
END:VEVENT
BEGIN:VEVENT
DTSTAMP:20260425T115557Z
UID:46666aac-88a7-43a2-9392-28b1faa44737
DTSTART:20260507T090000
DTEND:20260507T120000
DESCRIPTION:
LOCATION:
SUMMARY:AP World History 
END:VEVENT
BEGIN:VEVENT
DTSTAMP:20260425T115557Z
UID:3349d58e-7ee4-429b-b548-7d292f5da656
DTSTART:20260507T090000
DTEND:20260507T100000
DESCRIPTION:
LOCATION:
SUMMARY:Head of School Huddle (Parent Meeting) 
END:VEVENT
BEGIN:VEVENT
DTSTAMP:20260425T115557Z
UID:9606b1cf-2f19-4607-982d-df2e1b192b8e
DTSTART:20260508T180000
DTEND:20260508T210000
DESCRIPTION:
LOCATION:
SUMMARY:Athletic Banquet
END:VEVENT
BEGIN:VEVENT
DTSTAMP:20260425T115557Z
UID:844d2b4d-d81e-4b33-8c08-f0508c885582
DTSTART;VALUE=DATE:20260511
DTEND;VALUE=DATE:20260516
DESCRIPTION:
LOCATION:
SUMMARY:Senior & APA Exam Week 
END:VEVENT
BEGIN:VEVENT
DTSTAMP:20260425T115557Z
UID:a6c29b88-a714-433d-9eda-ccfd49a8d61f
DTSTART:20260513T120000
DTEND:20260513T160000
DESCRIPTION:
LOCATION:
SUMMARY:AP  Spanish Literature Exam 
END:VEVENT
BEGIN:VEVENT
DTSTAMP:20260425T115557Z
UID:8f5df54a-2390-4d16-9f18-a53bdc7b9b54
DTSTART:20260513T180000
DTEND:20260513T200000
DESCRIPTION:
LOCATION:
SUMMARY:Jeff on Parade 
END:VEVENT
BEGIN:VEVENT
DTSTAMP:20260425T115557Z
UID:43944f2f-1685-4903-a689-4306fb354c5c
DTSTART:20260514T090000
DTEND:20260514T120000
DESCRIPTION:
LOCATION:
SUMMARY:AP Spanish Language 
END:VEVENT
BEGIN:VEVENT
DTSTAMP:20260425T115557Z
UID:99483874-2d24-4fe0-812a-ac3d01cda122
DTSTART:20260514T120000
DTEND:20260514T160000
DESCRIPTION:
LOCATION:
SUMMARY:AP Computer Science 
END:VEVENT
BEGIN:VEVENT
DTSTAMP:20260425T115557Z
UID:50e54b6c-0170-4975-ba6d-66c42f9f0ca3
DTSTART:20260515T140000
DTEND:20260515T170000
DESCRIPTION:
LOCATION:
SUMMARY:ALE Prom 
END:VEVENT
BEGIN:VEVENT
DTSTAMP:20260425T115557Z
UID:5d5e5818-f0f1-416e-a49a-e4d0253bd6b7
DTSTART:20260519T180000
DTEND:20260519T190000
DESCRIPTION:
LOCATION:
SUMMARY:Choir Concert 
END:VEVENT
BEGIN:VEVENT
DTSTAMP:20260425T115557Z
UID:20ff1d92-755d-472e-b4ac-0e3bdca7bf2a
DTSTART:20260520T183000
DTEND:20260520T200000
DESCRIPTION:
LOCATION:
SUMMARY:Mariachi Concert 
END:VEVENT
BEGIN:VEVENT
DTSTAMP:20260425T115557Z
UID:75c4e339-bf5d-412d-b0a8-841980d12591
DTSTART;VALUE=DATE:20260525
DTEND;VALUE=DATE:20260526
DESCRIPTION:
LOCATION:
SUMMARY:District Holiday
END:VEVENT
BEGIN:VEVENT
DTSTAMP:20260425T115557Z
UID:89309727-dc88-44b8-a56a-4254ab0dcce1
DTSTART:20260526T100000
DTEND:20260526T110000
DESCRIPTION:
LOCATION:
SUMMARY:Senior Panoramic Pictures 
END:VEVENT
BEGIN:VEVENT
DTSTAMP:20260425T115557Z
UID:fd91bf58-5d64-4a15-8764-8ae77c5c0c2d
DTSTART;VALUE=DATE:20260528
DTEND;VALUE=DATE:20260529
DESCRIPTION:
LOCATION:
SUMMARY:Last Day of School
END:VEVENT
BEGIN:VEVENT
DTSTAMP:20260425T115557Z
UID:f8309ddb-ff99-4b79-b953-80d84b344953
DTSTART;VALUE=DATE:20260529
DTEND;VALUE=DATE:20260530
DESCRIPTION:
LOCATION:
SUMMARY:Student Holiday | Teacher Planning Time
END:VEVENT
BEGIN:VEVENT
DTSTAMP:20260425T115557Z
UID:0699befe-b3a0-41e5-b346-aa2ec860957b
DTSTART:20260605T100000
DTEND:20260605T120000
DESCRIPTION:
LOCATION:3201 E Houston St\, San Antonio\, TX 78219\, USA
SUMMARY:Graduation
END:VEVENT
BEGIN:VEVENT
DTSTAMP:20260425T115557Z
UID:cf72fca5-c44d-4705-997d-2c54117a086f
DTSTART;VALUE=DATE:20260619
DTEND;VALUE=DATE:20260620
DESCRIPTION:
LOCATION:
SUMMARY:District Holiday
END:VEVENT
BEGIN:VEVENT
DTSTAMP:20260425T115557Z
UID:d6e984e3-f169-44ff-bab5-d100c76944b7
DTSTART;VALUE=DATE:20260629
DTEND;VALUE=DATE:20260704
DESCRIPTION:
LOCATION:
SUMMARY:District Holiday
END:VEVENT
END:VCALENDAR
