BEGIN:VCALENDAR
VERSION:2.0
PRODID:icalendar-ruby
CALSCALE:GREGORIAN
BEGIN:VTIMEZONE
TZID:America/Chicago
BEGIN:DAYLIGHT
DTSTART:20260308T030000
TZOFFSETFROM:-0600
TZOFFSETTO:-0500
RRULE:FREQ=YEARLY;BYDAY=2SU;BYMONTH=3
TZNAME:CDT
END:DAYLIGHT
BEGIN:STANDARD
DTSTART:20261101T010000
TZOFFSETFROM:-0500
TZOFFSETTO:-0600
RRULE:FREQ=YEARLY;BYDAY=1SU;BYMONTH=11
TZNAME:CST
END:STANDARD
END:VTIMEZONE
BEGIN:VEVENT
DTSTAMP:20260426T011634Z
UID:180b0485-7415-49bc-a5bd-c6c3e342f7b3
DTSTART:20260508T113000
DTEND:20260508T123000
DESCRIPTION:
LOCATION:
SUMMARY:Early Dismissal - 11:30 School Improvement
END:VEVENT
BEGIN:VEVENT
DTSTAMP:20260426T011634Z
UID:d2faf2a6-92e1-4f29-928e-de3b79f61cf1
DTSTART;VALUE=DATE:20260521
DTEND;VALUE=DATE:20260522
DESCRIPTION:
LOCATION:
SUMMARY:End of 4th Quarter
END:VEVENT
BEGIN:VEVENT
DTSTAMP:20260426T011634Z
UID:86f75d62-4b01-4862-9720-aa918ea3e542
DTSTART;VALUE=DATE:20260521
DTEND;VALUE=DATE:20260522
DESCRIPTION:
LOCATION:
SUMMARY:Last Day of Student Attendance
END:VEVENT
BEGIN:VEVENT
DTSTAMP:20260426T011634Z
UID:44902f46-da3b-4fa9-bb32-06a1112a11ed
DTSTART;VALUE=DATE:20260522
DTEND;VALUE=DATE:20260523
DESCRIPTION:
LOCATION:
SUMMARY:No School – Teacher's Institute
END:VEVENT
BEGIN:VEVENT
DTSTAMP:20260426T011634Z
UID:c08a4925-81ae-4ee0-866d-c310a7313ffd
DTSTART;VALUE=DATE:20260525
DTEND;VALUE=DATE:20260526
DESCRIPTION:
LOCATION:
SUMMARY:No School – Memorial Day
END:VEVENT
END:VCALENDAR
