BEGIN:VCALENDAR
VERSION:2.0
PRODID:icalendar-ruby
CALSCALE:GREGORIAN
BEGIN:VTIMEZONE
TZID:America/Los_Angeles
BEGIN:DAYLIGHT
DTSTART:20260308T030000
TZOFFSETFROM:-0800
TZOFFSETTO:-0700
RRULE:FREQ=YEARLY;BYDAY=2SU;BYMONTH=3
TZNAME:PDT
END:DAYLIGHT
BEGIN:STANDARD
DTSTART:20261101T010000
TZOFFSETFROM:-0700
TZOFFSETTO:-0800
RRULE:FREQ=YEARLY;BYDAY=1SU;BYMONTH=11
TZNAME:PST
END:STANDARD
END:VTIMEZONE
BEGIN:VEVENT
DTSTAMP:20260424T135547Z
UID:cc110c71-44aa-476a-aaa0-d7b6748ab88c
DTSTART:20260413T074500
DTEND:20260501T091500
DESCRIPTION:
LOCATION:Bautista Creek Master Calendar
SUMMARY:SBAC testing 
END:VEVENT
BEGIN:VEVENT
DTSTAMP:20260424T135547Z
UID:aaa4948f-a224-492a-9383-2c2654cfae9a
DTSTART;VALUE=DATE:20260427
DTEND;VALUE=DATE:20260502
DESCRIPTION:
LOCATION:
SUMMARY:Arts Integration Week
END:VEVENT
BEGIN:VEVENT
DTSTAMP:20260424T135547Z
UID:731310d5-5cfc-45dd-bd82-a7134d49ee91
DTSTART:20260428T160000
DTEND:20260428T170000
DESCRIPTION:
LOCATION:
SUMMARY:ELOP Parent meeting
END:VEVENT
BEGIN:VEVENT
DTSTAMP:20260424T135547Z
UID:4544c2e3-4304-4061-a865-1ea91b2b97db
DTSTART:20260429T123000
DTEND:20260429T135000
DESCRIPTION:Agenda\;<br><ul><li>Watch Dogs Update (10 minute)</li></ul>
LOCATION:
SUMMARY:Staff Meeting
END:VEVENT
BEGIN:VEVENT
DTSTAMP:20260424T135547Z
UID:c4f55a66-7a19-494c-a5d7-e45e42ba7a02
DTSTART:20260430T133000
DTEND:20260430T134500
DESCRIPTION:
LOCATION:
SUMMARY:Fire Drill/Evacation
END:VEVENT
BEGIN:VEVENT
DTSTAMP:20260424T135547Z
UID:96828bcb-1fb1-4834-924a-366074645a7f
DTSTART:20260430T160000
DTEND:20260430T170000
DESCRIPTION:
LOCATION:
SUMMARY:ELOP Parent Meeting
END:VEVENT
BEGIN:VEVENT
DTSTAMP:20260424T135547Z
UID:c2ccf65d-2c87-4790-b77e-3400ca080bb7
DTSTART:20260430T163000
DTEND:20260430T180000
DESCRIPTION:
LOCATION:
SUMMARY:Family Math Night 
END:VEVENT
BEGIN:VEVENT
DTSTAMP:20260424T135547Z
UID:f7712cb9-5694-4a88-bd6c-8a820db490dd
DTSTART:20260501T000000
DTEND:20260502T000000
DESCRIPTION:
LOCATION:
SUMMARY:LISSS & Lit District Office
END:VEVENT
BEGIN:VEVENT
DTSTAMP:20260424T135547Z
UID:563782fd-c79e-44da-a5da-2546a7bb0855
DTSTART:20260501T074500
DTEND:20260501T080000
DESCRIPTION:
LOCATION:
SUMMARY:Friday Flag- Honesty
END:VEVENT
BEGIN:VEVENT
DTSTAMP:20260424T135547Z
UID:7a8c9c60-c774-4a9f-a94d-05433b08ecec
DTSTART:20260504T000000
DTEND:20260505T000000
DESCRIPTION:
LOCATION:
SUMMARY:Mulligan's - 5th
END:VEVENT
BEGIN:VEVENT
DTSTAMP:20260424T135547Z
UID:fb825742-a846-43e5-88a9-7bd9fcf75506
DTSTART:20260504T000000
DTEND:20260509T000000
DESCRIPTION:
LOCATION:
SUMMARY:Teacher Appreciation 
END:VEVENT
BEGIN:VEVENT
DTSTAMP:20260424T135547Z
UID:102b4d96-7a89-4a44-94af-51b06adf909a
DTSTART:20260505T100000
DTEND:20260506T110000
DESCRIPTION:This BMX Showcase assembly is for those students who had 100% a
 ttendance the weeks of April 13th and April 20th. Lori will be sending out
  a list the week of April 27th with student names. Please hype up your stu
 dents for this fun event!
LOCATION:
SUMMARY:SBAC 100% Attendance Assembly 
END:VEVENT
BEGIN:VEVENT
DTSTAMP:20260424T135547Z
UID:ef859531-6eb6-4886-ac96-7345c33838e5
DTSTART:20260506T123000
DTEND:20260506T135000
DESCRIPTION:
LOCATION:
SUMMARY:SLDC
END:VEVENT
BEGIN:VEVENT
DTSTAMP:20260424T135547Z
UID:f017f934-d934-4c17-8899-f4f39248a082
DTSTART:20260507T053000
DTEND:20260507T063000
DESCRIPTION:
LOCATION:
SUMMARY:4TH GRADE - Mission San Louis Rey - 
END:VEVENT
BEGIN:VEVENT
DTSTAMP:20260424T135547Z
UID:0f2464c3-7659-44d8-afdd-a2741709ed5e
DTSTART:20260507T081500
DTEND:20260507T083000
DESCRIPTION:
LOCATION:Bautista Creek Master Calendar
SUMMARY:Shelter In Place Drill
END:VEVENT
BEGIN:VEVENT
DTSTAMP:20260424T135547Z
UID:73adbd62-04d5-42ea-a6fd-7e0da88d73d9
DTSTART:20260508T000000
DTEND:20260509T000000
DESCRIPTION:
LOCATION:
SUMMARY:LISSS & Lit District Office
END:VEVENT
BEGIN:VEVENT
DTSTAMP:20260424T135547Z
UID:43e3e985-7003-4d9a-b027-7b5c762aa96e
DTSTART:20260508T080000
DTEND:20260508T090000
DESCRIPTION:
LOCATION:
SUMMARY:TK - Mother's Day Tea
END:VEVENT
BEGIN:VEVENT
DTSTAMP:20260424T135547Z
UID:1cf4d85c-7805-43d8-a854-5e8134fdefe8
DTSTART:20260511T000000
DTEND:20260512T000000
DESCRIPTION:
LOCATION:
SUMMARY:5th - Riley's Farm
END:VEVENT
BEGIN:VEVENT
DTSTAMP:20260424T135547Z
UID:2f2772b2-3353-4d90-a847-f9472391f7c1
DTSTART:20260512T000000
DTEND:20260513T000000
DESCRIPTION:
LOCATION:
SUMMARY:Elementary Track Meet 
END:VEVENT
BEGIN:VEVENT
DTSTAMP:20260424T135547Z
UID:f376d0c4-ff53-4a9f-acf6-6c525c491a54
DTSTART:20260512T163000
DTEND:20260512T173000
DESCRIPTION:
LOCATION:
SUMMARY:4th Grade "Gold Dust or Bust" 
END:VEVENT
BEGIN:VEVENT
DTSTAMP:20260424T135547Z
UID:1fb7d5d2-e004-47e4-9065-ec668bf9c17c
DTSTART:20260513T080000
DTEND:20260513T150000
DESCRIPTION:
LOCATION:District office 
SUMMARY:Reading Interventionist Meeting 
END:VEVENT
BEGIN:VEVENT
DTSTAMP:20260424T135547Z
UID:804ba75d-d6cc-4909-b098-e00300c05fa0
DTSTART:20260513T123000
DTEND:20260513T135000
DESCRIPTION:
LOCATION:
SUMMARY:Teacher Collaboration 
END:VEVENT
BEGIN:VEVENT
DTSTAMP:20260424T135547Z
UID:39b6fe98-791e-4666-92b9-f51001b19840
DTSTART:20260514T000000
DTEND:20260515T000000
DESCRIPTION:
LOCATION:
SUMMARY:3rd Grade - March AFB 
END:VEVENT
BEGIN:VEVENT
DTSTAMP:20260424T135547Z
UID:3c6aedeb-70b1-4e6a-81c2-068794482a3b
DTSTART:20260514T000000
DTEND:20260515T000000
DESCRIPTION:
LOCATION:
SUMMARY:PTO Fun Assembly 
END:VEVENT
BEGIN:VEVENT
DTSTAMP:20260424T135547Z
UID:eb9ff43e-ea54-47da-b63a-0e5c548b3254
DTSTART:20260519T000000
DTEND:20260520T000000
DESCRIPTION:8:00 1st\, Palmer\, Norman\n8:30 3rd\, De La Rosa\n9:00 Kinder\
 , Donth
LOCATION:
SUMMARY:Awards - 1st\, 3rd\, K
END:VEVENT
BEGIN:VEVENT
DTSTAMP:20260424T135547Z
UID:4149efa4-103e-473d-aaae-ed0e6034838b
DTSTART:20260519T000000
DTEND:20260520T000000
DESCRIPTION:
LOCATION:
SUMMARY:Bear Pride Prize Shop
END:VEVENT
BEGIN:VEVENT
DTSTAMP:20260424T135547Z
UID:46bb42e4-f0b4-4833-be5b-54a1c2b42a23
DTSTART:20260519T083000
DTEND:20260519T133000
DESCRIPTION:
LOCATION:
SUMMARY:Band Field Trip - HHS
END:VEVENT
BEGIN:VEVENT
DTSTAMP:20260424T135547Z
UID:b11638c9-1b62-4501-8268-fdbfa073d5a7
DTSTART:20260519T183000
DTEND:20260519T193000
DESCRIPTION:
LOCATION:
SUMMARY:Band Concert HHS
END:VEVENT
BEGIN:VEVENT
DTSTAMP:20260424T135547Z
UID:412cf9d0-decd-4dcd-a7e7-9383319f048f
DTSTART:20260520T000000
DTEND:20260521T000000
DESCRIPTION:8:00  - 4th\,Bandur\n8:30 - 2nd\, Carmean\n9:00 - TK McCracken
LOCATION:
SUMMARY:Awards - 4th \,2nd \,TK 
END:VEVENT
BEGIN:VEVENT
DTSTAMP:20260424T135547Z
UID:2b3cdaff-1ddf-40f0-bf2f-d558e41ec221
DTSTART:20260520T000000
DTEND:20260521T000000
DESCRIPTION:
LOCATION:
SUMMARY:Bear Pride Prize Shop
END:VEVENT
BEGIN:VEVENT
DTSTAMP:20260424T135547Z
UID:d7970e4f-0f3a-4adb-a594-9ab85ca18519
DTSTART:20260520T123000
DTEND:20260520T135000
DESCRIPTION:
LOCATION:
SUMMARY:Teacher Collaboration 
END:VEVENT
BEGIN:VEVENT
DTSTAMP:20260424T135547Z
UID:696ac72c-303b-4d05-befd-9cad6e49ef88
DTSTART:20260521T000000
DTEND:20260522T000000
DESCRIPTION:
LOCATION:
SUMMARY:Bear Pride Prize Shop
END:VEVENT
BEGIN:VEVENT
DTSTAMP:20260424T135547Z
UID:b2644da1-80ab-471e-8702-69b40c8ad393
DTSTART:20260521T133000
DTEND:20260521T134500
DESCRIPTION:
LOCATION:Bautista Creek Master Calendar
SUMMARY:Fire Drill/Evacuation
END:VEVENT
BEGIN:VEVENT
DTSTAMP:20260424T135547Z
UID:719c41f6-6644-4071-90ce-e50ea37ac63a
DTSTART:20260521T170000
DTEND:20260521T180000
DESCRIPTION:
LOCATION:
SUMMARY:Open House
END:VEVENT
BEGIN:VEVENT
DTSTAMP:20260424T135547Z
UID:cd5b4eeb-fc95-4235-8c89-c0417d5d4186
DTSTART:20260522T000000
DTEND:20260523T000000
DESCRIPTION:
LOCATION:
SUMMARY:5th Grade - BBQ and Final Color Wars
END:VEVENT
BEGIN:VEVENT
DTSTAMP:20260424T135547Z
UID:e6278a6f-254c-4d3c-b421-537393ac0db5
DTSTART:20260522T074500
DTEND:20260522T080000
DESCRIPTION:
LOCATION:
SUMMARY:Friday Flag- Courage
END:VEVENT
BEGIN:VEVENT
DTSTAMP:20260424T135547Z
UID:95213654-4d41-4582-9519-4b79ab1678e6
DTSTART:20260522T090000
DTEND:20260522T100000
DESCRIPTION:
LOCATION:
SUMMARY:Grad Walk 
END:VEVENT
BEGIN:VEVENT
DTSTAMP:20260424T135547Z
UID:10e666cf-ae17-41ea-b7df-c988c0f60182
DTSTART:20260526T080000
DTEND:20260526T140000
DESCRIPTION:
LOCATION:
SUMMARY:K- Garden Works
END:VEVENT
BEGIN:VEVENT
DTSTAMP:20260424T135547Z
UID:1f098dcf-63a1-416d-aa66-1c8c7e59b7e6
DTSTART:20260526T081500
DTEND:20260526T084500
DESCRIPTION:
LOCATION:
SUMMARY:Earthquake Drill/Evacuation 
END:VEVENT
BEGIN:VEVENT
DTSTAMP:20260424T135547Z
UID:fd86e3a0-e4ec-4f2e-b1c9-4cdb7cb220d8
DTSTART:20260526T094500
DTEND:20260526T114500
DESCRIPTION:
LOCATION:
SUMMARY:4th Grade Field Day -
END:VEVENT
BEGIN:VEVENT
DTSTAMP:20260424T135547Z
UID:685a2791-dccc-40ef-90a7-7020d4033d80
DTSTART:20260527T074500
DTEND:20260527T091500
DESCRIPTION:
LOCATION:
SUMMARY:2nd grade outdoor playday
END:VEVENT
BEGIN:VEVENT
DTSTAMP:20260424T135547Z
UID:3388b6ba-b669-4bcc-b833-d8ab8ab282e3
DTSTART:20260527T123000
DTEND:20260527T150000
DESCRIPTION:
LOCATION:
SUMMARY:AttenDance Set Up (MPR)
END:VEVENT
BEGIN:VEVENT
DTSTAMP:20260424T135547Z
UID:a45d58d8-4840-4baa-b34a-a39ba6f1e8e7
DTSTART:20260527T123000
DTEND:20260527T135000
DESCRIPTION:
LOCATION:
SUMMARY:SLDC
END:VEVENT
BEGIN:VEVENT
DTSTAMP:20260424T135547Z
UID:787c877e-b37c-4471-8760-b74c11b1c7f0
DTSTART:20260528T000000
DTEND:20260529T000000
DESCRIPTION:
LOCATION:
SUMMARY:5th Grade - Promotion Practice
END:VEVENT
BEGIN:VEVENT
DTSTAMP:20260424T135547Z
UID:9cfcbfb6-bb96-4133-afbe-6c2a48a78906
DTSTART:20260528T000000
DTEND:20260529T000000
DESCRIPTION:TK- 2: 8-8:50AM\n3-5: 1 -1:50PM
LOCATION:MPR
SUMMARY:AttenDance 
END:VEVENT
BEGIN:VEVENT
DTSTAMP:20260424T135547Z
UID:46660dd2-0a93-4f16-ac00-fe5fe8e154f7
DTSTART:20260528T000000
DTEND:20260529T000000
DESCRIPTION:
LOCATION:
SUMMARY:LISSS & Lit District Office
END:VEVENT
BEGIN:VEVENT
DTSTAMP:20260424T135547Z
UID:56915658-a983-4276-9691-e841adcf18f7
DTSTART:20260528T133000
DTEND:20260528T140000
DESCRIPTION:
LOCATION:Bautista Creek Master Calendar
SUMMARY:Earthquake Drill w/Evacuation
END:VEVENT
BEGIN:VEVENT
DTSTAMP:20260424T135547Z
UID:508869de-7026-4685-8523-bf5d54b3baf4
DTSTART:20260529T000000
DTEND:20260530T000000
DESCRIPTION:
LOCATION:
SUMMARY:Report Cards to Admin
END:VEVENT
BEGIN:VEVENT
DTSTAMP:20260424T135547Z
UID:3ce11ed8-e994-4bcf-9419-b7c7a115e3f9
DTSTART:20260529T081500
DTEND:20260529T091500
DESCRIPTION:
LOCATION:
SUMMARY:Staff vs. Student Kickball Game 
END:VEVENT
BEGIN:VEVENT
DTSTAMP:20260424T135547Z
UID:1ac7ea6d-5b79-4fa4-a0c4-6d78ed240bf1
DTSTART:20260529T100000
DTEND:20260529T120000
DESCRIPTION:
LOCATION:
SUMMARY:Field Day - 5th
END:VEVENT
BEGIN:VEVENT
DTSTAMP:20260424T135547Z
UID:a53f0964-fb13-4a53-8f3e-8cb0d9381ad1
DTSTART:20260529T110000
DTEND:20260529T130000
DESCRIPTION:
LOCATION:
SUMMARY:Kinder Field Day on K Grass & Playground 
END:VEVENT
BEGIN:VEVENT
DTSTAMP:20260424T135547Z
UID:87f8c16c-504c-416d-817b-72fd0bdf2cdc
DTSTART:20260601T000000
DTEND:20260602T000000
DESCRIPTION:
LOCATION:
SUMMARY:Report Cards Due to Admin 
END:VEVENT
BEGIN:VEVENT
DTSTAMP:20260424T135547Z
UID:64942e3c-d117-4e56-8981-1909d3150027
DTSTART:20260601T074500
DTEND:20260601T101500
DESCRIPTION:
LOCATION:
SUMMARY:1st Grade Play Day 
END:VEVENT
BEGIN:VEVENT
DTSTAMP:20260424T135547Z
UID:918d2c36-6a8f-4121-81b5-cb6d26f7570a
DTSTART:20260601T080000
DTEND:20260601T093000
DESCRIPTION:
LOCATION:
SUMMARY:5th Grade -  Promotion Rehearsal
END:VEVENT
BEGIN:VEVENT
DTSTAMP:20260424T135547Z
UID:f44bd4e8-729a-421c-9d1f-036a9c07b9b5
DTSTART:20260601T093000
DTEND:20260601T110000
DESCRIPTION:
LOCATION:
SUMMARY:3rd Grade Play Day
END:VEVENT
BEGIN:VEVENT
DTSTAMP:20260424T135547Z
UID:6b2f0039-ddaf-4381-8165-80d7ab55ce37
DTSTART:20260602T000000
DTEND:20260603T000000
DESCRIPTION:
LOCATION:
SUMMARY:5th - Grade Promotion
END:VEVENT
BEGIN:VEVENT
DTSTAMP:20260424T135547Z
UID:7b0231ad-6a7b-4edc-b1d6-102173936cee
DTSTART:20260602T000000
DTEND:20260603T000000
DESCRIPTION:
LOCATION:
SUMMARY:Q4- ends
END:VEVENT
BEGIN:VEVENT
DTSTAMP:20260424T135547Z
UID:c85c4c6a-bc8d-4b35-a011-2496e90f6cd9
DTSTART:20260602T000000
DTEND:20260603T000000
DESCRIPTION:
LOCATION:
SUMMARY:Report Cards go home 
END:VEVENT
BEGIN:VEVENT
DTSTAMP:20260424T135547Z
UID:318f0923-bb84-44da-9184-4856c297abb7
DTSTART:20260602T063000
DTEND:20260602T073000
DESCRIPTION:
LOCATION:
SUMMARY:K-Promotion 8:00
END:VEVENT
BEGIN:VEVENT
DTSTAMP:20260424T135547Z
UID:df87b62c-9421-4dd6-a1b1-908ba053adb9
DTSTART:20260602T080000
DTEND:20260602T090000
DESCRIPTION:
LOCATION:
SUMMARY:TK EOY Celebration
END:VEVENT
BEGIN:VEVENT
DTSTAMP:20260424T135547Z
UID:bfc4e527-0f10-4839-b080-69539944ffdc
DTSTART:20260704T000000
DTEND:20260709T010000
DESCRIPTION:
LOCATION:
SUMMARY:Elections-MPR
END:VEVENT
BEGIN:VEVENT
DTSTAMP:20260424T135547Z
UID:94cfa815-1e86-4436-a716-16cc2de01bab
DTSTART:20260825T080000
DTEND:20260825T081500
DESCRIPTION:
LOCATION:
SUMMARY:Fire Drill #1/EQ Drill #1 
END:VEVENT
BEGIN:VEVENT
DTSTAMP:20260424T135547Z
UID:80f63366-e0f2-45c9-a5f2-321619ee2987
DTSTART:20260922T080000
DTEND:20260922T081500
DESCRIPTION:
LOCATION:
SUMMARY:Fire Drill #2/Lockdown Drill #1
END:VEVENT
BEGIN:VEVENT
DTSTAMP:20260424T135547Z
UID:c323eebd-36e5-4431-a9e6-61f4fcbf019c
DTSTART:20261020T080000
DTEND:20261020T081500
DESCRIPTION:
LOCATION:
SUMMARY:Fire Drill #3
END:VEVENT
BEGIN:VEVENT
DTSTAMP:20260424T135547Z
UID:03b166c4-1fdc-4121-b0f4-fc0266f5e00b
DTSTART:20261117T080000
DTEND:20261117T081500
DESCRIPTION:
LOCATION:
SUMMARY:Fire Drill #4/Earthquake #2
END:VEVENT
BEGIN:VEVENT
DTSTAMP:20260424T135547Z
UID:3bdfbd79-d646-43bb-8e25-97269f1fc02c
DTSTART:20261215T080000
DTEND:20261215T081500
DESCRIPTION:
LOCATION:
SUMMARY:Fire Drill #5
END:VEVENT
BEGIN:VEVENT
DTSTAMP:20260424T135547Z
UID:b01603f5-f1d5-46f0-87b5-682ff7947ab6
DTSTART:20270122T080000
DTEND:20270122T081500
DESCRIPTION:
LOCATION:
SUMMARY:Fire Drill #6/Shelter in Place Drill 
END:VEVENT
BEGIN:VEVENT
DTSTAMP:20260424T135547Z
UID:0f064c59-ef22-4f53-95a2-74510c3cb4bf
DTSTART:20270223T080000
DTEND:20270223T081500
DESCRIPTION:
LOCATION:
SUMMARY:Fire Drill #7/Earthquake Drill #3
END:VEVENT
BEGIN:VEVENT
DTSTAMP:20260424T135547Z
UID:ca026675-d577-4402-a9ea-022a0c044550
DTSTART:20270323T080000
DTEND:20270323T081500
DESCRIPTION:
LOCATION:
SUMMARY:Fire Drill #7/Lockdown Drill #2
END:VEVENT
BEGIN:VEVENT
DTSTAMP:20260424T135547Z
UID:8de1a7ad-f036-4241-bbb0-e0f0bc483f14
DTSTART:20270423T080000
DTEND:20270423T081500
DESCRIPTION:
LOCATION:
SUMMARY:Fire Drill #8
END:VEVENT
BEGIN:VEVENT
DTSTAMP:20260424T135547Z
UID:0fc9f006-1c69-4f7f-9587-2349e7e2245b
DTSTART:20270518T080000
DTEND:20270518T081500
DESCRIPTION:
LOCATION:
SUMMARY:Fire Drill #9/Earthquake #4
END:VEVENT
END:VCALENDAR
