BEGIN:VCALENDAR
VERSION:2.0
PRODID:icalendar-ruby
CALSCALE:GREGORIAN
BEGIN:VTIMEZONE
TZID:America/New_York
BEGIN:DAYLIGHT
DTSTART:20260308T030000
TZOFFSETFROM:-0500
TZOFFSETTO:-0400
RRULE:FREQ=YEARLY;BYDAY=2SU;BYMONTH=3
TZNAME:EDT
END:DAYLIGHT
BEGIN:STANDARD
DTSTART:20261101T010000
TZOFFSETFROM:-0400
TZOFFSETTO:-0500
RRULE:FREQ=YEARLY;BYDAY=1SU;BYMONTH=11
TZNAME:EST
END:STANDARD
END:VTIMEZONE
BEGIN:VEVENT
DTSTAMP:20260425T104619Z
UID:c97bf97a-790d-4438-8a1f-09b0f1e35e20
DTSTART:20260426T180000
DTEND:20260426T210000
DESCRIPTION:
LOCATION:CHS Media Center
SUMMARY:Corunna Athletic Club Meeting
END:VEVENT
BEGIN:VEVENT
DTSTAMP:20260425T104619Z
UID:fbe8752a-bc7b-4b40-afcc-89e4f1138b54
DTSTART;VALUE=DATE:20260501
DTEND;VALUE=DATE:20260502
DESCRIPTION:
LOCATION:
SUMMARY:No School
END:VEVENT
BEGIN:VEVENT
DTSTAMP:20260425T104619Z
UID:4d5851f1-9bed-44ab-b9b6-fbc0a4babb7f
DTSTART;VALUE=DATE:20260504
DTEND;VALUE=DATE:20260509
DESCRIPTION:
LOCATION:
SUMMARY:Staff Appreciation Week
END:VEVENT
BEGIN:VEVENT
DTSTAMP:20260425T104619Z
UID:69c4b427-8883-4400-80cb-f9cc069e2552
DTSTART;VALUE=DATE:20260506
DTEND;VALUE=DATE:20260507
DESCRIPTION:
LOCATION:
SUMMARY:4th Grade Field Trip Nature Awaits
END:VEVENT
BEGIN:VEVENT
DTSTAMP:20260425T104619Z
UID:19bbd637-c163-4994-a61d-f90b11332414
DTSTART;VALUE=DATE:20260506
DTEND;VALUE=DATE:20260507
DESCRIPTION:
LOCATION:
SUMMARY:6th Grade Camp Copneconic Trip
END:VEVENT
BEGIN:VEVENT
DTSTAMP:20260425T104619Z
UID:fc17ee41-bd34-469d-b987-fc15a1e6eb26
DTSTART:20260508T090000
DTEND:20260508T091500
DESCRIPTION:
LOCATION:
SUMMARY:Senior Graduation Walkthrough (approximately 9:00 a.m.)
END:VEVENT
BEGIN:VEVENT
DTSTAMP:20260425T104619Z
UID:86916de0-14a1-46db-b324-5e3689d0c780
DTSTART:20260511T094000
DTEND:20260511T101000
DESCRIPTION:
LOCATION:
SUMMARY:7th Grade Student Meeting - High School Student Council (9:40-10:10
 )
END:VEVENT
BEGIN:VEVENT
DTSTAMP:20260425T104619Z
UID:d69ce068-5a86-4520-9bd1-d0abe2544ef4
DTSTART;VALUE=DATE:20260514
DTEND;VALUE=DATE:20260515
DESCRIPTION:
LOCATION:
SUMMARY:Next Year 7th Grade Elective Choice Meeting - Cafeteria During WIN
END:VEVENT
BEGIN:VEVENT
DTSTAMP:20260425T104619Z
UID:153d336a-3d0d-497f-97e3-ba64fff10730
DTSTART;VALUE=DATE:20260515
DTEND;VALUE=DATE:20260516
DESCRIPTION:
LOCATION:
SUMMARY:All Media Center Books Due
END:VEVENT
BEGIN:VEVENT
DTSTAMP:20260425T104619Z
UID:3bc01287-80de-477d-a037-6cdae39636d0
DTSTART;VALUE=DATE:20260515
DTEND;VALUE=DATE:20260516
DESCRIPTION:
LOCATION:
SUMMARY:Next Year 6th Grade Elective Choice Meeting - Cafeteria During WIN
END:VEVENT
BEGIN:VEVENT
DTSTAMP:20260425T104619Z
UID:0a2d78b2-8446-4752-9e87-d605847dcd7b
DTSTART:20260518T180000
DTEND:20260518T210000
DESCRIPTION:
LOCATION:417 E King St\, Corunna\, MI 48817\, USA
SUMMARY:Board of Education Meeting
END:VEVENT
BEGIN:VEVENT
DTSTAMP:20260425T104619Z
UID:4049edfa-df13-401c-84e9-bea51924c833
DTSTART:20260519T080000
DTEND:20260519T090000
DESCRIPTION:
LOCATION:
SUMMARY:Mr. Montgomery and Shiawassee Scholars Visit with 7th graders durin
 g 1st Hour
END:VEVENT
BEGIN:VEVENT
DTSTAMP:20260425T104619Z
UID:0ff061c7-40b6-4789-bcbb-97b0467f7c06
DTSTART:20260520T124500
DTEND:20260520T140000
DESCRIPTION:
LOCATION:
SUMMARY:3rd Grade Visits CMS in the Afternoon
END:VEVENT
BEGIN:VEVENT
DTSTAMP:20260425T104619Z
UID:6858498a-4450-4beb-b4e4-c275eeed50db
DTSTART:20260520T124500
DTEND:20260520T140000
DESCRIPTION:
LOCATION:
SUMMARY:7th Grade PSAT Testing in the Morning/High School Visit in the Afte
 rnoon
END:VEVENT
BEGIN:VEVENT
DTSTAMP:20260425T104619Z
UID:214239be-b448-437f-9334-914dc9e9620f
DTSTART:20260520T180000
DTEND:20260520T184500
DESCRIPTION:
LOCATION:
SUMMARY:6th/7th Grade Art Show (6:00 p.m.)
END:VEVENT
BEGIN:VEVENT
DTSTAMP:20260425T104619Z
UID:fa169dac-2335-4719-9bda-a8ea81649370
DTSTART:20260521T180000
DTEND:20260521T200000
DESCRIPTION:
LOCATION:
SUMMARY:Marching Band Rehearsal (6th & 7th Grade Band) 6:00-8:00p.m
END:VEVENT
BEGIN:VEVENT
DTSTAMP:20260425T104619Z
UID:4a5c683e-3a61-4160-8256-61d557a1e715
DTSTART;VALUE=DATE:20260522
DTEND;VALUE=DATE:20260523
DESCRIPTION:
LOCATION:
SUMMARY:7th Grade Michigan’s Adventure Trip
END:VEVENT
BEGIN:VEVENT
DTSTAMP:20260425T104619Z
UID:033edeea-f226-4d70-9537-1410c4530f4f
DTSTART;VALUE=DATE:20260522
DTEND;VALUE=DATE:20260523
DESCRIPTION:
LOCATION:
SUMMARY:Deadline for House Points\, Grades for Awards\, Fines (Library and 
 Classroom)
END:VEVENT
BEGIN:VEVENT
DTSTAMP:20260425T104619Z
UID:85d11b24-9683-479f-9753-9ac3f8887c24
DTSTART;VALUE=DATE:20260525
DTEND;VALUE=DATE:20260526
DESCRIPTION:
LOCATION:
SUMMARY:Memorial Day-No School
END:VEVENT
BEGIN:VEVENT
DTSTAMP:20260425T104619Z
UID:86c6db11-2478-4aaf-b9e6-a2da65446094
DTSTART:20260525T090000
DTEND:20260525T103000
DESCRIPTION:
LOCATION:
SUMMARY:Memorial Day Parade - Band will Participate (9:00 a.m.)
END:VEVENT
BEGIN:VEVENT
DTSTAMP:20260425T104619Z
UID:b3cdd5f0-3727-45bb-bda4-b6fc6735b2f9
DTSTART;VALUE=DATE:20260527
DTEND;VALUE=DATE:20260528
DESCRIPTION:
LOCATION:
SUMMARY:6th Grade Field Trip- Camp
END:VEVENT
BEGIN:VEVENT
DTSTAMP:20260425T104619Z
UID:0e6e47d2-948a-4a18-82e4-013334ef425a
DTSTART;VALUE=DATE:20260528
DTEND;VALUE=DATE:20260529
DESCRIPTION:
LOCATION:
SUMMARY:5th Grade Greenfield Village Trip
END:VEVENT
BEGIN:VEVENT
DTSTAMP:20260425T104619Z
UID:2c4e149e-b0b1-4de8-96f0-172109556022
DTSTART:20260531T180000
DTEND:20260531T210000
DESCRIPTION:
LOCATION:CHS Media Center
SUMMARY:Corunna Athletic Club Meeting
END:VEVENT
BEGIN:VEVENT
DTSTAMP:20260425T104619Z
UID:6af48f19-6e9f-48fe-9144-6f6bc04ca441
DTSTART:20260602T080000
DTEND:20260602T090000
DESCRIPTION:
LOCATION:
SUMMARY:Yearbook Distribution to Those Who Pre-Purchased
END:VEVENT
BEGIN:VEVENT
DTSTAMP:20260425T104619Z
UID:524d4dc0-0547-4e36-965e-d3e38c143314
DTSTART:20260602T081500
DTEND:20260602T104500
DESCRIPTION:
LOCATION:
SUMMARY:4th/5th Grade Field Day (8:20-10:50 a.m.)
END:VEVENT
BEGIN:VEVENT
DTSTAMP:20260425T104619Z
UID:5de1f472-0687-456a-9fcc-e5864a74799c
DTSTART:20260602T114500
DTEND:20260602T141500
DESCRIPTION:
LOCATION:
SUMMARY:6th/7th Grade Field Day (11:55-2:15 p.m.)
END:VEVENT
BEGIN:VEVENT
DTSTAMP:20260425T104619Z
UID:9bb4d9f7-ea9b-4ef6-9ac0-adbee25c1d90
DTSTART;VALUE=DATE:20260603
DTEND;VALUE=DATE:20260604
DESCRIPTION:
LOCATION:
SUMMARY:6th/7th Grade House Awards and 7th Grade Presidential Awards - Duri
 ng WIN
END:VEVENT
BEGIN:VEVENT
DTSTAMP:20260425T104619Z
UID:c37794b4-e429-40f9-9023-e5cb0fa3169e
DTSTART;VALUE=DATE:20260603
DTEND;VALUE=DATE:20260604
DESCRIPTION:
LOCATION:
SUMMARY:All A’s and Perfect Attendance Awards for 4th Quarter - 6th Hour
END:VEVENT
BEGIN:VEVENT
DTSTAMP:20260425T104619Z
UID:a88bccbf-7b8c-427f-9d9a-cf921a119489
DTSTART:20260604T070000
DTEND:20260604T120000
DESCRIPTION:<p>Fiinal day depends on the number of "Act of God" Days. Relea
 se times are different for each building. </p>
LOCATION:
SUMMARY:Tentative Last Day of School/Early Release (1/2 day for all student
 s)
END:VEVENT
BEGIN:VEVENT
DTSTAMP:20260425T104619Z
UID:200f7b00-bc3a-42ee-9494-8f569cf6e685
DTSTART:20260604T080000
DTEND:20260604T093000
DESCRIPTION:
LOCATION:
SUMMARY:Mock Rock Talent Show (approximately 8:00-9:30 a.m.)
END:VEVENT
BEGIN:VEVENT
DTSTAMP:20260425T104619Z
UID:75f968b9-3543-4602-993b-819a82dd3ba3
DTSTART:20260605T180000
DTEND:20260605T200000
DESCRIPTION:
LOCATION:
SUMMARY:Curwood Kid’s Parade (6th & 7th Grade Band) 6:00 p.m
END:VEVENT
BEGIN:VEVENT
DTSTAMP:20260425T104619Z
UID:bdfeec25-b5a8-4fb4-a1fd-a787ec12c084
DTSTART:20260615T174500
DTEND:20260615T180000
DESCRIPTION:
LOCATION:417 E King St\, Corunna\, MI 48817\, USA
SUMMARY:Special Board of Education Meeting
END:VEVENT
BEGIN:VEVENT
DTSTAMP:20260425T104619Z
UID:856365f7-ab2c-4486-a166-aa534a43d8f7
DTSTART:20260615T180000
DTEND:20260615T210000
DESCRIPTION:
LOCATION:417 E King St\, Corunna\, MI 48817\, USA
SUMMARY:Board of Education Meeting
END:VEVENT
BEGIN:VEVENT
DTSTAMP:20260425T104619Z
UID:aac6a618-23ef-4965-8f68-a90860a4f291
DTSTART:20260628T180000
DTEND:20260628T210000
DESCRIPTION:
LOCATION:CHS Media Center
SUMMARY:Corunna Athletic Club Meeting
END:VEVENT
BEGIN:VEVENT
DTSTAMP:20260425T104619Z
UID:2553459d-74b3-477d-b4e3-ec4456b008fb
DTSTART:20260720T180000
DTEND:20260720T210000
DESCRIPTION:
LOCATION:417 E King St\, Corunna\, MI 48817\, USA
SUMMARY:Board of Education Meeting
END:VEVENT
BEGIN:VEVENT
DTSTAMP:20260425T104619Z
UID:2a8dbeb4-0f38-4da5-8941-3b90525456e8
DTSTART:20260726T180000
DTEND:20260726T210000
DESCRIPTION:
LOCATION:CHS Media Center
SUMMARY:Corunna Athletic Club Meeting
END:VEVENT
BEGIN:VEVENT
DTSTAMP:20260425T104619Z
UID:7205ec22-cf40-4995-bcab-b08974fe7d82
DTSTART:20260817T180000
DTEND:20260817T210000
DESCRIPTION:
LOCATION:417 E King St\, Corunna\, MI 48817\, USA
SUMMARY:Board of Education Meeting
END:VEVENT
BEGIN:VEVENT
DTSTAMP:20260425T104619Z
UID:cceaf16b-f0ce-4ed6-813f-7b389bb2248f
DTSTART:20260921T180000
DTEND:20260921T210000
DESCRIPTION:
LOCATION:417 E King St\, Corunna\, MI 48817\, USA
SUMMARY:Board of Education Meeting
END:VEVENT
BEGIN:VEVENT
DTSTAMP:20260425T104619Z
UID:c27fd37c-1bf8-4483-adaa-7d77df5dd90c
DTSTART:20261019T180000
DTEND:20261019T210000
DESCRIPTION:
LOCATION:417 E King St\, Corunna\, MI 48817\, USA
SUMMARY:Board of Education Meeting
END:VEVENT
BEGIN:VEVENT
DTSTAMP:20260425T104619Z
UID:4832e856-99cf-45e8-adfd-386282fff55b
DTSTART:20261116T180000
DTEND:20261116T210000
DESCRIPTION:
LOCATION:417 E King St\, Corunna\, MI 48817\, USA
SUMMARY:Board of Education Meeting
END:VEVENT
BEGIN:VEVENT
DTSTAMP:20260425T104619Z
UID:6d799ffc-8f9f-451d-a1da-101fe7719fc1
DTSTART:20261205T060000
DTEND:20261205T080000
DESCRIPTION:
LOCATION:Administration office 124 N. Shiawassee Street\, Corunna\, MI 4881
 7
SUMMARY:Board Workshop 
END:VEVENT
BEGIN:VEVENT
DTSTAMP:20260425T104619Z
UID:2255de0e-4532-4a52-aed1-54cc03a1936a
DTSTART:20261214T180000
DTEND:20261214T210000
DESCRIPTION:
LOCATION:417 E King St\, Corunna\, MI 48817\, USA
SUMMARY:Board of Education Meeting
END:VEVENT
BEGIN:VEVENT
DTSTAMP:20260425T104619Z
UID:cfea1431-af35-4f93-a7ac-edb9731827ac
DTSTART:20270119T180000
DTEND:20270119T210000
DESCRIPTION:
LOCATION:417 E King St\, Corunna\, MI 48817\, USA
SUMMARY:Board of Education 
END:VEVENT
END:VCALENDAR
