BEGIN:VCALENDAR
VERSION:2.0
PRODID:icalendar-ruby
CALSCALE:GREGORIAN
BEGIN:VTIMEZONE
TZID:America/New_York
BEGIN:DAYLIGHT
DTSTART:20260308T030000
TZOFFSETFROM:-0500
TZOFFSETTO:-0400
RRULE:FREQ=YEARLY;BYDAY=2SU;BYMONTH=3
TZNAME:EDT
END:DAYLIGHT
BEGIN:STANDARD
DTSTART:20261101T010000
TZOFFSETFROM:-0400
TZOFFSETTO:-0500
RRULE:FREQ=YEARLY;BYDAY=1SU;BYMONTH=11
TZNAME:EST
END:STANDARD
END:VTIMEZONE
BEGIN:VEVENT
DTSTAMP:20260423T062337Z
UID:18270599-3a46-4145-9984-4868e5763241
DTSTART;VALUE=DATE:20260424
DTEND;VALUE=DATE:20260425
DESCRIPTION:Staff Records Day\; Lunches will be served.  PM BACC Students a
 ttend at their normal time - transportation provided if needed. 
LOCATION:
SUMMARY:Half Day of School
END:VEVENT
BEGIN:VEVENT
DTSTAMP:20260423T062337Z
UID:e4b94620-bfcd-49cc-a3f8-11f1f21a19e0
DTSTART;VALUE=DATE:20260506
DTEND;VALUE=DATE:20260507
DESCRIPTION:Teacher Professional Development\; Lunches will be served.  PM 
 BACC Students attend at their normal time - transportation provided if nee
 ded. 
LOCATION:
SUMMARY:Half Day of School
END:VEVENT
BEGIN:VEVENT
DTSTAMP:20260423T062337Z
UID:5d93d9a5-2516-4754-9efa-552dfbf14947
DTSTART;VALUE=DATE:20260525
DTEND;VALUE=DATE:20260526
DESCRIPTION:Memorial Day - District and Building Offices Closed
LOCATION:
SUMMARY:No School for Students and Staff
END:VEVENT
BEGIN:VEVENT
DTSTAMP:20260423T062337Z
UID:e0ff91ae-4515-4e73-b1eb-8ea6043eea0a
DTSTART;VALUE=DATE:20260529
DTEND;VALUE=DATE:20260530
DESCRIPTION:Last Day of School\; Staff Records Day\; Lunches will be served
 .
LOCATION:
SUMMARY:Half Day of School
END:VEVENT
END:VCALENDAR
