BEGIN:VCALENDAR
VERSION:2.0
PRODID:icalendar-ruby
CALSCALE:GREGORIAN
BEGIN:VTIMEZONE
TZID:America/Los_Angeles
BEGIN:DAYLIGHT
DTSTART:20260308T030000
TZOFFSETFROM:-0800
TZOFFSETTO:-0700
RRULE:FREQ=YEARLY;BYDAY=2SU;BYMONTH=3
TZNAME:PDT
END:DAYLIGHT
BEGIN:STANDARD
DTSTART:20261101T010000
TZOFFSETFROM:-0700
TZOFFSETTO:-0800
RRULE:FREQ=YEARLY;BYDAY=1SU;BYMONTH=11
TZNAME:PST
END:STANDARD
END:VTIMEZONE
BEGIN:VEVENT
DTSTAMP:20260421T212906Z
UID:b0ff74ad-a88c-4f49-a1a9-d4b1533f5297
DTSTART;VALUE=DATE:20260424
DTEND;VALUE=DATE:20260425
DESCRIPTION:
LOCATION:
SUMMARY:Midterm
END:VEVENT
BEGIN:VEVENT
DTSTAMP:20260421T212906Z
UID:779009dd-2e18-4652-bd5b-0bb1762acebc
DTSTART;VALUE=DATE:20260429
DTEND;VALUE=DATE:20260430
DESCRIPTION:
LOCATION:
SUMMARY:4-8 Grades Mid Term Progress Reports Go Home
END:VEVENT
BEGIN:VEVENT
DTSTAMP:20260421T212906Z
UID:588348e8-fcc1-43cc-b334-3efd40e625b3
DTSTART;VALUE=DATE:20260511
DTEND;VALUE=DATE:20260516
DESCRIPTION:
LOCATION:
SUMMARY:Book Fair
END:VEVENT
BEGIN:VEVENT
DTSTAMP:20260421T212906Z
UID:0a3fb02b-0ce8-430a-9629-7864b276463f
DTSTART;VALUE=DATE:20260513
DTEND;VALUE=DATE:20260514
DESCRIPTION:
LOCATION:
SUMMARY:Open House
END:VEVENT
BEGIN:VEVENT
DTSTAMP:20260421T212906Z
UID:7d9b988e-49af-4c37-b236-766cbb862e9d
DTSTART;VALUE=DATE:20260525
DTEND;VALUE=DATE:20260526
DESCRIPTION:
LOCATION:
SUMMARY:Memorial Day Holiday 
END:VEVENT
BEGIN:VEVENT
DTSTAMP:20260421T212906Z
UID:28da382a-3ad4-44d3-b2ec-2f5d889b5843
DTSTART;VALUE=DATE:20260603
DTEND;VALUE=DATE:20260606
DESCRIPTION:
LOCATION:
SUMMARY:5th to Wolf Creek 
END:VEVENT
BEGIN:VEVENT
DTSTAMP:20260421T212906Z
UID:882673ed-b85d-44d4-8729-584a79842e85
DTSTART;VALUE=DATE:20260608
DTEND;VALUE=DATE:20260613
DESCRIPTION:
LOCATION:
SUMMARY:1:00 Dismissal All Week
END:VEVENT
BEGIN:VEVENT
DTSTAMP:20260421T212906Z
UID:6660b2ca-6151-4587-9a4c-e785eac9b7fb
DTSTART;VALUE=DATE:20260610
DTEND;VALUE=DATE:20260611
DESCRIPTION:
LOCATION:
SUMMARY:Graduation 7:00
END:VEVENT
BEGIN:VEVENT
DTSTAMP:20260421T212906Z
UID:946e2f27-2f58-4d6b-81c8-e73c6c8ad7f3
DTSTART;VALUE=DATE:20260612
DTEND;VALUE=DATE:20260613
DESCRIPTION:
LOCATION:
SUMMARY:LAST DAY!
END:VEVENT
BEGIN:VEVENT
DTSTAMP:20260421T212906Z
UID:b0c820ca-262a-47ce-b934-697c36b6c1d5
DTSTART;VALUE=DATE:20260831
DTEND;VALUE=DATE:20260901
DESCRIPTION:
LOCATION:
SUMMARY:First Day of School 1:00 dismissal
END:VEVENT
BEGIN:VEVENT
DTSTAMP:20260421T212906Z
UID:4375736f-7c4d-4e05-a03e-4d97d6fbff08
DTSTART;VALUE=DATE:20260903
DTEND;VALUE=DATE:20260904
DESCRIPTION:
LOCATION:
SUMMARY:Back to School Night
END:VEVENT
BEGIN:VEVENT
DTSTAMP:20260421T212906Z
UID:134e7f17-fd69-4732-9dcd-ebb8c9e33378
DTSTART;VALUE=DATE:20261102
DTEND;VALUE=DATE:20261103
DESCRIPTION:
LOCATION:
SUMMARY:Picture Day
END:VEVENT
BEGIN:VEVENT
DTSTAMP:20260421T212906Z
UID:55734359-708d-4353-a8cd-ff7c426e5bfb
DTSTART;VALUE=DATE:20261202
DTEND;VALUE=DATE:20261203
DESCRIPTION:
LOCATION:
SUMMARY:Make Up Picture Day
END:VEVENT
END:VCALENDAR
