BEGIN:VCALENDAR
VERSION:2.0
PRODID:icalendar-ruby
CALSCALE:GREGORIAN
BEGIN:VTIMEZONE
TZID:America/New_York
BEGIN:DAYLIGHT
DTSTART:20260308T030000
TZOFFSETFROM:-0500
TZOFFSETTO:-0400
RRULE:FREQ=YEARLY;BYDAY=2SU;BYMONTH=3
TZNAME:EDT
END:DAYLIGHT
BEGIN:STANDARD
DTSTART:20261101T010000
TZOFFSETFROM:-0400
TZOFFSETTO:-0500
RRULE:FREQ=YEARLY;BYDAY=1SU;BYMONTH=11
TZNAME:EST
END:STANDARD
END:VTIMEZONE
BEGIN:VEVENT
DTSTAMP:20260423T030321Z
UID:6b13245e-ab4a-42cb-9c9e-e48ecd779f86
DTSTART;VALUE=DATE:20260423
DTEND;VALUE=DATE:20260424
DESCRIPTION:
LOCATION:
SUMMARY:Progress Alerts Go Home
END:VEVENT
BEGIN:VEVENT
DTSTAMP:20260423T030321Z
UID:b6e41404-71ed-4e28-b5f3-eaa0cf487d75
DTSTART:20260425T110000
DTEND:20260425T140000
DESCRIPTION:<p>HCPS families are invited to attend the 5th annual Autism Ac
 ceptance FunFest on Saturday\, April 25\, at Lopez Exceptional Student Cen
 ter! </p><p>The event will go from 11 a.m. to 2 p.m. and feature fun\, foo
 d\, games\, and information from community organizations. </p>
LOCATION:315 W Old Hillsborough Ave\, Seffner\, FL 33584\, USA
SUMMARY:5th Annual HCPS Autism Acceptance FunFest
END:VEVENT
BEGIN:VEVENT
DTSTAMP:20260423T030321Z
UID:137bfb18-e48f-4813-9d04-8b91df556bd8
DTSTART;VALUE=DATE:20260427
DTEND;VALUE=DATE:20260428
DESCRIPTION:
LOCATION:
SUMMARY:Early Release Day (Students released 1 hour early)
END:VEVENT
BEGIN:VEVENT
DTSTAMP:20260423T030321Z
UID:92b5107d-3371-49fd-a833-50368241d4b9
DTSTART:20260427T170000
DTEND:20260506T235900
DESCRIPTION:
LOCATION:
SUMMARY:School Choice/Magnet Offer Response Window open
END:VEVENT
BEGIN:VEVENT
DTSTAMP:20260423T030321Z
UID:8fb99e97-acd2-4a50-b6fe-b8671c2729d2
DTSTART:20260428T180000
DTEND:20260428T200000
DESCRIPTION:
LOCATION:1 Raider Pl\, Plant City\, FL 33563\, USA
SUMMARY:Band: Spring Concert
END:VEVENT
BEGIN:VEVENT
DTSTAMP:20260423T030321Z
UID:6f71bae3-4f6b-40c5-8c0f-05bf427a5c72
DTSTART:20260429T173000
DTEND:20260429T193000
DESCRIPTION:ATTENTION HIGH SCHOOL FAMILIES! Join us for our first-ever HCPS
  Apprenticeship Night on Wednesday\, April 29!<br/><br/>Learn more about l
 ocal apprenticeship programs and paid\, hands-on career opportunities in f
 ields like ironworking\, electrical work\, and pipefitting. Apprenticeship
 s allow students to earn while they learn and can lead to rewarding career
 s after high school.
LOCATION:11311 Boyette Rd\, Riverview\, FL 33569\, USA
SUMMARY:Apprenticeship Night (High School Families)
END:VEVENT
BEGIN:VEVENT
DTSTAMP:20260423T030321Z
UID:41e11de7-49ad-4403-b6b8-62c4e02a3dc7
DTSTART:20260430T170000
DTEND:20260430T193000
DESCRIPTION:
LOCATION:
SUMMARY:Conference Night and SLP Showcase
END:VEVENT
BEGIN:VEVENT
DTSTAMP:20260423T030321Z
UID:cb7b5067-14a2-4e65-b802-5c11176dc970
DTSTART:20260430T183000
DTEND:20260430T200000
DESCRIPTION:
LOCATION:
SUMMARY:Spring Sports Banquet
END:VEVENT
BEGIN:VEVENT
DTSTAMP:20260423T030321Z
UID:5ef07085-a2f5-4cbf-9a89-cf48644c379a
DTSTART:20260501T090000
DTEND:20260501T090000
DESCRIPTION:<h2 style="text-align: left"><a target="_blank" rel="noopener n
 oreferrer nofollow" href="https://www.hillsboroughschools.org/o/hcps/page/
 summer-drivers-education" relative-link="">Summer Drivers Education inform
 ation&gt\;&gt\;</a></h2>
LOCATION:
SUMMARY:Summer Drivers Education Program Registration opens
END:VEVENT
BEGIN:VEVENT
DTSTAMP:20260423T030321Z
UID:d0910e11-15bd-4693-af14-7af697a9b46e
DTSTART;VALUE=DATE:20260504
DTEND;VALUE=DATE:20260505
DESCRIPTION:
LOCATION:
SUMMARY:Early Release Day (Students released 1 hour early)
END:VEVENT
BEGIN:VEVENT
DTSTAMP:20260423T030321Z
UID:43bae70e-e373-4009-821a-09a81fcfed9b
DTSTART;VALUE=DATE:20260511
DTEND;VALUE=DATE:20260512
DESCRIPTION:
LOCATION:
SUMMARY:Band & Orch Banquet
END:VEVENT
BEGIN:VEVENT
DTSTAMP:20260423T030321Z
UID:d5266920-5e9c-463e-afa3-45e9a849ebbd
DTSTART;VALUE=DATE:20260511
DTEND;VALUE=DATE:20260512
DESCRIPTION:
LOCATION:
SUMMARY:Early Release Day (Students released 1 hour early)
END:VEVENT
BEGIN:VEVENT
DTSTAMP:20260423T030321Z
UID:fac261a8-3ef6-4a88-be14-2959aecb504f
DTSTART;VALUE=DATE:20260514
DTEND;VALUE=DATE:20260515
DESCRIPTION:
LOCATION:
SUMMARY:FFA Banquet
END:VEVENT
BEGIN:VEVENT
DTSTAMP:20260423T030321Z
UID:2efd45e1-fafc-4450-8498-f6d9cf812d2a
DTSTART;VALUE=DATE:20260518
DTEND;VALUE=DATE:20260519
DESCRIPTION:
LOCATION:
SUMMARY:Early Release Day (Students released 1 hour early)
END:VEVENT
BEGIN:VEVENT
DTSTAMP:20260423T030321Z
UID:cb2ba4de-39ef-4e5c-abcd-ac121eda2a9f
DTSTART:20260519T180000
DTEND:20260519T200000
DESCRIPTION:
LOCATION:
SUMMARY:Night of Stars
END:VEVENT
BEGIN:VEVENT
DTSTAMP:20260423T030321Z
UID:7efb86aa-42d8-4640-ae8f-b490466bfa13
DTSTART;VALUE=DATE:20260522
DTEND;VALUE=DATE:20260523
DESCRIPTION:
LOCATION:
SUMMARY:Semester Exams
END:VEVENT
BEGIN:VEVENT
DTSTAMP:20260423T030321Z
UID:906a964b-bbe5-487e-bf0a-a1fd1c91506e
DTSTART;VALUE=DATE:20260525
DTEND;VALUE=DATE:20260526
DESCRIPTION:
LOCATION:
SUMMARY:Memorial Day/Non-Student Day
END:VEVENT
BEGIN:VEVENT
DTSTAMP:20260423T030321Z
UID:a6147d93-bec3-4d96-b65a-e9337971a8a5
DTSTART;VALUE=DATE:20260525
DTEND;VALUE=DATE:20260526
DESCRIPTION:
LOCATION:
SUMMARY:Memorial Day/Non-Student Day
END:VEVENT
BEGIN:VEVENT
DTSTAMP:20260423T030321Z
UID:442588a1-500d-4c49-8085-3cf364679930
DTSTART;VALUE=DATE:20260529
DTEND;VALUE=DATE:20260530
DESCRIPTION:<p><span>The last day of school is a 2.5 hour early release</sp
 an></p>
LOCATION:
SUMMARY:Last Day/End of 4th/2nd Semester
END:VEVENT
BEGIN:VEVENT
DTSTAMP:20260423T030321Z
UID:fdaa5091-bd85-4e3a-aefe-0d9800c2721c
DTSTART;VALUE=DATE:20260529
DTEND;VALUE=DATE:20260530
DESCRIPTION:
LOCATION:
SUMMARY:End of 4th Grading Period/2nd Semester
END:VEVENT
BEGIN:VEVENT
DTSTAMP:20260423T030321Z
UID:b4cf5551-3b3f-4f5b-bd38-13598d1e3fa8
DTSTART;VALUE=DATE:20260529
DTEND;VALUE=DATE:20260530
DESCRIPTION:
LOCATION:
SUMMARY:Last Day of School/Early Release Day-Students released 2.5 hours ea
 rly
END:VEVENT
BEGIN:VEVENT
DTSTAMP:20260423T030321Z
UID:f54be4a2-d215-4129-bf19-3d2ae7314e13
DTSTART;VALUE=DATE:20260608
DTEND;VALUE=DATE:20260609
DESCRIPTION:
LOCATION:
SUMMARY:Online Report Cards Available
END:VEVENT
BEGIN:VEVENT
DTSTAMP:20260423T030321Z
UID:4c8e8dca-3d9a-4871-ab50-bdea2f8d64be
DTSTART;VALUE=DATE:20260810
DTEND;VALUE=DATE:20260811
DESCRIPTION:
LOCATION:
SUMMARY:Students’ First Day of School
END:VEVENT
BEGIN:VEVENT
DTSTAMP:20260423T030321Z
UID:f3195f7e-cd85-4bc2-92f2-43ceda8b2a50
DTSTART;VALUE=DATE:20260907
DTEND;VALUE=DATE:20260908
DESCRIPTION:
LOCATION:
SUMMARY:Labor Day/Non-Student Day
END:VEVENT
BEGIN:VEVENT
DTSTAMP:20260423T030321Z
UID:3f5b2de0-4b2d-47cd-a458-258d4584c517
DTSTART;VALUE=DATE:20261009
DTEND;VALUE=DATE:20261010
DESCRIPTION:<p>**Tentative Hurricane Make-Up Day(s) if needed: October 12\,
  November 11\, November 23-25\, January 4</p>
LOCATION:
SUMMARY:End of 1st Grading Period
END:VEVENT
BEGIN:VEVENT
DTSTAMP:20260423T030321Z
UID:d0eb84e9-a97d-4b6d-b31c-38d78ae3dc28
DTSTART;VALUE=DATE:20261012
DTEND;VALUE=DATE:20261013
DESCRIPTION:<p>**Tentative Hurricane Make-Up Day(s) if needed: October 12\,
  November 11\, November 23-25\, January 4</p>
LOCATION:
SUMMARY:Non-Student Day**
END:VEVENT
BEGIN:VEVENT
DTSTAMP:20260423T030321Z
UID:69c2f80c-25a5-49e9-96fa-e337a12dec1b
DTSTART;VALUE=DATE:20261111
DTEND;VALUE=DATE:20261112
DESCRIPTION:<p>**Tentative Hurricane Make-Up Day(s) if needed: October 12\,
  November 11\, November 23-25\, January 4</p>
LOCATION:
SUMMARY:Veterans Day/Non-Student Day**
END:VEVENT
BEGIN:VEVENT
DTSTAMP:20260423T030321Z
UID:69d70613-5130-4944-91d0-1880896dcc6c
DTSTART;VALUE=DATE:20261123
DTEND;VALUE=DATE:20261128
DESCRIPTION:<p>**Tentative Hurricane Make-Up Day(s) if needed: October 12\,
  November 11\, November 23-25\, January 4</p>
LOCATION:
SUMMARY:Fall Break/Non-Student Days**
END:VEVENT
BEGIN:VEVENT
DTSTAMP:20260423T030321Z
UID:6fdb6d19-6466-485a-9278-4336000bd9f8
DTSTART;VALUE=DATE:20261130
DTEND;VALUE=DATE:20261201
DESCRIPTION:
LOCATION:
SUMMARY:Students Return to School
END:VEVENT
BEGIN:VEVENT
DTSTAMP:20260423T030321Z
UID:c5c1cd29-8aa3-41eb-a849-df8f36d21ead
DTSTART;VALUE=DATE:20261218
DTEND;VALUE=DATE:20261219
DESCRIPTION:
LOCATION:
SUMMARY:End of 2nd Grading Period/1st Semester
END:VEVENT
BEGIN:VEVENT
DTSTAMP:20260423T030321Z
UID:10bb4c41-d9be-48d5-a68c-0f497c268912
DTSTART;VALUE=DATE:20261221
DTEND;VALUE=DATE:20270102
DESCRIPTION:
LOCATION:
SUMMARY:Winter Break/Non-Student Days
END:VEVENT
BEGIN:VEVENT
DTSTAMP:20260423T030321Z
UID:5e2f4f56-dedb-4213-b9a6-736e061f0a31
DTSTART;VALUE=DATE:20270104
DTEND;VALUE=DATE:20270105
DESCRIPTION:<p>**Tentative Hurricane Make-Up Day(s) if needed: October 12\,
  November 11\, November 23-25\, January 4</p>
LOCATION:
SUMMARY:Non-Student Day**
END:VEVENT
BEGIN:VEVENT
DTSTAMP:20260423T030321Z
UID:0a651ccf-5d20-42f4-8530-48f857d1ecdc
DTSTART;VALUE=DATE:20270105
DTEND;VALUE=DATE:20270106
DESCRIPTION:
LOCATION:
SUMMARY:Students Return to School
END:VEVENT
BEGIN:VEVENT
DTSTAMP:20260423T030321Z
UID:f0551706-a30b-4eb5-a804-224eeea6952b
DTSTART;VALUE=DATE:20270118
DTEND;VALUE=DATE:20270119
DESCRIPTION:
LOCATION:
SUMMARY:Martin Luther King\, Jr./Non-Student Day
END:VEVENT
BEGIN:VEVENT
DTSTAMP:20260423T030321Z
UID:22c73576-24da-4c38-90d1-44de3223b294
DTSTART;VALUE=DATE:20270212
DTEND;VALUE=DATE:20270213
DESCRIPTION:
LOCATION:
SUMMARY:Florida State Fair/Non-Student Day
END:VEVENT
BEGIN:VEVENT
DTSTAMP:20260423T030321Z
UID:76f1281e-ea20-4127-84b2-1e9c6860f857
DTSTART;VALUE=DATE:20270215
DTEND;VALUE=DATE:20270216
DESCRIPTION:
LOCATION:
SUMMARY:Presidents’ Day/Non-Student Day
END:VEVENT
BEGIN:VEVENT
DTSTAMP:20260423T030321Z
UID:bf208235-adca-48ef-96e5-9d8cd9229fc6
DTSTART;VALUE=DATE:20270308
DTEND;VALUE=DATE:20270309
DESCRIPTION:<p>*Strawberry Festival/Non-Student Day changed from 3/1/27 to 
 3/8/27 to coincide with the dates of the Strawberry Festival. </p>
LOCATION:
SUMMARY:Strawberry Festival/Non-Student Day*
END:VEVENT
BEGIN:VEVENT
DTSTAMP:20260423T030321Z
UID:3de44af9-eaeb-47e9-a0d1-e3115ce7f4da
DTSTART;VALUE=DATE:20270312
DTEND;VALUE=DATE:20270313
DESCRIPTION:
LOCATION:
SUMMARY:End of 3rd Grading Period
END:VEVENT
BEGIN:VEVENT
DTSTAMP:20260423T030321Z
UID:88c88ac7-6fb3-4947-a57c-17bb33bb7c68
DTSTART;VALUE=DATE:20270322
DTEND;VALUE=DATE:20270327
DESCRIPTION:
LOCATION:
SUMMARY:Spring Break/Non-Student Days
END:VEVENT
BEGIN:VEVENT
DTSTAMP:20260423T030321Z
UID:3a1f4317-6a6e-49e1-b5bd-21ec53019d57
DTSTART;VALUE=DATE:20270329
DTEND;VALUE=DATE:20270330
DESCRIPTION:
LOCATION:
SUMMARY:Non-Student Day
END:VEVENT
BEGIN:VEVENT
DTSTAMP:20260423T030321Z
UID:35e1e4d0-04d0-42fd-9fac-a4c75c1ffa96
DTSTART;VALUE=DATE:20270330
DTEND;VALUE=DATE:20270331
DESCRIPTION:
LOCATION:
SUMMARY:Students Return to School
END:VEVENT
BEGIN:VEVENT
DTSTAMP:20260423T030321Z
UID:df85e861-43c0-4c20-b3f1-fcc6730502cc
DTSTART;VALUE=DATE:20270416
DTEND;VALUE=DATE:20270417
DESCRIPTION:
LOCATION:
SUMMARY:Non-Student Day
END:VEVENT
BEGIN:VEVENT
DTSTAMP:20260423T030321Z
UID:1cdd9977-e8ea-423f-b232-4b0c19b36da1
DTSTART;VALUE=DATE:20270528
DTEND;VALUE=DATE:20270529
DESCRIPTION:
LOCATION:
SUMMARY: End of 4th Grading Period/2nd Semester
END:VEVENT
BEGIN:VEVENT
DTSTAMP:20260423T030321Z
UID:b4625881-d0ec-4129-b486-837dd16efa04
DTSTART;VALUE=DATE:20270528
DTEND;VALUE=DATE:20270529
DESCRIPTION:
LOCATION:
SUMMARY:Last Day of School/Students released 2.5 hours early
END:VEVENT
END:VCALENDAR
