BEGIN:VCALENDAR
VERSION:2.0
PRODID:icalendar-ruby
CALSCALE:GREGORIAN
BEGIN:VTIMEZONE
TZID:America/New_York
BEGIN:DAYLIGHT
DTSTART:20260308T030000
TZOFFSETFROM:-0500
TZOFFSETTO:-0400
RRULE:FREQ=YEARLY;BYDAY=2SU;BYMONTH=3
TZNAME:EDT
END:DAYLIGHT
BEGIN:STANDARD
DTSTART:20261101T010000
TZOFFSETFROM:-0400
TZOFFSETTO:-0500
RRULE:FREQ=YEARLY;BYDAY=1SU;BYMONTH=11
TZNAME:EST
END:STANDARD
END:VTIMEZONE
BEGIN:VEVENT
DTSTAMP:20260424T001656Z
UID:a3985fff-2ce4-4d9d-afff-18ca973152bf
DTSTART:20260423T153000
DTEND:20260423T180000
DESCRIPTION:
LOCATION:
SUMMARY:Conference Night
END:VEVENT
BEGIN:VEVENT
DTSTAMP:20260424T001656Z
UID:125bdba7-3d69-40cd-a7d6-f1b67aecbb8e
DTSTART:20260423T180000
DTEND:20260423T200000
DESCRIPTION:
LOCATION:
SUMMARY:Flag Football v. Benito @ Wharton
END:VEVENT
BEGIN:VEVENT
DTSTAMP:20260424T001656Z
UID:a565dfc2-bd4f-4a53-bb37-74bf88def19b
DTSTART:20260423T180000
DTEND:20260423T200000
DESCRIPTION:
LOCATION:
SUMMARY:MS Flag Football vs Benito @ Wharton HS
END:VEVENT
BEGIN:VEVENT
DTSTAMP:20260424T001656Z
UID:8e1d1ec3-9043-45a4-92e1-4ed03b989970
DTSTART;VALUE=DATE:20260424
DTEND;VALUE=DATE:20260425
DESCRIPTION:
LOCATION:
SUMMARY:7th Grade Bowling Field Trip
END:VEVENT
BEGIN:VEVENT
DTSTAMP:20260424T001656Z
UID:a0f1402b-8092-4c70-a3ca-e7f0c86d61ee
DTSTART;VALUE=DATE:20260424
DTEND;VALUE=DATE:20260425
DESCRIPTION:
LOCATION:
SUMMARY:College Day- Students and Staff Invited to Wear College Gear to Sch
 ool
END:VEVENT
BEGIN:VEVENT
DTSTAMP:20260424T001656Z
UID:ea88d700-c372-4d31-a799-df107f44e27b
DTSTART:20260424T071500
DTEND:20260424T074500
DESCRIPTION:
LOCATION:
SUMMARY:Student of the Month
END:VEVENT
BEGIN:VEVENT
DTSTAMP:20260424T001656Z
UID:73a5088d-3fae-4459-a165-eec6c084d23b
DTSTART:20260424T080000
DTEND:20260424T084500
DESCRIPTION:
LOCATION:
SUMMARY:Volunteer Awards
END:VEVENT
BEGIN:VEVENT
DTSTAMP:20260424T001656Z
UID:e99490f8-ea4d-4480-a555-89be4051f414
DTSTART:20260425T110000
DTEND:20260425T140000
DESCRIPTION:<p>HCPS families are invited to attend the 5th annual Autism Ac
 ceptance FunFest on Saturday\, April 25\, at Lopez Exceptional Student Cen
 ter! </p><p>The event will go from 11 a.m. to 2 p.m. and feature fun\, foo
 d\, games\, and information from community organizations. </p>
LOCATION:315 W Old Hillsborough Ave\, Seffner\, FL 33584\, USA
SUMMARY:5th Annual HCPS Autism Acceptance FunFest
END:VEVENT
BEGIN:VEVENT
DTSTAMP:20260424T001656Z
UID:5393e1cd-2d8c-4047-b2dc-c1f3ad0601f6
DTSTART;VALUE=DATE:20260427
DTEND;VALUE=DATE:20260428
DESCRIPTION:
LOCATION:
SUMMARY:Early Release Day (Students released 1 hour early)
END:VEVENT
BEGIN:VEVENT
DTSTAMP:20260424T001656Z
UID:8f7d1dbe-faae-467a-8da8-7bfcbe3b7ed3
DTSTART:20260427T170000
DTEND:20260506T235900
DESCRIPTION:
LOCATION:
SUMMARY:School Choice/Magnet Offer Response Window open
END:VEVENT
BEGIN:VEVENT
DTSTAMP:20260424T001656Z
UID:d2fc40eb-fead-47a0-85dd-a648df0ca41f
DTSTART:20260429T173000
DTEND:20260429T193000
DESCRIPTION:ATTENTION HIGH SCHOOL FAMILIES! Join us for our first-ever HCPS
  Apprenticeship Night on Wednesday\, April 29!<br/><br/>Learn more about l
 ocal apprenticeship programs and paid\, hands-on career opportunities in f
 ields like ironworking\, electrical work\, and pipefitting. Apprenticeship
 s allow students to earn while they learn and can lead to rewarding career
 s after high school.
LOCATION:11311 Boyette Rd\, Riverview\, FL 33569\, USA
SUMMARY:Apprenticeship Night (High School Families)
END:VEVENT
BEGIN:VEVENT
DTSTAMP:20260424T001656Z
UID:f94b80ce-ae5f-46ce-b47c-441153dd1471
DTSTART:20260429T180000
DTEND:20260429T200000
DESCRIPTION:
LOCATION:
SUMMARY:Flag Football v. Buchanan @ Gaither
END:VEVENT
BEGIN:VEVENT
DTSTAMP:20260424T001656Z
UID:9ac19cfe-d68b-4cb6-991c-b7245fbc3320
DTSTART:20260429T180000
DTEND:20260429T200000
DESCRIPTION:
LOCATION:
SUMMARY:MS Flag Football vs Buchanan @ Gaither HS
END:VEVENT
BEGIN:VEVENT
DTSTAMP:20260424T001656Z
UID:0180da44-d66d-4856-89ad-6800128ef261
DTSTART;VALUE=DATE:20260430
DTEND;VALUE=DATE:20260501
DESCRIPTION:
LOCATION:
SUMMARY:6th Grade United Skates
END:VEVENT
BEGIN:VEVENT
DTSTAMP:20260424T001656Z
UID:08c7b70c-61d3-44b6-bee6-fb9efa421394
DTSTART;VALUE=DATE:20260430
DTEND;VALUE=DATE:20260501
DESCRIPTION:
LOCATION:
SUMMARY:Pre-K and Kindergarten Field Trip- The Florida Aquarium
END:VEVENT
BEGIN:VEVENT
DTSTAMP:20260424T001656Z
UID:0405a1f6-c757-4b97-91e5-9f25280507da
DTSTART:20260430T180000
DTEND:20260430T190000
DESCRIPTION:
LOCATION:
SUMMARY:Theatre Performance
END:VEVENT
BEGIN:VEVENT
DTSTAMP:20260424T001656Z
UID:a8409e05-234f-490f-b8cc-8adf56278110
DTSTART;VALUE=DATE:20260501
DTEND;VALUE=DATE:20260502
DESCRIPTION:
LOCATION:
SUMMARY:College Day
END:VEVENT
BEGIN:VEVENT
DTSTAMP:20260424T001656Z
UID:ac37ce43-35da-441e-a9e9-fd8f673f24b5
DTSTART:20260501T090000
DTEND:20260501T090000
DESCRIPTION:<h2 style="text-align: left"><a target="_blank" rel="noopener n
 oreferrer nofollow" href="https://www.hillsboroughschools.org/o/hcps/page/
 summer-drivers-education" relative-link="">Summer Drivers Education inform
 ation&gt\;&gt\;</a></h2>
LOCATION:
SUMMARY:Summer Drivers Education Program Registration opens
END:VEVENT
BEGIN:VEVENT
DTSTAMP:20260424T001656Z
UID:582e8884-1ac4-4e90-bdc7-be459510350d
DTSTART:20260501T120000
DTEND:20260502T023000
DESCRIPTION:
LOCATION:
SUMMARY:8th Grade Field trip to GradVenture
END:VEVENT
BEGIN:VEVENT
DTSTAMP:20260424T001656Z
UID:5fd29da0-5755-452e-845f-88613b4b3203
DTSTART;VALUE=DATE:20260504
DTEND;VALUE=DATE:20260505
DESCRIPTION:
LOCATION:
SUMMARY:Staff Appreciation
END:VEVENT
BEGIN:VEVENT
DTSTAMP:20260424T001656Z
UID:21c8a398-4a92-4ba1-9883-6cdfa535de2b
DTSTART;VALUE=DATE:20260504
DTEND;VALUE=DATE:20260505
DESCRIPTION:
LOCATION:
SUMMARY:Early Release Day (Students released 1 hour early)
END:VEVENT
BEGIN:VEVENT
DTSTAMP:20260424T001656Z
UID:6565fa26-867b-4d87-bc57-667c3811dac0
DTSTART;VALUE=DATE:20260505
DTEND;VALUE=DATE:20260506
DESCRIPTION:
LOCATION:
SUMMARY:Staff Appreciation
END:VEVENT
BEGIN:VEVENT
DTSTAMP:20260424T001656Z
UID:d9b1260e-e876-447a-bc82-8953ae4614a6
DTSTART;VALUE=DATE:20260506
DTEND;VALUE=DATE:20260507
DESCRIPTION:
LOCATION:
SUMMARY:Staff Appreciation
END:VEVENT
BEGIN:VEVENT
DTSTAMP:20260424T001656Z
UID:63e5ca43-a205-4192-b75e-f6a3bc88f68c
DTSTART;VALUE=DATE:20260507
DTEND;VALUE=DATE:20260508
DESCRIPTION:
LOCATION:
SUMMARY:Staff Appreciation
END:VEVENT
BEGIN:VEVENT
DTSTAMP:20260424T001656Z
UID:7cd56e7c-efd6-4dad-b270-4170aece5af7
DTSTART;VALUE=DATE:20260508
DTEND;VALUE=DATE:20260509
DESCRIPTION:
LOCATION:
SUMMARY:College Day
END:VEVENT
BEGIN:VEVENT
DTSTAMP:20260424T001656Z
UID:25f0cbdf-07d9-49c1-883c-eff1be97ed59
DTSTART;VALUE=DATE:20260508
DTEND;VALUE=DATE:20260509
DESCRIPTION:
LOCATION:
SUMMARY:Library Books Due
END:VEVENT
BEGIN:VEVENT
DTSTAMP:20260424T001656Z
UID:e43d1f7e-f583-4eb3-8c75-d625507d0247
DTSTART;VALUE=DATE:20260508
DTEND;VALUE=DATE:20260509
DESCRIPTION:
LOCATION:
SUMMARY:Staff Appreciation
END:VEVENT
BEGIN:VEVENT
DTSTAMP:20260424T001656Z
UID:bd682cf4-8b7c-40f1-84e0-e76fdfd87dd7
DTSTART:20260508T071500
DTEND:20260508T074500
DESCRIPTION:
LOCATION:
SUMMARY:	2nd Grade Mother's Day Breakfast
END:VEVENT
BEGIN:VEVENT
DTSTAMP:20260424T001656Z
UID:412770a1-8e4b-4e2d-868b-62e5e3713746
DTSTART:20260508T173000
DTEND:20260508T200000
DESCRIPTION:
LOCATION:
SUMMARY:8th Grade Dance
END:VEVENT
BEGIN:VEVENT
DTSTAMP:20260424T001656Z
UID:8699bd8d-97ae-48e6-9398-f5af17b3fd41
DTSTART;VALUE=DATE:20260511
DTEND;VALUE=DATE:20260512
DESCRIPTION:
LOCATION:
SUMMARY:Early Release Day (Students released 1 hour early)
END:VEVENT
BEGIN:VEVENT
DTSTAMP:20260424T001656Z
UID:c6425696-a8ab-4e4e-92ea-7cf7239a4e90
DTSTART:20260512T180000
DTEND:20260512T190000
DESCRIPTION:
LOCATION:
SUMMARY:FBLA Banquet
END:VEVENT
BEGIN:VEVENT
DTSTAMP:20260424T001656Z
UID:360e5259-e94c-4c3f-b17f-e731d2629836
DTSTART:20260513T180000
DTEND:20260513T190000
DESCRIPTION:
LOCATION:
SUMMARY:PTSA 3rd General Meeting
END:VEVENT
BEGIN:VEVENT
DTSTAMP:20260424T001656Z
UID:9568bc4c-12f4-4e91-99d4-9350c1dccd1b
DTSTART;VALUE=DATE:20260515
DTEND;VALUE=DATE:20260516
DESCRIPTION:
LOCATION:
SUMMARY:College Day
END:VEVENT
BEGIN:VEVENT
DTSTAMP:20260424T001656Z
UID:6e0fdcd3-a6c6-4e20-900b-d97704ef3b48
DTSTART;VALUE=DATE:20260518
DTEND;VALUE=DATE:20260519
DESCRIPTION:
LOCATION:
SUMMARY:Early Release Day (Students released 1 hour early)
END:VEVENT
BEGIN:VEVENT
DTSTAMP:20260424T001656Z
UID:3ade9a18-66b5-49eb-a1b2-22d43685aafb
DTSTART:20260521T083000
DTEND:20260521T093000
DESCRIPTION:
LOCATION:
SUMMARY:Pre-K Graduation
END:VEVENT
BEGIN:VEVENT
DTSTAMP:20260424T001656Z
UID:eddf8c60-15b2-430c-b515-348981cbbad1
DTSTART;VALUE=DATE:20260522
DTEND;VALUE=DATE:20260523
DESCRIPTION:
LOCATION:
SUMMARY:College Day
END:VEVENT
BEGIN:VEVENT
DTSTAMP:20260424T001656Z
UID:aa682392-593c-4ab1-b23b-1bf193689bcc
DTSTART:20260522T100000
DTEND:20260522T103000
DESCRIPTION:
LOCATION:
SUMMARY:Kindergarten Picnic on the Lawn
END:VEVENT
BEGIN:VEVENT
DTSTAMP:20260424T001656Z
UID:4f04c629-a661-47d9-8ea5-fa464460881e
DTSTART;VALUE=DATE:20260525
DTEND;VALUE=DATE:20260526
DESCRIPTION:
LOCATION:
SUMMARY:Memorial Day/Non-Student Day
END:VEVENT
BEGIN:VEVENT
DTSTAMP:20260424T001656Z
UID:22d4d761-1dc0-40e5-b485-e85245402ff0
DTSTART;VALUE=DATE:20260526
DTEND;VALUE=DATE:20260527
DESCRIPTION:
LOCATION:
SUMMARY:5th Grade Mock Middle
END:VEVENT
BEGIN:VEVENT
DTSTAMP:20260424T001656Z
UID:4dce95eb-3b86-41ca-979c-4ba39d7b5935
DTSTART:20260526T173000
DTEND:20260526T183000
DESCRIPTION:
LOCATION:
SUMMARY:8th Grade Award Ceremony
END:VEVENT
BEGIN:VEVENT
DTSTAMP:20260424T001656Z
UID:816d7327-32de-45d1-a51a-708830abc25c
DTSTART:20260527T110000
DTEND:20260527T120000
DESCRIPTION:
LOCATION:
SUMMARY:5th Grade Celebration
END:VEVENT
BEGIN:VEVENT
DTSTAMP:20260424T001656Z
UID:2ccf9341-4299-4f9a-b39c-6a98fff6e2e0
DTSTART:20260527T130000
DTEND:20260527T140000
DESCRIPTION:
LOCATION:
SUMMARY:April and May Den Celebration
END:VEVENT
BEGIN:VEVENT
DTSTAMP:20260424T001656Z
UID:00721784-b072-4398-a5d6-5b35d9c29e0d
DTSTART:20260527T130000
DTEND:20260527T140000
DESCRIPTION:
LOCATION:
SUMMARY:Den Pep Rally
END:VEVENT
BEGIN:VEVENT
DTSTAMP:20260424T001656Z
UID:29b16e0a-342c-4021-9584-af7ed1c7fa45
DTSTART:20260528T110000
DTEND:20260528T120000
DESCRIPTION:
LOCATION:
SUMMARY:8th Grade Picnic Lunch with Parents /Guardians
END:VEVENT
BEGIN:VEVENT
DTSTAMP:20260424T001656Z
UID:ab5452b2-a921-4e23-a26a-8a1afa413c97
DTSTART:20260528T124500
DTEND:20260528T130000
DESCRIPTION:
LOCATION:
SUMMARY:8th Grade Car Parade
END:VEVENT
BEGIN:VEVENT
DTSTAMP:20260424T001656Z
UID:8f8eb068-34c4-418d-a00b-90db9db1ef42
DTSTART;VALUE=DATE:20260529
DTEND;VALUE=DATE:20260530
DESCRIPTION:
LOCATION:
SUMMARY:College Day
END:VEVENT
BEGIN:VEVENT
DTSTAMP:20260424T001656Z
UID:95366475-337d-4d37-81cb-faa4f776acbb
DTSTART;VALUE=DATE:20260529
DTEND;VALUE=DATE:20260530
DESCRIPTION:
LOCATION:
SUMMARY:End of 4th Grading Period/2nd Semester
END:VEVENT
BEGIN:VEVENT
DTSTAMP:20260424T001656Z
UID:75580543-f65a-42ef-90f6-4c48a4632a28
DTSTART;VALUE=DATE:20260529
DTEND;VALUE=DATE:20260530
DESCRIPTION:
LOCATION:
SUMMARY:Last Day of School/Early Release Day-Students released 2.5 hours ea
 rly
END:VEVENT
BEGIN:VEVENT
DTSTAMP:20260424T001656Z
UID:23b63ad5-f120-4549-b0fe-ed5dbe6410d4
DTSTART:20260529T083000
DTEND:20260529T093000
DESCRIPTION:
LOCATION:
SUMMARY:Senior Class of 2026 Clap Out
END:VEVENT
BEGIN:VEVENT
DTSTAMP:20260424T001656Z
UID:979d6ba3-9d01-43b7-881c-5a360d7dba8b
DTSTART;VALUE=DATE:20260608
DTEND;VALUE=DATE:20260609
DESCRIPTION:
LOCATION:
SUMMARY:Online Report Cards Available
END:VEVENT
BEGIN:VEVENT
DTSTAMP:20260424T001656Z
UID:c5ba4643-3db7-4009-bab8-2fb9c7adc46f
DTSTART;VALUE=DATE:20260810
DTEND;VALUE=DATE:20260811
DESCRIPTION:
LOCATION:
SUMMARY:Students’ First Day of School
END:VEVENT
BEGIN:VEVENT
DTSTAMP:20260424T001656Z
UID:ae35deee-faad-4b50-be5e-77d76221f3a4
DTSTART;VALUE=DATE:20260907
DTEND;VALUE=DATE:20260908
DESCRIPTION:
LOCATION:
SUMMARY:Labor Day/Non-Student Day
END:VEVENT
BEGIN:VEVENT
DTSTAMP:20260424T001656Z
UID:db629109-0aab-46b5-84cc-362e603e1434
DTSTART;VALUE=DATE:20261009
DTEND;VALUE=DATE:20261010
DESCRIPTION:<p>**Tentative Hurricane Make-Up Day(s) if needed: October 12\,
  November 11\, November 23-25\, January 4</p>
LOCATION:
SUMMARY:End of 1st Grading Period
END:VEVENT
BEGIN:VEVENT
DTSTAMP:20260424T001656Z
UID:e8af5a2f-4acf-425d-8050-7efad35570df
DTSTART;VALUE=DATE:20261012
DTEND;VALUE=DATE:20261013
DESCRIPTION:<p>**Tentative Hurricane Make-Up Day(s) if needed: October 12\,
  November 11\, November 23-25\, January 4</p>
LOCATION:
SUMMARY:Non-Student Day**
END:VEVENT
BEGIN:VEVENT
DTSTAMP:20260424T001656Z
UID:8f318605-cf28-4f33-a5a0-a4332931f0d0
DTSTART;VALUE=DATE:20261111
DTEND;VALUE=DATE:20261112
DESCRIPTION:<p>**Tentative Hurricane Make-Up Day(s) if needed: October 12\,
  November 11\, November 23-25\, January 4</p>
LOCATION:
SUMMARY:Veterans Day/Non-Student Day**
END:VEVENT
BEGIN:VEVENT
DTSTAMP:20260424T001656Z
UID:3aaed60d-5eae-4058-826f-a498b5d5acf9
DTSTART;VALUE=DATE:20261123
DTEND;VALUE=DATE:20261128
DESCRIPTION:<p>**Tentative Hurricane Make-Up Day(s) if needed: October 12\,
  November 11\, November 23-25\, January 4</p>
LOCATION:
SUMMARY:Fall Break/Non-Student Days**
END:VEVENT
BEGIN:VEVENT
DTSTAMP:20260424T001656Z
UID:57f8b318-e184-4328-b1bf-08dfdd49e6b5
DTSTART;VALUE=DATE:20261130
DTEND;VALUE=DATE:20261201
DESCRIPTION:
LOCATION:
SUMMARY:Students Return to School
END:VEVENT
BEGIN:VEVENT
DTSTAMP:20260424T001656Z
UID:b12ccbc4-3791-4e84-8a24-66929a110cd9
DTSTART;VALUE=DATE:20261218
DTEND;VALUE=DATE:20261219
DESCRIPTION:
LOCATION:
SUMMARY:End of 2nd Grading Period/1st Semester
END:VEVENT
BEGIN:VEVENT
DTSTAMP:20260424T001656Z
UID:c209d915-3e6a-4587-9f38-57b8322042f3
DTSTART;VALUE=DATE:20261221
DTEND;VALUE=DATE:20270102
DESCRIPTION:
LOCATION:
SUMMARY:Winter Break/Non-Student Days
END:VEVENT
BEGIN:VEVENT
DTSTAMP:20260424T001656Z
UID:a24c1f29-d909-4576-89ee-6895eb95d1a8
DTSTART;VALUE=DATE:20270104
DTEND;VALUE=DATE:20270105
DESCRIPTION:<p>**Tentative Hurricane Make-Up Day(s) if needed: October 12\,
  November 11\, November 23-25\, January 4</p>
LOCATION:
SUMMARY:Non-Student Day**
END:VEVENT
BEGIN:VEVENT
DTSTAMP:20260424T001656Z
UID:e5f182ae-5c98-4767-a14b-db080cf12678
DTSTART;VALUE=DATE:20270105
DTEND;VALUE=DATE:20270106
DESCRIPTION:
LOCATION:
SUMMARY:Students Return to School
END:VEVENT
BEGIN:VEVENT
DTSTAMP:20260424T001656Z
UID:29598306-e81b-46ec-8c21-fec9f0d13abe
DTSTART;VALUE=DATE:20270118
DTEND;VALUE=DATE:20270119
DESCRIPTION:
LOCATION:
SUMMARY:Martin Luther King\, Jr./Non-Student Day
END:VEVENT
BEGIN:VEVENT
DTSTAMP:20260424T001656Z
UID:724fe7f6-6820-4a89-bacd-60ea9bd06a12
DTSTART;VALUE=DATE:20270212
DTEND;VALUE=DATE:20270213
DESCRIPTION:
LOCATION:
SUMMARY:Florida State Fair/Non-Student Day
END:VEVENT
BEGIN:VEVENT
DTSTAMP:20260424T001656Z
UID:b2b114ec-ffc2-4116-8999-3a4aabc5a829
DTSTART;VALUE=DATE:20270215
DTEND;VALUE=DATE:20270216
DESCRIPTION:
LOCATION:
SUMMARY:Presidents’ Day/Non-Student Day
END:VEVENT
BEGIN:VEVENT
DTSTAMP:20260424T001656Z
UID:ea624256-e4c5-4633-bad3-f5d14681953f
DTSTART;VALUE=DATE:20270308
DTEND;VALUE=DATE:20270309
DESCRIPTION:<p>*Strawberry Festival/Non-Student Day changed from 3/1/27 to 
 3/8/27 to coincide with the dates of the Strawberry Festival. </p>
LOCATION:
SUMMARY:Strawberry Festival/Non-Student Day*
END:VEVENT
BEGIN:VEVENT
DTSTAMP:20260424T001656Z
UID:0711a4a7-e05b-4435-97fd-1b876d99060b
DTSTART;VALUE=DATE:20270312
DTEND;VALUE=DATE:20270313
DESCRIPTION:
LOCATION:
SUMMARY:End of 3rd Grading Period
END:VEVENT
BEGIN:VEVENT
DTSTAMP:20260424T001656Z
UID:9a771af9-b98f-48b6-8058-06664b51b0c2
DTSTART;VALUE=DATE:20270322
DTEND;VALUE=DATE:20270327
DESCRIPTION:
LOCATION:
SUMMARY:Spring Break/Non-Student Days
END:VEVENT
BEGIN:VEVENT
DTSTAMP:20260424T001656Z
UID:29ac1282-a877-4346-ad39-170f7dc8d3fe
DTSTART;VALUE=DATE:20270329
DTEND;VALUE=DATE:20270330
DESCRIPTION:
LOCATION:
SUMMARY:Non-Student Day
END:VEVENT
BEGIN:VEVENT
DTSTAMP:20260424T001656Z
UID:337451e9-eace-43c6-8130-211d9b2d9a18
DTSTART;VALUE=DATE:20270330
DTEND;VALUE=DATE:20270331
DESCRIPTION:
LOCATION:
SUMMARY:Students Return to School
END:VEVENT
BEGIN:VEVENT
DTSTAMP:20260424T001656Z
UID:dfa7e220-5593-47ac-baf7-7a274110467a
DTSTART;VALUE=DATE:20270416
DTEND;VALUE=DATE:20270417
DESCRIPTION:
LOCATION:
SUMMARY:Non-Student Day
END:VEVENT
BEGIN:VEVENT
DTSTAMP:20260424T001656Z
UID:a8fc8038-dcd2-45ee-8eac-39a6c1ab9d1e
DTSTART;VALUE=DATE:20270528
DTEND;VALUE=DATE:20270529
DESCRIPTION:
LOCATION:
SUMMARY: End of 4th Grading Period/2nd Semester
END:VEVENT
BEGIN:VEVENT
DTSTAMP:20260424T001656Z
UID:39ac10cd-b503-42a5-acf9-33bbc295c10d
DTSTART;VALUE=DATE:20270528
DTEND;VALUE=DATE:20270529
DESCRIPTION:
LOCATION:
SUMMARY:Last Day of School/Students released 2.5 hours early
END:VEVENT
END:VCALENDAR
